BEGIN:VCALENDAR
VERSION:2.0
PRODID:-//Elas Yoga Estudio - ECPv6.3.1//NONSGML v1.0//EN
CALSCALE:GREGORIAN
METHOD:PUBLISH
X-WR-CALNAME:Elas Yoga Estudio
X-ORIGINAL-URL:https://elasyoga.com
X-WR-CALDESC:Eventos para Elas Yoga Estudio
REFRESH-INTERVAL;VALUE=DURATION:PT1H
X-Robots-Tag:noindex
X-PUBLISHED-TTL:PT1H
BEGIN:VTIMEZONE
TZID:Europe/Helsinki
BEGIN:DAYLIGHT
TZOFFSETFROM:+0200
TZOFFSETTO:+0300
TZNAME:EEST
DTSTART:20260329T010000
END:DAYLIGHT
BEGIN:STANDARD
TZOFFSETFROM:+0300
TZOFFSETTO:+0200
TZNAME:EET
DTSTART:20261025T010000
END:STANDARD
END:VTIMEZONE
BEGIN:VEVENT
DTSTART;TZID=Europe/Helsinki:20260617T203000
DTEND;TZID=Europe/Helsinki:20260617T213000
DTSTAMP:20260421T175037
CREATED:20241202T172036Z
LAST-MODIFIED:20250604T200622Z
UID:10022512-1781728200-1781731800@elasyoga.com
SUMMARY:Barré Fit Miércoles
DESCRIPTION:Barré Fit es una clase que combina elementos de ballet\, pilates y entrenamiento de fuerza\, enfocándose en tonificar y fortalecer el cuerpo de manera integral. Utilizando una barra como apoyo\, esta práctica se centra en movimientos de bajo impacto que mejoran la postura\, la flexibilidad y la resistencia.
URL:https://elasyoga.com/clase/barre-fit-miercoles/2026-06-17/
LOCATION:ELAS\, M CASTAÑA\, LUGO\, LUGO\, 27002\, España
CATEGORIES:Pilates
ATTACH;FMTTYPE=image/jpeg:https://elasyoga.com/wp-content/uploads/2024/12/Grandio_ElasYogaStudio_105.jpg
END:VEVENT
BEGIN:VEVENT
DTSTART;TZID=Europe/Helsinki:20260617T203000
DTEND;TZID=Europe/Helsinki:20260617T213000
DTSTAMP:20260421T175037
CREATED:20250513T111858Z
LAST-MODIFIED:20250513T121231Z
UID:10035756-1781728200-1781731800@elasyoga.com
SUMMARY:Barré Fit Miércoles - ONLINE
DESCRIPTION:Barré Fit es una clase que combina elementos de ballet\, pilates y entrenamiento de fuerza\, enfocándose en tonificar y fortalecer el cuerpo de manera integral. Utilizando una barra como apoyo\, esta práctica se centra en movimientos de bajo impacto que mejoran la postura\, la flexibilidad y la resistencia. ONLINE
URL:https://elasyoga.com/clase/barre-fit-miercoles-online/2026-06-17/
LOCATION:ELAS\, M CASTAÑA\, LUGO\, LUGO\, 27002\, España
CATEGORIES:Pilates
ATTACH;FMTTYPE=image/jpeg:https://elasyoga.com/wp-content/uploads/2024/12/Grandio_ElasYogaStudio_105.jpg
END:VEVENT
BEGIN:VEVENT
DTSTART;TZID=Europe/Helsinki:20260619T190000
DTEND;TZID=Europe/Helsinki:20260619T200000
DTSTAMP:20260421T175037
CREATED:20250319T115656Z
LAST-MODIFIED:20250604T200801Z
UID:10029934-1781895600-1781899200@elasyoga.com
SUMMARY:Barré Fit Viernes
DESCRIPTION:Barré Fit es una clase que combina elementos de ballet\, pilates y entrenamiento de fuerza\, enfocándose en tonificar y fortalecer el cuerpo de manera integral. Utilizando una barra como apoyo\, esta práctica se centra en movimientos de bajo impacto que mejoran la postura\, la flexibilidad y la resistencia.
URL:https://elasyoga.com/clase/barre-fit-viernes-2/2026-06-19/
LOCATION:ELAS\, M CASTAÑA\, LUGO\, LUGO\, 27002\, España
CATEGORIES:Pilates
ATTACH;FMTTYPE=image/jpeg:https://elasyoga.com/wp-content/uploads/2024/12/Grandio_ElasYogaStudio_105.jpg
END:VEVENT
BEGIN:VEVENT
DTSTART;TZID=Europe/Helsinki:20260619T190000
DTEND;TZID=Europe/Helsinki:20260619T200000
DTSTAMP:20260421T175037
CREATED:20250513T111614Z
LAST-MODIFIED:20250513T121049Z
UID:10034930-1781895600-1781899200@elasyoga.com
SUMMARY:Barré Fit Viernes - ONLINE
DESCRIPTION:Barré Fit es una clase que combina elementos de ballet\, pilates y entrenamiento de fuerza\, enfocándose en tonificar y fortalecer el cuerpo de manera integral. Utilizando una barra como apoyo\, esta práctica se centra en movimientos de bajo impacto que mejoran la postura\, la flexibilidad y la resistencia. ONLINE
URL:https://elasyoga.com/clase/barre-fit-viernes-online/2026-06-19/
LOCATION:ELAS\, M CASTAÑA\, LUGO\, LUGO\, 27002\, España
CATEGORIES:Pilates
ATTACH;FMTTYPE=image/jpeg:https://elasyoga.com/wp-content/uploads/2024/12/Grandio_ElasYogaStudio_105.jpg
END:VEVENT
BEGIN:VEVENT
DTSTART;TZID=Europe/Helsinki:20260622T203000
DTEND;TZID=Europe/Helsinki:20260622T213000
DTSTAMP:20260421T175037
CREATED:20241202T171722Z
LAST-MODIFIED:20250604T200848Z
UID:10021469-1782160200-1782163800@elasyoga.com
SUMMARY:Barré Fit Lunes
DESCRIPTION:Barré Fit es una clase que combina elementos de ballet\, pilates y entrenamiento de fuerza\, enfocándose en tonificar y fortalecer el cuerpo de manera integral. Utilizando una barra como apoyo\, esta práctica se centra en movimientos de bajo impacto que mejoran la postura\, la flexibilidad y la resistencia.
URL:https://elasyoga.com/clase/barre-fit-lunes/2026-06-22/
LOCATION:ELAS\, M CASTAÑA\, LUGO\, LUGO\, 27002\, España
CATEGORIES:Pilates
ATTACH;FMTTYPE=image/jpeg:https://elasyoga.com/wp-content/uploads/2024/12/Grandio_ElasYogaStudio_105.jpg
END:VEVENT
BEGIN:VEVENT
DTSTART;TZID=Europe/Helsinki:20260622T203000
DTEND;TZID=Europe/Helsinki:20260622T213000
DTSTAMP:20260421T175037
CREATED:20250513T112004Z
LAST-MODIFIED:20250513T121306Z
UID:10036041-1782160200-1782163800@elasyoga.com
SUMMARY:Barré Fit Lunes - ONLINE
DESCRIPTION:Barré Fit es una clase que combina elementos de ballet\, pilates y entrenamiento de fuerza\, enfocándose en tonificar y fortalecer el cuerpo de manera integral. Utilizando una barra como apoyo\, esta práctica se centra en movimientos de bajo impacto que mejoran la postura\, la flexibilidad y la resistencia. ONLINE
URL:https://elasyoga.com/clase/barre-fit-lunes-online/2026-06-22/
LOCATION:ELAS\, M CASTAÑA\, LUGO\, LUGO\, 27002\, España
CATEGORIES:Pilates
ATTACH;FMTTYPE=image/jpeg:https://elasyoga.com/wp-content/uploads/2024/12/Grandio_ElasYogaStudio_105.jpg
END:VEVENT
BEGIN:VEVENT
DTSTART;TZID=Europe/Helsinki:20260624T203000
DTEND;TZID=Europe/Helsinki:20260624T213000
DTSTAMP:20260421T175037
CREATED:20241202T172036Z
LAST-MODIFIED:20250604T200622Z
UID:10022513-1782333000-1782336600@elasyoga.com
SUMMARY:Barré Fit Miércoles
DESCRIPTION:Barré Fit es una clase que combina elementos de ballet\, pilates y entrenamiento de fuerza\, enfocándose en tonificar y fortalecer el cuerpo de manera integral. Utilizando una barra como apoyo\, esta práctica se centra en movimientos de bajo impacto que mejoran la postura\, la flexibilidad y la resistencia.
URL:https://elasyoga.com/clase/barre-fit-miercoles/2026-06-24/
LOCATION:ELAS\, M CASTAÑA\, LUGO\, LUGO\, 27002\, España
CATEGORIES:Pilates
ATTACH;FMTTYPE=image/jpeg:https://elasyoga.com/wp-content/uploads/2024/12/Grandio_ElasYogaStudio_105.jpg
END:VEVENT
BEGIN:VEVENT
DTSTART;TZID=Europe/Helsinki:20260624T203000
DTEND;TZID=Europe/Helsinki:20260624T213000
DTSTAMP:20260421T175037
CREATED:20250513T111858Z
LAST-MODIFIED:20250513T121231Z
UID:10035757-1782333000-1782336600@elasyoga.com
SUMMARY:Barré Fit Miércoles - ONLINE
DESCRIPTION:Barré Fit es una clase que combina elementos de ballet\, pilates y entrenamiento de fuerza\, enfocándose en tonificar y fortalecer el cuerpo de manera integral. Utilizando una barra como apoyo\, esta práctica se centra en movimientos de bajo impacto que mejoran la postura\, la flexibilidad y la resistencia. ONLINE
URL:https://elasyoga.com/clase/barre-fit-miercoles-online/2026-06-24/
LOCATION:ELAS\, M CASTAÑA\, LUGO\, LUGO\, 27002\, España
CATEGORIES:Pilates
ATTACH;FMTTYPE=image/jpeg:https://elasyoga.com/wp-content/uploads/2024/12/Grandio_ElasYogaStudio_105.jpg
END:VEVENT
BEGIN:VEVENT
DTSTART;TZID=Europe/Helsinki:20260626T190000
DTEND;TZID=Europe/Helsinki:20260626T200000
DTSTAMP:20260421T175037
CREATED:20250319T115656Z
LAST-MODIFIED:20250604T200801Z
UID:10029935-1782500400-1782504000@elasyoga.com
SUMMARY:Barré Fit Viernes
DESCRIPTION:Barré Fit es una clase que combina elementos de ballet\, pilates y entrenamiento de fuerza\, enfocándose en tonificar y fortalecer el cuerpo de manera integral. Utilizando una barra como apoyo\, esta práctica se centra en movimientos de bajo impacto que mejoran la postura\, la flexibilidad y la resistencia.
URL:https://elasyoga.com/clase/barre-fit-viernes-2/2026-06-26/
LOCATION:ELAS\, M CASTAÑA\, LUGO\, LUGO\, 27002\, España
CATEGORIES:Pilates
ATTACH;FMTTYPE=image/jpeg:https://elasyoga.com/wp-content/uploads/2024/12/Grandio_ElasYogaStudio_105.jpg
END:VEVENT
BEGIN:VEVENT
DTSTART;TZID=Europe/Helsinki:20260626T190000
DTEND;TZID=Europe/Helsinki:20260626T200000
DTSTAMP:20260421T175037
CREATED:20250513T111614Z
LAST-MODIFIED:20250513T121049Z
UID:10034931-1782500400-1782504000@elasyoga.com
SUMMARY:Barré Fit Viernes - ONLINE
DESCRIPTION:Barré Fit es una clase que combina elementos de ballet\, pilates y entrenamiento de fuerza\, enfocándose en tonificar y fortalecer el cuerpo de manera integral. Utilizando una barra como apoyo\, esta práctica se centra en movimientos de bajo impacto que mejoran la postura\, la flexibilidad y la resistencia. ONLINE
URL:https://elasyoga.com/clase/barre-fit-viernes-online/2026-06-26/
LOCATION:ELAS\, M CASTAÑA\, LUGO\, LUGO\, 27002\, España
CATEGORIES:Pilates
ATTACH;FMTTYPE=image/jpeg:https://elasyoga.com/wp-content/uploads/2024/12/Grandio_ElasYogaStudio_105.jpg
END:VEVENT
BEGIN:VEVENT
DTSTART;TZID=Europe/Helsinki:20260629T203000
DTEND;TZID=Europe/Helsinki:20260629T213000
DTSTAMP:20260421T175037
CREATED:20241202T171722Z
LAST-MODIFIED:20250604T200848Z
UID:10021470-1782765000-1782768600@elasyoga.com
SUMMARY:Barré Fit Lunes
DESCRIPTION:Barré Fit es una clase que combina elementos de ballet\, pilates y entrenamiento de fuerza\, enfocándose en tonificar y fortalecer el cuerpo de manera integral. Utilizando una barra como apoyo\, esta práctica se centra en movimientos de bajo impacto que mejoran la postura\, la flexibilidad y la resistencia.
URL:https://elasyoga.com/clase/barre-fit-lunes/2026-06-29/
LOCATION:ELAS\, M CASTAÑA\, LUGO\, LUGO\, 27002\, España
CATEGORIES:Pilates
ATTACH;FMTTYPE=image/jpeg:https://elasyoga.com/wp-content/uploads/2024/12/Grandio_ElasYogaStudio_105.jpg
END:VEVENT
BEGIN:VEVENT
DTSTART;TZID=Europe/Helsinki:20260629T203000
DTEND;TZID=Europe/Helsinki:20260629T213000
DTSTAMP:20260421T175037
CREATED:20250513T112004Z
LAST-MODIFIED:20250513T121306Z
UID:10036042-1782765000-1782768600@elasyoga.com
SUMMARY:Barré Fit Lunes - ONLINE
DESCRIPTION:Barré Fit es una clase que combina elementos de ballet\, pilates y entrenamiento de fuerza\, enfocándose en tonificar y fortalecer el cuerpo de manera integral. Utilizando una barra como apoyo\, esta práctica se centra en movimientos de bajo impacto que mejoran la postura\, la flexibilidad y la resistencia. ONLINE
URL:https://elasyoga.com/clase/barre-fit-lunes-online/2026-06-29/
LOCATION:ELAS\, M CASTAÑA\, LUGO\, LUGO\, 27002\, España
CATEGORIES:Pilates
ATTACH;FMTTYPE=image/jpeg:https://elasyoga.com/wp-content/uploads/2024/12/Grandio_ElasYogaStudio_105.jpg
END:VEVENT
BEGIN:VEVENT
DTSTART;TZID=Europe/Helsinki:20260701T203000
DTEND;TZID=Europe/Helsinki:20260701T213000
DTSTAMP:20260421T175037
CREATED:20241202T172036Z
LAST-MODIFIED:20250604T200622Z
UID:10022514-1782937800-1782941400@elasyoga.com
SUMMARY:Barré Fit Miércoles
DESCRIPTION:Barré Fit es una clase que combina elementos de ballet\, pilates y entrenamiento de fuerza\, enfocándose en tonificar y fortalecer el cuerpo de manera integral. Utilizando una barra como apoyo\, esta práctica se centra en movimientos de bajo impacto que mejoran la postura\, la flexibilidad y la resistencia.
URL:https://elasyoga.com/clase/barre-fit-miercoles/2026-07-01/
LOCATION:ELAS\, M CASTAÑA\, LUGO\, LUGO\, 27002\, España
CATEGORIES:Pilates
ATTACH;FMTTYPE=image/jpeg:https://elasyoga.com/wp-content/uploads/2024/12/Grandio_ElasYogaStudio_105.jpg
END:VEVENT
BEGIN:VEVENT
DTSTART;TZID=Europe/Helsinki:20260701T203000
DTEND;TZID=Europe/Helsinki:20260701T213000
DTSTAMP:20260421T175037
CREATED:20250513T111858Z
LAST-MODIFIED:20250513T121231Z
UID:10035758-1782937800-1782941400@elasyoga.com
SUMMARY:Barré Fit Miércoles - ONLINE
DESCRIPTION:Barré Fit es una clase que combina elementos de ballet\, pilates y entrenamiento de fuerza\, enfocándose en tonificar y fortalecer el cuerpo de manera integral. Utilizando una barra como apoyo\, esta práctica se centra en movimientos de bajo impacto que mejoran la postura\, la flexibilidad y la resistencia. ONLINE
URL:https://elasyoga.com/clase/barre-fit-miercoles-online/2026-07-01/
LOCATION:ELAS\, M CASTAÑA\, LUGO\, LUGO\, 27002\, España
CATEGORIES:Pilates
ATTACH;FMTTYPE=image/jpeg:https://elasyoga.com/wp-content/uploads/2024/12/Grandio_ElasYogaStudio_105.jpg
END:VEVENT
BEGIN:VEVENT
DTSTART;TZID=Europe/Helsinki:20260703T190000
DTEND;TZID=Europe/Helsinki:20260703T200000
DTSTAMP:20260421T175037
CREATED:20250319T115656Z
LAST-MODIFIED:20250604T200801Z
UID:10029936-1783105200-1783108800@elasyoga.com
SUMMARY:Barré Fit Viernes
DESCRIPTION:Barré Fit es una clase que combina elementos de ballet\, pilates y entrenamiento de fuerza\, enfocándose en tonificar y fortalecer el cuerpo de manera integral. Utilizando una barra como apoyo\, esta práctica se centra en movimientos de bajo impacto que mejoran la postura\, la flexibilidad y la resistencia.
URL:https://elasyoga.com/clase/barre-fit-viernes-2/2026-07-03/
LOCATION:ELAS\, M CASTAÑA\, LUGO\, LUGO\, 27002\, España
CATEGORIES:Pilates
ATTACH;FMTTYPE=image/jpeg:https://elasyoga.com/wp-content/uploads/2024/12/Grandio_ElasYogaStudio_105.jpg
END:VEVENT
BEGIN:VEVENT
DTSTART;TZID=Europe/Helsinki:20260703T190000
DTEND;TZID=Europe/Helsinki:20260703T200000
DTSTAMP:20260421T175037
CREATED:20250513T111614Z
LAST-MODIFIED:20250513T121049Z
UID:10034932-1783105200-1783108800@elasyoga.com
SUMMARY:Barré Fit Viernes - ONLINE
DESCRIPTION:Barré Fit es una clase que combina elementos de ballet\, pilates y entrenamiento de fuerza\, enfocándose en tonificar y fortalecer el cuerpo de manera integral. Utilizando una barra como apoyo\, esta práctica se centra en movimientos de bajo impacto que mejoran la postura\, la flexibilidad y la resistencia. ONLINE
URL:https://elasyoga.com/clase/barre-fit-viernes-online/2026-07-03/
LOCATION:ELAS\, M CASTAÑA\, LUGO\, LUGO\, 27002\, España
CATEGORIES:Pilates
ATTACH;FMTTYPE=image/jpeg:https://elasyoga.com/wp-content/uploads/2024/12/Grandio_ElasYogaStudio_105.jpg
END:VEVENT
BEGIN:VEVENT
DTSTART;TZID=Europe/Helsinki:20260706T203000
DTEND;TZID=Europe/Helsinki:20260706T213000
DTSTAMP:20260421T175037
CREATED:20241202T171722Z
LAST-MODIFIED:20250604T200848Z
UID:10021471-1783369800-1783373400@elasyoga.com
SUMMARY:Barré Fit Lunes
DESCRIPTION:Barré Fit es una clase que combina elementos de ballet\, pilates y entrenamiento de fuerza\, enfocándose en tonificar y fortalecer el cuerpo de manera integral. Utilizando una barra como apoyo\, esta práctica se centra en movimientos de bajo impacto que mejoran la postura\, la flexibilidad y la resistencia.
URL:https://elasyoga.com/clase/barre-fit-lunes/2026-07-06/
LOCATION:ELAS\, M CASTAÑA\, LUGO\, LUGO\, 27002\, España
CATEGORIES:Pilates
ATTACH;FMTTYPE=image/jpeg:https://elasyoga.com/wp-content/uploads/2024/12/Grandio_ElasYogaStudio_105.jpg
END:VEVENT
BEGIN:VEVENT
DTSTART;TZID=Europe/Helsinki:20260706T203000
DTEND;TZID=Europe/Helsinki:20260706T213000
DTSTAMP:20260421T175037
CREATED:20250513T112004Z
LAST-MODIFIED:20250513T121306Z
UID:10036043-1783369800-1783373400@elasyoga.com
SUMMARY:Barré Fit Lunes - ONLINE
DESCRIPTION:Barré Fit es una clase que combina elementos de ballet\, pilates y entrenamiento de fuerza\, enfocándose en tonificar y fortalecer el cuerpo de manera integral. Utilizando una barra como apoyo\, esta práctica se centra en movimientos de bajo impacto que mejoran la postura\, la flexibilidad y la resistencia. ONLINE
URL:https://elasyoga.com/clase/barre-fit-lunes-online/2026-07-06/
LOCATION:ELAS\, M CASTAÑA\, LUGO\, LUGO\, 27002\, España
CATEGORIES:Pilates
ATTACH;FMTTYPE=image/jpeg:https://elasyoga.com/wp-content/uploads/2024/12/Grandio_ElasYogaStudio_105.jpg
END:VEVENT
BEGIN:VEVENT
DTSTART;TZID=Europe/Helsinki:20260708T203000
DTEND;TZID=Europe/Helsinki:20260708T213000
DTSTAMP:20260421T175037
CREATED:20241202T172036Z
LAST-MODIFIED:20250604T200622Z
UID:10022515-1783542600-1783546200@elasyoga.com
SUMMARY:Barré Fit Miércoles
DESCRIPTION:Barré Fit es una clase que combina elementos de ballet\, pilates y entrenamiento de fuerza\, enfocándose en tonificar y fortalecer el cuerpo de manera integral. Utilizando una barra como apoyo\, esta práctica se centra en movimientos de bajo impacto que mejoran la postura\, la flexibilidad y la resistencia.
URL:https://elasyoga.com/clase/barre-fit-miercoles/2026-07-08/
LOCATION:ELAS\, M CASTAÑA\, LUGO\, LUGO\, 27002\, España
CATEGORIES:Pilates
ATTACH;FMTTYPE=image/jpeg:https://elasyoga.com/wp-content/uploads/2024/12/Grandio_ElasYogaStudio_105.jpg
END:VEVENT
BEGIN:VEVENT
DTSTART;TZID=Europe/Helsinki:20260708T203000
DTEND;TZID=Europe/Helsinki:20260708T213000
DTSTAMP:20260421T175037
CREATED:20250513T111858Z
LAST-MODIFIED:20250513T121231Z
UID:10035759-1783542600-1783546200@elasyoga.com
SUMMARY:Barré Fit Miércoles - ONLINE
DESCRIPTION:Barré Fit es una clase que combina elementos de ballet\, pilates y entrenamiento de fuerza\, enfocándose en tonificar y fortalecer el cuerpo de manera integral. Utilizando una barra como apoyo\, esta práctica se centra en movimientos de bajo impacto que mejoran la postura\, la flexibilidad y la resistencia. ONLINE
URL:https://elasyoga.com/clase/barre-fit-miercoles-online/2026-07-08/
LOCATION:ELAS\, M CASTAÑA\, LUGO\, LUGO\, 27002\, España
CATEGORIES:Pilates
ATTACH;FMTTYPE=image/jpeg:https://elasyoga.com/wp-content/uploads/2024/12/Grandio_ElasYogaStudio_105.jpg
END:VEVENT
BEGIN:VEVENT
DTSTART;TZID=Europe/Helsinki:20260710T190000
DTEND;TZID=Europe/Helsinki:20260710T200000
DTSTAMP:20260421T175037
CREATED:20250319T115656Z
LAST-MODIFIED:20250604T200801Z
UID:10029937-1783710000-1783713600@elasyoga.com
SUMMARY:Barré Fit Viernes
DESCRIPTION:Barré Fit es una clase que combina elementos de ballet\, pilates y entrenamiento de fuerza\, enfocándose en tonificar y fortalecer el cuerpo de manera integral. Utilizando una barra como apoyo\, esta práctica se centra en movimientos de bajo impacto que mejoran la postura\, la flexibilidad y la resistencia.
URL:https://elasyoga.com/clase/barre-fit-viernes-2/2026-07-10/
LOCATION:ELAS\, M CASTAÑA\, LUGO\, LUGO\, 27002\, España
CATEGORIES:Pilates
ATTACH;FMTTYPE=image/jpeg:https://elasyoga.com/wp-content/uploads/2024/12/Grandio_ElasYogaStudio_105.jpg
END:VEVENT
BEGIN:VEVENT
DTSTART;TZID=Europe/Helsinki:20260710T190000
DTEND;TZID=Europe/Helsinki:20260710T200000
DTSTAMP:20260421T175037
CREATED:20250513T111614Z
LAST-MODIFIED:20250513T121049Z
UID:10034933-1783710000-1783713600@elasyoga.com
SUMMARY:Barré Fit Viernes - ONLINE
DESCRIPTION:Barré Fit es una clase que combina elementos de ballet\, pilates y entrenamiento de fuerza\, enfocándose en tonificar y fortalecer el cuerpo de manera integral. Utilizando una barra como apoyo\, esta práctica se centra en movimientos de bajo impacto que mejoran la postura\, la flexibilidad y la resistencia. ONLINE
URL:https://elasyoga.com/clase/barre-fit-viernes-online/2026-07-10/
LOCATION:ELAS\, M CASTAÑA\, LUGO\, LUGO\, 27002\, España
CATEGORIES:Pilates
ATTACH;FMTTYPE=image/jpeg:https://elasyoga.com/wp-content/uploads/2024/12/Grandio_ElasYogaStudio_105.jpg
END:VEVENT
BEGIN:VEVENT
DTSTART;TZID=Europe/Helsinki:20260713T203000
DTEND;TZID=Europe/Helsinki:20260713T213000
DTSTAMP:20260421T175037
CREATED:20241202T171722Z
LAST-MODIFIED:20250604T200848Z
UID:10021472-1783974600-1783978200@elasyoga.com
SUMMARY:Barré Fit Lunes
DESCRIPTION:Barré Fit es una clase que combina elementos de ballet\, pilates y entrenamiento de fuerza\, enfocándose en tonificar y fortalecer el cuerpo de manera integral. Utilizando una barra como apoyo\, esta práctica se centra en movimientos de bajo impacto que mejoran la postura\, la flexibilidad y la resistencia.
URL:https://elasyoga.com/clase/barre-fit-lunes/2026-07-13/
LOCATION:ELAS\, M CASTAÑA\, LUGO\, LUGO\, 27002\, España
CATEGORIES:Pilates
ATTACH;FMTTYPE=image/jpeg:https://elasyoga.com/wp-content/uploads/2024/12/Grandio_ElasYogaStudio_105.jpg
END:VEVENT
BEGIN:VEVENT
DTSTART;TZID=Europe/Helsinki:20260713T203000
DTEND;TZID=Europe/Helsinki:20260713T213000
DTSTAMP:20260421T175037
CREATED:20250513T112004Z
LAST-MODIFIED:20250513T121306Z
UID:10036044-1783974600-1783978200@elasyoga.com
SUMMARY:Barré Fit Lunes - ONLINE
DESCRIPTION:Barré Fit es una clase que combina elementos de ballet\, pilates y entrenamiento de fuerza\, enfocándose en tonificar y fortalecer el cuerpo de manera integral. Utilizando una barra como apoyo\, esta práctica se centra en movimientos de bajo impacto que mejoran la postura\, la flexibilidad y la resistencia. ONLINE
URL:https://elasyoga.com/clase/barre-fit-lunes-online/2026-07-13/
LOCATION:ELAS\, M CASTAÑA\, LUGO\, LUGO\, 27002\, España
CATEGORIES:Pilates
ATTACH;FMTTYPE=image/jpeg:https://elasyoga.com/wp-content/uploads/2024/12/Grandio_ElasYogaStudio_105.jpg
END:VEVENT
BEGIN:VEVENT
DTSTART;TZID=Europe/Helsinki:20260715T203000
DTEND;TZID=Europe/Helsinki:20260715T213000
DTSTAMP:20260421T175037
CREATED:20241202T172036Z
LAST-MODIFIED:20250604T200622Z
UID:10022516-1784147400-1784151000@elasyoga.com
SUMMARY:Barré Fit Miércoles
DESCRIPTION:Barré Fit es una clase que combina elementos de ballet\, pilates y entrenamiento de fuerza\, enfocándose en tonificar y fortalecer el cuerpo de manera integral. Utilizando una barra como apoyo\, esta práctica se centra en movimientos de bajo impacto que mejoran la postura\, la flexibilidad y la resistencia.
URL:https://elasyoga.com/clase/barre-fit-miercoles/2026-07-15/
LOCATION:ELAS\, M CASTAÑA\, LUGO\, LUGO\, 27002\, España
CATEGORIES:Pilates
ATTACH;FMTTYPE=image/jpeg:https://elasyoga.com/wp-content/uploads/2024/12/Grandio_ElasYogaStudio_105.jpg
END:VEVENT
BEGIN:VEVENT
DTSTART;TZID=Europe/Helsinki:20260715T203000
DTEND;TZID=Europe/Helsinki:20260715T213000
DTSTAMP:20260421T175037
CREATED:20250513T111858Z
LAST-MODIFIED:20250513T121231Z
UID:10035760-1784147400-1784151000@elasyoga.com
SUMMARY:Barré Fit Miércoles - ONLINE
DESCRIPTION:Barré Fit es una clase que combina elementos de ballet\, pilates y entrenamiento de fuerza\, enfocándose en tonificar y fortalecer el cuerpo de manera integral. Utilizando una barra como apoyo\, esta práctica se centra en movimientos de bajo impacto que mejoran la postura\, la flexibilidad y la resistencia. ONLINE
URL:https://elasyoga.com/clase/barre-fit-miercoles-online/2026-07-15/
LOCATION:ELAS\, M CASTAÑA\, LUGO\, LUGO\, 27002\, España
CATEGORIES:Pilates
ATTACH;FMTTYPE=image/jpeg:https://elasyoga.com/wp-content/uploads/2024/12/Grandio_ElasYogaStudio_105.jpg
END:VEVENT
BEGIN:VEVENT
DTSTART;TZID=Europe/Helsinki:20260717T190000
DTEND;TZID=Europe/Helsinki:20260717T200000
DTSTAMP:20260421T175037
CREATED:20250319T115656Z
LAST-MODIFIED:20250604T200801Z
UID:10029938-1784314800-1784318400@elasyoga.com
SUMMARY:Barré Fit Viernes
DESCRIPTION:Barré Fit es una clase que combina elementos de ballet\, pilates y entrenamiento de fuerza\, enfocándose en tonificar y fortalecer el cuerpo de manera integral. Utilizando una barra como apoyo\, esta práctica se centra en movimientos de bajo impacto que mejoran la postura\, la flexibilidad y la resistencia.
URL:https://elasyoga.com/clase/barre-fit-viernes-2/2026-07-17/
LOCATION:ELAS\, M CASTAÑA\, LUGO\, LUGO\, 27002\, España
CATEGORIES:Pilates
ATTACH;FMTTYPE=image/jpeg:https://elasyoga.com/wp-content/uploads/2024/12/Grandio_ElasYogaStudio_105.jpg
END:VEVENT
BEGIN:VEVENT
DTSTART;TZID=Europe/Helsinki:20260717T190000
DTEND;TZID=Europe/Helsinki:20260717T200000
DTSTAMP:20260421T175037
CREATED:20250513T111614Z
LAST-MODIFIED:20250513T121049Z
UID:10034934-1784314800-1784318400@elasyoga.com
SUMMARY:Barré Fit Viernes - ONLINE
DESCRIPTION:Barré Fit es una clase que combina elementos de ballet\, pilates y entrenamiento de fuerza\, enfocándose en tonificar y fortalecer el cuerpo de manera integral. Utilizando una barra como apoyo\, esta práctica se centra en movimientos de bajo impacto que mejoran la postura\, la flexibilidad y la resistencia. ONLINE
URL:https://elasyoga.com/clase/barre-fit-viernes-online/2026-07-17/
LOCATION:ELAS\, M CASTAÑA\, LUGO\, LUGO\, 27002\, España
CATEGORIES:Pilates
ATTACH;FMTTYPE=image/jpeg:https://elasyoga.com/wp-content/uploads/2024/12/Grandio_ElasYogaStudio_105.jpg
END:VEVENT
BEGIN:VEVENT
DTSTART;TZID=Europe/Helsinki:20260720T203000
DTEND;TZID=Europe/Helsinki:20260720T213000
DTSTAMP:20260421T175037
CREATED:20241202T171722Z
LAST-MODIFIED:20250604T200848Z
UID:10021473-1784579400-1784583000@elasyoga.com
SUMMARY:Barré Fit Lunes
DESCRIPTION:Barré Fit es una clase que combina elementos de ballet\, pilates y entrenamiento de fuerza\, enfocándose en tonificar y fortalecer el cuerpo de manera integral. Utilizando una barra como apoyo\, esta práctica se centra en movimientos de bajo impacto que mejoran la postura\, la flexibilidad y la resistencia.
URL:https://elasyoga.com/clase/barre-fit-lunes/2026-07-20/
LOCATION:ELAS\, M CASTAÑA\, LUGO\, LUGO\, 27002\, España
CATEGORIES:Pilates
ATTACH;FMTTYPE=image/jpeg:https://elasyoga.com/wp-content/uploads/2024/12/Grandio_ElasYogaStudio_105.jpg
END:VEVENT
BEGIN:VEVENT
DTSTART;TZID=Europe/Helsinki:20260720T203000
DTEND;TZID=Europe/Helsinki:20260720T213000
DTSTAMP:20260421T175037
CREATED:20250513T112004Z
LAST-MODIFIED:20250513T121306Z
UID:10036045-1784579400-1784583000@elasyoga.com
SUMMARY:Barré Fit Lunes - ONLINE
DESCRIPTION:Barré Fit es una clase que combina elementos de ballet\, pilates y entrenamiento de fuerza\, enfocándose en tonificar y fortalecer el cuerpo de manera integral. Utilizando una barra como apoyo\, esta práctica se centra en movimientos de bajo impacto que mejoran la postura\, la flexibilidad y la resistencia. ONLINE
URL:https://elasyoga.com/clase/barre-fit-lunes-online/2026-07-20/
LOCATION:ELAS\, M CASTAÑA\, LUGO\, LUGO\, 27002\, España
CATEGORIES:Pilates
ATTACH;FMTTYPE=image/jpeg:https://elasyoga.com/wp-content/uploads/2024/12/Grandio_ElasYogaStudio_105.jpg
END:VEVENT
END:VCALENDAR