BEGIN:VCALENDAR
VERSION:2.0
PRODID:-//Elas Yoga Estudio - ECPv6.3.1//NONSGML v1.0//EN
CALSCALE:GREGORIAN
METHOD:PUBLISH
X-ORIGINAL-URL:https://elasyoga.com
X-WR-CALDESC:Eventos para Elas Yoga Estudio
REFRESH-INTERVAL;VALUE=DURATION:PT1H
X-Robots-Tag:noindex
X-PUBLISHED-TTL:PT1H
BEGIN:VTIMEZONE
TZID:Europe/Helsinki
BEGIN:DAYLIGHT
TZOFFSETFROM:+0200
TZOFFSETTO:+0300
TZNAME:EEST
DTSTART:20260329T010000
END:DAYLIGHT
BEGIN:STANDARD
TZOFFSETFROM:+0300
TZOFFSETTO:+0200
TZNAME:EET
DTSTART:20261025T010000
END:STANDARD
END:VTIMEZONE
BEGIN:VEVENT
DTSTART;TZID=Europe/Helsinki:20260325T203000
DTEND;TZID=Europe/Helsinki:20260325T213000
DTSTAMP:20260423T132414
CREATED:20250513T111858Z
LAST-MODIFIED:20250513T121231Z
UID:10035744-1774470600-1774474200@elasyoga.com
SUMMARY:Barré Fit Miércoles - ONLINE
DESCRIPTION:Barré Fit es una clase que combina elementos de ballet\, pilates y entrenamiento de fuerza\, enfocándose en tonificar y fortalecer el cuerpo de manera integral. Utilizando una barra como apoyo\, esta práctica se centra en movimientos de bajo impacto que mejoran la postura\, la flexibilidad y la resistencia. ONLINE
URL:https://elasyoga.com/clase/barre-fit-miercoles-online/2026-03-25/
LOCATION:ELAS\, M CASTAÑA\, LUGO\, LUGO\, 27002\, España
CATEGORIES:Pilates
ATTACH;FMTTYPE=image/jpeg:https://elasyoga.com/wp-content/uploads/2024/12/Grandio_ElasYogaStudio_105.jpg
END:VEVENT
BEGIN:VEVENT
DTSTART;TZID=Europe/Helsinki:20260325T203000
DTEND;TZID=Europe/Helsinki:20260325T213000
DTSTAMP:20260423T132414
CREATED:20241202T172036Z
LAST-MODIFIED:20250604T200622Z
UID:10022500-1774470600-1774474200@elasyoga.com
SUMMARY:Barré Fit Miércoles
DESCRIPTION:Barré Fit es una clase que combina elementos de ballet\, pilates y entrenamiento de fuerza\, enfocándose en tonificar y fortalecer el cuerpo de manera integral. Utilizando una barra como apoyo\, esta práctica se centra en movimientos de bajo impacto que mejoran la postura\, la flexibilidad y la resistencia.
URL:https://elasyoga.com/clase/barre-fit-miercoles/2026-03-25/
LOCATION:ELAS\, M CASTAÑA\, LUGO\, LUGO\, 27002\, España
CATEGORIES:Pilates
ATTACH;FMTTYPE=image/jpeg:https://elasyoga.com/wp-content/uploads/2024/12/Grandio_ElasYogaStudio_105.jpg
END:VEVENT
BEGIN:VEVENT
DTSTART;TZID=Europe/Helsinki:20260323T203000
DTEND;TZID=Europe/Helsinki:20260323T213000
DTSTAMP:20260423T132414
CREATED:20250513T112004Z
LAST-MODIFIED:20250513T121306Z
UID:10036028-1774297800-1774301400@elasyoga.com
SUMMARY:Barré Fit Lunes - ONLINE
DESCRIPTION:Barré Fit es una clase que combina elementos de ballet\, pilates y entrenamiento de fuerza\, enfocándose en tonificar y fortalecer el cuerpo de manera integral. Utilizando una barra como apoyo\, esta práctica se centra en movimientos de bajo impacto que mejoran la postura\, la flexibilidad y la resistencia. ONLINE
URL:https://elasyoga.com/clase/barre-fit-lunes-online/2026-03-23/
LOCATION:ELAS\, M CASTAÑA\, LUGO\, LUGO\, 27002\, España
CATEGORIES:Pilates
ATTACH;FMTTYPE=image/jpeg:https://elasyoga.com/wp-content/uploads/2024/12/Grandio_ElasYogaStudio_105.jpg
END:VEVENT
BEGIN:VEVENT
DTSTART;TZID=Europe/Helsinki:20260323T203000
DTEND;TZID=Europe/Helsinki:20260323T213000
DTSTAMP:20260423T132414
CREATED:20241202T171722Z
LAST-MODIFIED:20250604T200848Z
UID:10021456-1774297800-1774301400@elasyoga.com
SUMMARY:Barré Fit Lunes
DESCRIPTION:Barré Fit es una clase que combina elementos de ballet\, pilates y entrenamiento de fuerza\, enfocándose en tonificar y fortalecer el cuerpo de manera integral. Utilizando una barra como apoyo\, esta práctica se centra en movimientos de bajo impacto que mejoran la postura\, la flexibilidad y la resistencia.
URL:https://elasyoga.com/clase/barre-fit-lunes/2026-03-23/
LOCATION:ELAS\, M CASTAÑA\, LUGO\, LUGO\, 27002\, España
CATEGORIES:Pilates
ATTACH;FMTTYPE=image/jpeg:https://elasyoga.com/wp-content/uploads/2024/12/Grandio_ElasYogaStudio_105.jpg
END:VEVENT
BEGIN:VEVENT
DTSTART;TZID=Europe/Helsinki:20260320T190000
DTEND;TZID=Europe/Helsinki:20260320T200000
DTSTAMP:20260423T132414
CREATED:20250513T111614Z
LAST-MODIFIED:20250513T121049Z
UID:10034917-1774033200-1774036800@elasyoga.com
SUMMARY:Barré Fit Viernes - ONLINE
DESCRIPTION:Barré Fit es una clase que combina elementos de ballet\, pilates y entrenamiento de fuerza\, enfocándose en tonificar y fortalecer el cuerpo de manera integral. Utilizando una barra como apoyo\, esta práctica se centra en movimientos de bajo impacto que mejoran la postura\, la flexibilidad y la resistencia. ONLINE
URL:https://elasyoga.com/clase/barre-fit-viernes-online/2026-03-20/
LOCATION:ELAS\, M CASTAÑA\, LUGO\, LUGO\, 27002\, España
CATEGORIES:Pilates
ATTACH;FMTTYPE=image/jpeg:https://elasyoga.com/wp-content/uploads/2024/12/Grandio_ElasYogaStudio_105.jpg
END:VEVENT
BEGIN:VEVENT
DTSTART;TZID=Europe/Helsinki:20260320T190000
DTEND;TZID=Europe/Helsinki:20260320T200000
DTSTAMP:20260423T132414
CREATED:20250319T115656Z
LAST-MODIFIED:20250604T200801Z
UID:10029921-1774033200-1774036800@elasyoga.com
SUMMARY:Barré Fit Viernes
DESCRIPTION:Barré Fit es una clase que combina elementos de ballet\, pilates y entrenamiento de fuerza\, enfocándose en tonificar y fortalecer el cuerpo de manera integral. Utilizando una barra como apoyo\, esta práctica se centra en movimientos de bajo impacto que mejoran la postura\, la flexibilidad y la resistencia.
URL:https://elasyoga.com/clase/barre-fit-viernes-2/2026-03-20/
LOCATION:ELAS\, M CASTAÑA\, LUGO\, LUGO\, 27002\, España
CATEGORIES:Pilates
ATTACH;FMTTYPE=image/jpeg:https://elasyoga.com/wp-content/uploads/2024/12/Grandio_ElasYogaStudio_105.jpg
END:VEVENT
BEGIN:VEVENT
DTSTART;TZID=Europe/Helsinki:20260318T203000
DTEND;TZID=Europe/Helsinki:20260318T213000
DTSTAMP:20260423T132414
CREATED:20250513T111858Z
LAST-MODIFIED:20250513T121231Z
UID:10035743-1773865800-1773869400@elasyoga.com
SUMMARY:Barré Fit Miércoles - ONLINE
DESCRIPTION:Barré Fit es una clase que combina elementos de ballet\, pilates y entrenamiento de fuerza\, enfocándose en tonificar y fortalecer el cuerpo de manera integral. Utilizando una barra como apoyo\, esta práctica se centra en movimientos de bajo impacto que mejoran la postura\, la flexibilidad y la resistencia. ONLINE
URL:https://elasyoga.com/clase/barre-fit-miercoles-online/2026-03-18/
LOCATION:ELAS\, M CASTAÑA\, LUGO\, LUGO\, 27002\, España
CATEGORIES:Pilates
ATTACH;FMTTYPE=image/jpeg:https://elasyoga.com/wp-content/uploads/2024/12/Grandio_ElasYogaStudio_105.jpg
END:VEVENT
BEGIN:VEVENT
DTSTART;TZID=Europe/Helsinki:20260318T203000
DTEND;TZID=Europe/Helsinki:20260318T213000
DTSTAMP:20260423T132414
CREATED:20241202T172036Z
LAST-MODIFIED:20250604T200622Z
UID:10022499-1773865800-1773869400@elasyoga.com
SUMMARY:Barré Fit Miércoles
DESCRIPTION:Barré Fit es una clase que combina elementos de ballet\, pilates y entrenamiento de fuerza\, enfocándose en tonificar y fortalecer el cuerpo de manera integral. Utilizando una barra como apoyo\, esta práctica se centra en movimientos de bajo impacto que mejoran la postura\, la flexibilidad y la resistencia.
URL:https://elasyoga.com/clase/barre-fit-miercoles/2026-03-18/
LOCATION:ELAS\, M CASTAÑA\, LUGO\, LUGO\, 27002\, España
CATEGORIES:Pilates
ATTACH;FMTTYPE=image/jpeg:https://elasyoga.com/wp-content/uploads/2024/12/Grandio_ElasYogaStudio_105.jpg
END:VEVENT
BEGIN:VEVENT
DTSTART;TZID=Europe/Helsinki:20260316T203000
DTEND;TZID=Europe/Helsinki:20260316T213000
DTSTAMP:20260423T132414
CREATED:20250513T112004Z
LAST-MODIFIED:20250513T121306Z
UID:10036027-1773693000-1773696600@elasyoga.com
SUMMARY:Barré Fit Lunes - ONLINE
DESCRIPTION:Barré Fit es una clase que combina elementos de ballet\, pilates y entrenamiento de fuerza\, enfocándose en tonificar y fortalecer el cuerpo de manera integral. Utilizando una barra como apoyo\, esta práctica se centra en movimientos de bajo impacto que mejoran la postura\, la flexibilidad y la resistencia. ONLINE
URL:https://elasyoga.com/clase/barre-fit-lunes-online/2026-03-16/
LOCATION:ELAS\, M CASTAÑA\, LUGO\, LUGO\, 27002\, España
CATEGORIES:Pilates
ATTACH;FMTTYPE=image/jpeg:https://elasyoga.com/wp-content/uploads/2024/12/Grandio_ElasYogaStudio_105.jpg
END:VEVENT
BEGIN:VEVENT
DTSTART;TZID=Europe/Helsinki:20260316T203000
DTEND;TZID=Europe/Helsinki:20260316T213000
DTSTAMP:20260423T132414
CREATED:20241202T171722Z
LAST-MODIFIED:20250604T200848Z
UID:10021455-1773693000-1773696600@elasyoga.com
SUMMARY:Barré Fit Lunes
DESCRIPTION:Barré Fit es una clase que combina elementos de ballet\, pilates y entrenamiento de fuerza\, enfocándose en tonificar y fortalecer el cuerpo de manera integral. Utilizando una barra como apoyo\, esta práctica se centra en movimientos de bajo impacto que mejoran la postura\, la flexibilidad y la resistencia.
URL:https://elasyoga.com/clase/barre-fit-lunes/2026-03-16/
LOCATION:ELAS\, M CASTAÑA\, LUGO\, LUGO\, 27002\, España
CATEGORIES:Pilates
ATTACH;FMTTYPE=image/jpeg:https://elasyoga.com/wp-content/uploads/2024/12/Grandio_ElasYogaStudio_105.jpg
END:VEVENT
BEGIN:VEVENT
DTSTART;TZID=Europe/Helsinki:20260313T190000
DTEND;TZID=Europe/Helsinki:20260313T200000
DTSTAMP:20260423T132414
CREATED:20250513T111614Z
LAST-MODIFIED:20250513T121049Z
UID:10034916-1773428400-1773432000@elasyoga.com
SUMMARY:Barré Fit Viernes - ONLINE
DESCRIPTION:Barré Fit es una clase que combina elementos de ballet\, pilates y entrenamiento de fuerza\, enfocándose en tonificar y fortalecer el cuerpo de manera integral. Utilizando una barra como apoyo\, esta práctica se centra en movimientos de bajo impacto que mejoran la postura\, la flexibilidad y la resistencia. ONLINE
URL:https://elasyoga.com/clase/barre-fit-viernes-online/2026-03-13/
LOCATION:ELAS\, M CASTAÑA\, LUGO\, LUGO\, 27002\, España
CATEGORIES:Pilates
ATTACH;FMTTYPE=image/jpeg:https://elasyoga.com/wp-content/uploads/2024/12/Grandio_ElasYogaStudio_105.jpg
END:VEVENT
BEGIN:VEVENT
DTSTART;TZID=Europe/Helsinki:20260313T190000
DTEND;TZID=Europe/Helsinki:20260313T200000
DTSTAMP:20260423T132414
CREATED:20250319T115656Z
LAST-MODIFIED:20250604T200801Z
UID:10029920-1773428400-1773432000@elasyoga.com
SUMMARY:Barré Fit Viernes
DESCRIPTION:Barré Fit es una clase que combina elementos de ballet\, pilates y entrenamiento de fuerza\, enfocándose en tonificar y fortalecer el cuerpo de manera integral. Utilizando una barra como apoyo\, esta práctica se centra en movimientos de bajo impacto que mejoran la postura\, la flexibilidad y la resistencia.
URL:https://elasyoga.com/clase/barre-fit-viernes-2/2026-03-13/
LOCATION:ELAS\, M CASTAÑA\, LUGO\, LUGO\, 27002\, España
CATEGORIES:Pilates
ATTACH;FMTTYPE=image/jpeg:https://elasyoga.com/wp-content/uploads/2024/12/Grandio_ElasYogaStudio_105.jpg
END:VEVENT
BEGIN:VEVENT
DTSTART;TZID=Europe/Helsinki:20260311T203000
DTEND;TZID=Europe/Helsinki:20260311T213000
DTSTAMP:20260423T132414
CREATED:20250513T111858Z
LAST-MODIFIED:20250513T121231Z
UID:10035742-1773261000-1773264600@elasyoga.com
SUMMARY:Barré Fit Miércoles - ONLINE
DESCRIPTION:Barré Fit es una clase que combina elementos de ballet\, pilates y entrenamiento de fuerza\, enfocándose en tonificar y fortalecer el cuerpo de manera integral. Utilizando una barra como apoyo\, esta práctica se centra en movimientos de bajo impacto que mejoran la postura\, la flexibilidad y la resistencia. ONLINE
URL:https://elasyoga.com/clase/barre-fit-miercoles-online/2026-03-11/
LOCATION:ELAS\, M CASTAÑA\, LUGO\, LUGO\, 27002\, España
CATEGORIES:Pilates
ATTACH;FMTTYPE=image/jpeg:https://elasyoga.com/wp-content/uploads/2024/12/Grandio_ElasYogaStudio_105.jpg
END:VEVENT
BEGIN:VEVENT
DTSTART;TZID=Europe/Helsinki:20260311T203000
DTEND;TZID=Europe/Helsinki:20260311T213000
DTSTAMP:20260423T132414
CREATED:20241202T172036Z
LAST-MODIFIED:20250604T200622Z
UID:10022498-1773261000-1773264600@elasyoga.com
SUMMARY:Barré Fit Miércoles
DESCRIPTION:Barré Fit es una clase que combina elementos de ballet\, pilates y entrenamiento de fuerza\, enfocándose en tonificar y fortalecer el cuerpo de manera integral. Utilizando una barra como apoyo\, esta práctica se centra en movimientos de bajo impacto que mejoran la postura\, la flexibilidad y la resistencia.
URL:https://elasyoga.com/clase/barre-fit-miercoles/2026-03-11/
LOCATION:ELAS\, M CASTAÑA\, LUGO\, LUGO\, 27002\, España
CATEGORIES:Pilates
ATTACH;FMTTYPE=image/jpeg:https://elasyoga.com/wp-content/uploads/2024/12/Grandio_ElasYogaStudio_105.jpg
END:VEVENT
BEGIN:VEVENT
DTSTART;TZID=Europe/Helsinki:20260309T203000
DTEND;TZID=Europe/Helsinki:20260309T213000
DTSTAMP:20260423T132414
CREATED:20250513T112004Z
LAST-MODIFIED:20250513T121306Z
UID:10036026-1773088200-1773091800@elasyoga.com
SUMMARY:Barré Fit Lunes - ONLINE
DESCRIPTION:Barré Fit es una clase que combina elementos de ballet\, pilates y entrenamiento de fuerza\, enfocándose en tonificar y fortalecer el cuerpo de manera integral. Utilizando una barra como apoyo\, esta práctica se centra en movimientos de bajo impacto que mejoran la postura\, la flexibilidad y la resistencia. ONLINE
URL:https://elasyoga.com/clase/barre-fit-lunes-online/2026-03-09/
LOCATION:ELAS\, M CASTAÑA\, LUGO\, LUGO\, 27002\, España
CATEGORIES:Pilates
ATTACH;FMTTYPE=image/jpeg:https://elasyoga.com/wp-content/uploads/2024/12/Grandio_ElasYogaStudio_105.jpg
END:VEVENT
BEGIN:VEVENT
DTSTART;TZID=Europe/Helsinki:20260309T203000
DTEND;TZID=Europe/Helsinki:20260309T213000
DTSTAMP:20260423T132414
CREATED:20241202T171722Z
LAST-MODIFIED:20250604T200848Z
UID:10021454-1773088200-1773091800@elasyoga.com
SUMMARY:Barré Fit Lunes
DESCRIPTION:Barré Fit es una clase que combina elementos de ballet\, pilates y entrenamiento de fuerza\, enfocándose en tonificar y fortalecer el cuerpo de manera integral. Utilizando una barra como apoyo\, esta práctica se centra en movimientos de bajo impacto que mejoran la postura\, la flexibilidad y la resistencia.
URL:https://elasyoga.com/clase/barre-fit-lunes/2026-03-09/
LOCATION:ELAS\, M CASTAÑA\, LUGO\, LUGO\, 27002\, España
CATEGORIES:Pilates
ATTACH;FMTTYPE=image/jpeg:https://elasyoga.com/wp-content/uploads/2024/12/Grandio_ElasYogaStudio_105.jpg
END:VEVENT
BEGIN:VEVENT
DTSTART;TZID=Europe/Helsinki:20260306T190000
DTEND;TZID=Europe/Helsinki:20260306T200000
DTSTAMP:20260423T132414
CREATED:20250513T111614Z
LAST-MODIFIED:20250513T121049Z
UID:10034915-1772823600-1772827200@elasyoga.com
SUMMARY:Barré Fit Viernes - ONLINE
DESCRIPTION:Barré Fit es una clase que combina elementos de ballet\, pilates y entrenamiento de fuerza\, enfocándose en tonificar y fortalecer el cuerpo de manera integral. Utilizando una barra como apoyo\, esta práctica se centra en movimientos de bajo impacto que mejoran la postura\, la flexibilidad y la resistencia. ONLINE
URL:https://elasyoga.com/clase/barre-fit-viernes-online/2026-03-06/
LOCATION:ELAS\, M CASTAÑA\, LUGO\, LUGO\, 27002\, España
CATEGORIES:Pilates
ATTACH;FMTTYPE=image/jpeg:https://elasyoga.com/wp-content/uploads/2024/12/Grandio_ElasYogaStudio_105.jpg
END:VEVENT
BEGIN:VEVENT
DTSTART;TZID=Europe/Helsinki:20260306T190000
DTEND;TZID=Europe/Helsinki:20260306T200000
DTSTAMP:20260423T132414
CREATED:20250319T115656Z
LAST-MODIFIED:20250604T200801Z
UID:10029919-1772823600-1772827200@elasyoga.com
SUMMARY:Barré Fit Viernes
DESCRIPTION:Barré Fit es una clase que combina elementos de ballet\, pilates y entrenamiento de fuerza\, enfocándose en tonificar y fortalecer el cuerpo de manera integral. Utilizando una barra como apoyo\, esta práctica se centra en movimientos de bajo impacto que mejoran la postura\, la flexibilidad y la resistencia.
URL:https://elasyoga.com/clase/barre-fit-viernes-2/2026-03-06/
LOCATION:ELAS\, M CASTAÑA\, LUGO\, LUGO\, 27002\, España
CATEGORIES:Pilates
ATTACH;FMTTYPE=image/jpeg:https://elasyoga.com/wp-content/uploads/2024/12/Grandio_ElasYogaStudio_105.jpg
END:VEVENT
BEGIN:VEVENT
DTSTART;TZID=Europe/Helsinki:20260304T203000
DTEND;TZID=Europe/Helsinki:20260304T213000
DTSTAMP:20260423T132414
CREATED:20250513T111858Z
LAST-MODIFIED:20250513T121231Z
UID:10035741-1772656200-1772659800@elasyoga.com
SUMMARY:Barré Fit Miércoles - ONLINE
DESCRIPTION:Barré Fit es una clase que combina elementos de ballet\, pilates y entrenamiento de fuerza\, enfocándose en tonificar y fortalecer el cuerpo de manera integral. Utilizando una barra como apoyo\, esta práctica se centra en movimientos de bajo impacto que mejoran la postura\, la flexibilidad y la resistencia. ONLINE
URL:https://elasyoga.com/clase/barre-fit-miercoles-online/2026-03-04/
LOCATION:ELAS\, M CASTAÑA\, LUGO\, LUGO\, 27002\, España
CATEGORIES:Pilates
ATTACH;FMTTYPE=image/jpeg:https://elasyoga.com/wp-content/uploads/2024/12/Grandio_ElasYogaStudio_105.jpg
END:VEVENT
BEGIN:VEVENT
DTSTART;TZID=Europe/Helsinki:20260304T203000
DTEND;TZID=Europe/Helsinki:20260304T213000
DTSTAMP:20260423T132414
CREATED:20241202T172036Z
LAST-MODIFIED:20250604T200622Z
UID:10022497-1772656200-1772659800@elasyoga.com
SUMMARY:Barré Fit Miércoles
DESCRIPTION:Barré Fit es una clase que combina elementos de ballet\, pilates y entrenamiento de fuerza\, enfocándose en tonificar y fortalecer el cuerpo de manera integral. Utilizando una barra como apoyo\, esta práctica se centra en movimientos de bajo impacto que mejoran la postura\, la flexibilidad y la resistencia.
URL:https://elasyoga.com/clase/barre-fit-miercoles/2026-03-04/
LOCATION:ELAS\, M CASTAÑA\, LUGO\, LUGO\, 27002\, España
CATEGORIES:Pilates
ATTACH;FMTTYPE=image/jpeg:https://elasyoga.com/wp-content/uploads/2024/12/Grandio_ElasYogaStudio_105.jpg
END:VEVENT
BEGIN:VEVENT
DTSTART;TZID=Europe/Helsinki:20260302T203000
DTEND;TZID=Europe/Helsinki:20260302T213000
DTSTAMP:20260423T132414
CREATED:20250513T112004Z
LAST-MODIFIED:20250513T121306Z
UID:10036025-1772483400-1772487000@elasyoga.com
SUMMARY:Barré Fit Lunes - ONLINE
DESCRIPTION:Barré Fit es una clase que combina elementos de ballet\, pilates y entrenamiento de fuerza\, enfocándose en tonificar y fortalecer el cuerpo de manera integral. Utilizando una barra como apoyo\, esta práctica se centra en movimientos de bajo impacto que mejoran la postura\, la flexibilidad y la resistencia. ONLINE
URL:https://elasyoga.com/clase/barre-fit-lunes-online/2026-03-02/
LOCATION:ELAS\, M CASTAÑA\, LUGO\, LUGO\, 27002\, España
CATEGORIES:Pilates
ATTACH;FMTTYPE=image/jpeg:https://elasyoga.com/wp-content/uploads/2024/12/Grandio_ElasYogaStudio_105.jpg
END:VEVENT
BEGIN:VEVENT
DTSTART;TZID=Europe/Helsinki:20260302T203000
DTEND;TZID=Europe/Helsinki:20260302T213000
DTSTAMP:20260423T132414
CREATED:20241202T171722Z
LAST-MODIFIED:20250604T200848Z
UID:10021453-1772483400-1772487000@elasyoga.com
SUMMARY:Barré Fit Lunes
DESCRIPTION:Barré Fit es una clase que combina elementos de ballet\, pilates y entrenamiento de fuerza\, enfocándose en tonificar y fortalecer el cuerpo de manera integral. Utilizando una barra como apoyo\, esta práctica se centra en movimientos de bajo impacto que mejoran la postura\, la flexibilidad y la resistencia.
URL:https://elasyoga.com/clase/barre-fit-lunes/2026-03-02/
LOCATION:ELAS\, M CASTAÑA\, LUGO\, LUGO\, 27002\, España
CATEGORIES:Pilates
ATTACH;FMTTYPE=image/jpeg:https://elasyoga.com/wp-content/uploads/2024/12/Grandio_ElasYogaStudio_105.jpg
END:VEVENT
BEGIN:VEVENT
DTSTART;TZID=Europe/Helsinki:20260227T190000
DTEND;TZID=Europe/Helsinki:20260227T200000
DTSTAMP:20260423T132414
CREATED:20250513T111614Z
LAST-MODIFIED:20250513T121049Z
UID:10034914-1772218800-1772222400@elasyoga.com
SUMMARY:Barré Fit Viernes - ONLINE
DESCRIPTION:Barré Fit es una clase que combina elementos de ballet\, pilates y entrenamiento de fuerza\, enfocándose en tonificar y fortalecer el cuerpo de manera integral. Utilizando una barra como apoyo\, esta práctica se centra en movimientos de bajo impacto que mejoran la postura\, la flexibilidad y la resistencia. ONLINE
URL:https://elasyoga.com/clase/barre-fit-viernes-online/2026-02-27/
LOCATION:ELAS\, M CASTAÑA\, LUGO\, LUGO\, 27002\, España
CATEGORIES:Pilates
ATTACH;FMTTYPE=image/jpeg:https://elasyoga.com/wp-content/uploads/2024/12/Grandio_ElasYogaStudio_105.jpg
END:VEVENT
BEGIN:VEVENT
DTSTART;TZID=Europe/Helsinki:20260227T190000
DTEND;TZID=Europe/Helsinki:20260227T200000
DTSTAMP:20260423T132414
CREATED:20250319T115656Z
LAST-MODIFIED:20250604T200801Z
UID:10029918-1772218800-1772222400@elasyoga.com
SUMMARY:Barré Fit Viernes
DESCRIPTION:Barré Fit es una clase que combina elementos de ballet\, pilates y entrenamiento de fuerza\, enfocándose en tonificar y fortalecer el cuerpo de manera integral. Utilizando una barra como apoyo\, esta práctica se centra en movimientos de bajo impacto que mejoran la postura\, la flexibilidad y la resistencia.
URL:https://elasyoga.com/clase/barre-fit-viernes-2/2026-02-27/
LOCATION:ELAS\, M CASTAÑA\, LUGO\, LUGO\, 27002\, España
CATEGORIES:Pilates
ATTACH;FMTTYPE=image/jpeg:https://elasyoga.com/wp-content/uploads/2024/12/Grandio_ElasYogaStudio_105.jpg
END:VEVENT
BEGIN:VEVENT
DTSTART;TZID=Europe/Helsinki:20260225T203000
DTEND;TZID=Europe/Helsinki:20260225T213000
DTSTAMP:20260423T132414
CREATED:20250513T111858Z
LAST-MODIFIED:20250513T121231Z
UID:10035740-1772051400-1772055000@elasyoga.com
SUMMARY:Barré Fit Miércoles - ONLINE
DESCRIPTION:Barré Fit es una clase que combina elementos de ballet\, pilates y entrenamiento de fuerza\, enfocándose en tonificar y fortalecer el cuerpo de manera integral. Utilizando una barra como apoyo\, esta práctica se centra en movimientos de bajo impacto que mejoran la postura\, la flexibilidad y la resistencia. ONLINE
URL:https://elasyoga.com/clase/barre-fit-miercoles-online/2026-02-25/
LOCATION:ELAS\, M CASTAÑA\, LUGO\, LUGO\, 27002\, España
CATEGORIES:Pilates
ATTACH;FMTTYPE=image/jpeg:https://elasyoga.com/wp-content/uploads/2024/12/Grandio_ElasYogaStudio_105.jpg
END:VEVENT
BEGIN:VEVENT
DTSTART;TZID=Europe/Helsinki:20260225T203000
DTEND;TZID=Europe/Helsinki:20260225T213000
DTSTAMP:20260423T132414
CREATED:20241202T172036Z
LAST-MODIFIED:20250604T200622Z
UID:10022496-1772051400-1772055000@elasyoga.com
SUMMARY:Barré Fit Miércoles
DESCRIPTION:Barré Fit es una clase que combina elementos de ballet\, pilates y entrenamiento de fuerza\, enfocándose en tonificar y fortalecer el cuerpo de manera integral. Utilizando una barra como apoyo\, esta práctica se centra en movimientos de bajo impacto que mejoran la postura\, la flexibilidad y la resistencia.
URL:https://elasyoga.com/clase/barre-fit-miercoles/2026-02-25/
LOCATION:ELAS\, M CASTAÑA\, LUGO\, LUGO\, 27002\, España
CATEGORIES:Pilates
ATTACH;FMTTYPE=image/jpeg:https://elasyoga.com/wp-content/uploads/2024/12/Grandio_ElasYogaStudio_105.jpg
END:VEVENT
BEGIN:VEVENT
DTSTART;TZID=Europe/Helsinki:20260223T203000
DTEND;TZID=Europe/Helsinki:20260223T213000
DTSTAMP:20260423T132414
CREATED:20250513T112004Z
LAST-MODIFIED:20250513T121306Z
UID:10036024-1771878600-1771882200@elasyoga.com
SUMMARY:Barré Fit Lunes - ONLINE
DESCRIPTION:Barré Fit es una clase que combina elementos de ballet\, pilates y entrenamiento de fuerza\, enfocándose en tonificar y fortalecer el cuerpo de manera integral. Utilizando una barra como apoyo\, esta práctica se centra en movimientos de bajo impacto que mejoran la postura\, la flexibilidad y la resistencia. ONLINE
URL:https://elasyoga.com/clase/barre-fit-lunes-online/2026-02-23/
LOCATION:ELAS\, M CASTAÑA\, LUGO\, LUGO\, 27002\, España
CATEGORIES:Pilates
ATTACH;FMTTYPE=image/jpeg:https://elasyoga.com/wp-content/uploads/2024/12/Grandio_ElasYogaStudio_105.jpg
END:VEVENT
BEGIN:VEVENT
DTSTART;TZID=Europe/Helsinki:20260223T203000
DTEND;TZID=Europe/Helsinki:20260223T213000
DTSTAMP:20260423T132414
CREATED:20241202T171722Z
LAST-MODIFIED:20250604T200848Z
UID:10021452-1771878600-1771882200@elasyoga.com
SUMMARY:Barré Fit Lunes
DESCRIPTION:Barré Fit es una clase que combina elementos de ballet\, pilates y entrenamiento de fuerza\, enfocándose en tonificar y fortalecer el cuerpo de manera integral. Utilizando una barra como apoyo\, esta práctica se centra en movimientos de bajo impacto que mejoran la postura\, la flexibilidad y la resistencia.
URL:https://elasyoga.com/clase/barre-fit-lunes/2026-02-23/
LOCATION:ELAS\, M CASTAÑA\, LUGO\, LUGO\, 27002\, España
CATEGORIES:Pilates
ATTACH;FMTTYPE=image/jpeg:https://elasyoga.com/wp-content/uploads/2024/12/Grandio_ElasYogaStudio_105.jpg
END:VEVENT
BEGIN:VEVENT
DTSTART;TZID=Europe/Helsinki:20260220T190000
DTEND;TZID=Europe/Helsinki:20260220T200000
DTSTAMP:20260423T132414
CREATED:20250513T111614Z
LAST-MODIFIED:20250513T121049Z
UID:10034913-1771614000-1771617600@elasyoga.com
SUMMARY:Barré Fit Viernes - ONLINE
DESCRIPTION:Barré Fit es una clase que combina elementos de ballet\, pilates y entrenamiento de fuerza\, enfocándose en tonificar y fortalecer el cuerpo de manera integral. Utilizando una barra como apoyo\, esta práctica se centra en movimientos de bajo impacto que mejoran la postura\, la flexibilidad y la resistencia. ONLINE
URL:https://elasyoga.com/clase/barre-fit-viernes-online/2026-02-20/
LOCATION:ELAS\, M CASTAÑA\, LUGO\, LUGO\, 27002\, España
CATEGORIES:Pilates
ATTACH;FMTTYPE=image/jpeg:https://elasyoga.com/wp-content/uploads/2024/12/Grandio_ElasYogaStudio_105.jpg
END:VEVENT
BEGIN:VEVENT
DTSTART;TZID=Europe/Helsinki:20260220T190000
DTEND;TZID=Europe/Helsinki:20260220T200000
DTSTAMP:20260423T132414
CREATED:20250319T115656Z
LAST-MODIFIED:20250604T200801Z
UID:10029917-1771614000-1771617600@elasyoga.com
SUMMARY:Barré Fit Viernes
DESCRIPTION:Barré Fit es una clase que combina elementos de ballet\, pilates y entrenamiento de fuerza\, enfocándose en tonificar y fortalecer el cuerpo de manera integral. Utilizando una barra como apoyo\, esta práctica se centra en movimientos de bajo impacto que mejoran la postura\, la flexibilidad y la resistencia.
URL:https://elasyoga.com/clase/barre-fit-viernes-2/2026-02-20/
LOCATION:ELAS\, M CASTAÑA\, LUGO\, LUGO\, 27002\, España
CATEGORIES:Pilates
ATTACH;FMTTYPE=image/jpeg:https://elasyoga.com/wp-content/uploads/2024/12/Grandio_ElasYogaStudio_105.jpg
END:VEVENT
END:VCALENDAR