BEGIN:VCALENDAR
VERSION:2.0
PRODID:-//Elas Yoga Estudio - ECPv6.3.1//NONSGML v1.0//EN
CALSCALE:GREGORIAN
METHOD:PUBLISH
X-WR-CALNAME:Elas Yoga Estudio
X-ORIGINAL-URL:https://elasyoga.com
X-WR-CALDESC:Eventos para Elas Yoga Estudio
REFRESH-INTERVAL;VALUE=DURATION:PT1H
X-Robots-Tag:noindex
X-PUBLISHED-TTL:PT1H
BEGIN:VTIMEZONE
TZID:Europe/Helsinki
BEGIN:DAYLIGHT
TZOFFSETFROM:+0200
TZOFFSETTO:+0300
TZNAME:EEST
DTSTART:20260329T010000
END:DAYLIGHT
BEGIN:STANDARD
TZOFFSETFROM:+0300
TZOFFSETTO:+0200
TZNAME:EET
DTSTART:20261025T010000
END:STANDARD
END:VTIMEZONE
BEGIN:VEVENT
DTSTART;TZID=Europe/Helsinki:20260420T203000
DTEND;TZID=Europe/Helsinki:20260420T213000
DTSTAMP:20260421T133836
CREATED:20250513T112004Z
LAST-MODIFIED:20250513T121306Z
UID:10036032-1776717000-1776720600@elasyoga.com
SUMMARY:Barré Fit Lunes - ONLINE
DESCRIPTION:Barré Fit es una clase que combina elementos de ballet\, pilates y entrenamiento de fuerza\, enfocándose en tonificar y fortalecer el cuerpo de manera integral. Utilizando una barra como apoyo\, esta práctica se centra en movimientos de bajo impacto que mejoran la postura\, la flexibilidad y la resistencia. ONLINE
URL:https://elasyoga.com/clase/barre-fit-lunes-online/2026-04-20/
LOCATION:ELAS\, M CASTAÑA\, LUGO\, LUGO\, 27002\, España
CATEGORIES:Pilates
ATTACH;FMTTYPE=image/jpeg:https://elasyoga.com/wp-content/uploads/2024/12/Grandio_ElasYogaStudio_105.jpg
END:VEVENT
BEGIN:VEVENT
DTSTART;TZID=Europe/Helsinki:20260420T203000
DTEND;TZID=Europe/Helsinki:20260420T213000
DTSTAMP:20260421T133836
CREATED:20241202T171722Z
LAST-MODIFIED:20250604T200848Z
UID:10021460-1776717000-1776720600@elasyoga.com
SUMMARY:Barré Fit Lunes
DESCRIPTION:Barré Fit es una clase que combina elementos de ballet\, pilates y entrenamiento de fuerza\, enfocándose en tonificar y fortalecer el cuerpo de manera integral. Utilizando una barra como apoyo\, esta práctica se centra en movimientos de bajo impacto que mejoran la postura\, la flexibilidad y la resistencia.
URL:https://elasyoga.com/clase/barre-fit-lunes/2026-04-20/
LOCATION:ELAS\, M CASTAÑA\, LUGO\, LUGO\, 27002\, España
CATEGORIES:Pilates
ATTACH;FMTTYPE=image/jpeg:https://elasyoga.com/wp-content/uploads/2024/12/Grandio_ElasYogaStudio_105.jpg
END:VEVENT
BEGIN:VEVENT
DTSTART;TZID=Europe/Helsinki:20260417T190000
DTEND;TZID=Europe/Helsinki:20260417T200000
DTSTAMP:20260421T133836
CREATED:20250513T111614Z
LAST-MODIFIED:20250513T121049Z
UID:10034921-1776452400-1776456000@elasyoga.com
SUMMARY:Barré Fit Viernes - ONLINE
DESCRIPTION:Barré Fit es una clase que combina elementos de ballet\, pilates y entrenamiento de fuerza\, enfocándose en tonificar y fortalecer el cuerpo de manera integral. Utilizando una barra como apoyo\, esta práctica se centra en movimientos de bajo impacto que mejoran la postura\, la flexibilidad y la resistencia. ONLINE
URL:https://elasyoga.com/clase/barre-fit-viernes-online/2026-04-17/
LOCATION:ELAS\, M CASTAÑA\, LUGO\, LUGO\, 27002\, España
CATEGORIES:Pilates
ATTACH;FMTTYPE=image/jpeg:https://elasyoga.com/wp-content/uploads/2024/12/Grandio_ElasYogaStudio_105.jpg
END:VEVENT
BEGIN:VEVENT
DTSTART;TZID=Europe/Helsinki:20260417T190000
DTEND;TZID=Europe/Helsinki:20260417T200000
DTSTAMP:20260421T133836
CREATED:20250319T115656Z
LAST-MODIFIED:20250604T200801Z
UID:10029925-1776452400-1776456000@elasyoga.com
SUMMARY:Barré Fit Viernes
DESCRIPTION:Barré Fit es una clase que combina elementos de ballet\, pilates y entrenamiento de fuerza\, enfocándose en tonificar y fortalecer el cuerpo de manera integral. Utilizando una barra como apoyo\, esta práctica se centra en movimientos de bajo impacto que mejoran la postura\, la flexibilidad y la resistencia.
URL:https://elasyoga.com/clase/barre-fit-viernes-2/2026-04-17/
LOCATION:ELAS\, M CASTAÑA\, LUGO\, LUGO\, 27002\, España
CATEGORIES:Pilates
ATTACH;FMTTYPE=image/jpeg:https://elasyoga.com/wp-content/uploads/2024/12/Grandio_ElasYogaStudio_105.jpg
END:VEVENT
BEGIN:VEVENT
DTSTART;TZID=Europe/Helsinki:20260415T203000
DTEND;TZID=Europe/Helsinki:20260415T213000
DTSTAMP:20260421T133836
CREATED:20250513T111858Z
LAST-MODIFIED:20250513T121231Z
UID:10035747-1776285000-1776288600@elasyoga.com
SUMMARY:Barré Fit Miércoles - ONLINE
DESCRIPTION:Barré Fit es una clase que combina elementos de ballet\, pilates y entrenamiento de fuerza\, enfocándose en tonificar y fortalecer el cuerpo de manera integral. Utilizando una barra como apoyo\, esta práctica se centra en movimientos de bajo impacto que mejoran la postura\, la flexibilidad y la resistencia. ONLINE
URL:https://elasyoga.com/clase/barre-fit-miercoles-online/2026-04-15/
LOCATION:ELAS\, M CASTAÑA\, LUGO\, LUGO\, 27002\, España
CATEGORIES:Pilates
ATTACH;FMTTYPE=image/jpeg:https://elasyoga.com/wp-content/uploads/2024/12/Grandio_ElasYogaStudio_105.jpg
END:VEVENT
BEGIN:VEVENT
DTSTART;TZID=Europe/Helsinki:20260415T203000
DTEND;TZID=Europe/Helsinki:20260415T213000
DTSTAMP:20260421T133836
CREATED:20241202T172036Z
LAST-MODIFIED:20250604T200622Z
UID:10022503-1776285000-1776288600@elasyoga.com
SUMMARY:Barré Fit Miércoles
DESCRIPTION:Barré Fit es una clase que combina elementos de ballet\, pilates y entrenamiento de fuerza\, enfocándose en tonificar y fortalecer el cuerpo de manera integral. Utilizando una barra como apoyo\, esta práctica se centra en movimientos de bajo impacto que mejoran la postura\, la flexibilidad y la resistencia.
URL:https://elasyoga.com/clase/barre-fit-miercoles/2026-04-15/
LOCATION:ELAS\, M CASTAÑA\, LUGO\, LUGO\, 27002\, España
CATEGORIES:Pilates
ATTACH;FMTTYPE=image/jpeg:https://elasyoga.com/wp-content/uploads/2024/12/Grandio_ElasYogaStudio_105.jpg
END:VEVENT
BEGIN:VEVENT
DTSTART;TZID=Europe/Helsinki:20260413T203000
DTEND;TZID=Europe/Helsinki:20260413T213000
DTSTAMP:20260421T133836
CREATED:20250513T112004Z
LAST-MODIFIED:20250513T121306Z
UID:10036031-1776112200-1776115800@elasyoga.com
SUMMARY:Barré Fit Lunes - ONLINE
DESCRIPTION:Barré Fit es una clase que combina elementos de ballet\, pilates y entrenamiento de fuerza\, enfocándose en tonificar y fortalecer el cuerpo de manera integral. Utilizando una barra como apoyo\, esta práctica se centra en movimientos de bajo impacto que mejoran la postura\, la flexibilidad y la resistencia. ONLINE
URL:https://elasyoga.com/clase/barre-fit-lunes-online/2026-04-13/
LOCATION:ELAS\, M CASTAÑA\, LUGO\, LUGO\, 27002\, España
CATEGORIES:Pilates
ATTACH;FMTTYPE=image/jpeg:https://elasyoga.com/wp-content/uploads/2024/12/Grandio_ElasYogaStudio_105.jpg
END:VEVENT
BEGIN:VEVENT
DTSTART;TZID=Europe/Helsinki:20260413T203000
DTEND;TZID=Europe/Helsinki:20260413T213000
DTSTAMP:20260421T133836
CREATED:20241202T171722Z
LAST-MODIFIED:20250604T200848Z
UID:10021459-1776112200-1776115800@elasyoga.com
SUMMARY:Barré Fit Lunes
DESCRIPTION:Barré Fit es una clase que combina elementos de ballet\, pilates y entrenamiento de fuerza\, enfocándose en tonificar y fortalecer el cuerpo de manera integral. Utilizando una barra como apoyo\, esta práctica se centra en movimientos de bajo impacto que mejoran la postura\, la flexibilidad y la resistencia.
URL:https://elasyoga.com/clase/barre-fit-lunes/2026-04-13/
LOCATION:ELAS\, M CASTAÑA\, LUGO\, LUGO\, 27002\, España
CATEGORIES:Pilates
ATTACH;FMTTYPE=image/jpeg:https://elasyoga.com/wp-content/uploads/2024/12/Grandio_ElasYogaStudio_105.jpg
END:VEVENT
BEGIN:VEVENT
DTSTART;TZID=Europe/Helsinki:20260410T190000
DTEND;TZID=Europe/Helsinki:20260410T200000
DTSTAMP:20260421T133836
CREATED:20250513T111614Z
LAST-MODIFIED:20250513T121049Z
UID:10034920-1775847600-1775851200@elasyoga.com
SUMMARY:Barré Fit Viernes - ONLINE
DESCRIPTION:Barré Fit es una clase que combina elementos de ballet\, pilates y entrenamiento de fuerza\, enfocándose en tonificar y fortalecer el cuerpo de manera integral. Utilizando una barra como apoyo\, esta práctica se centra en movimientos de bajo impacto que mejoran la postura\, la flexibilidad y la resistencia. ONLINE
URL:https://elasyoga.com/clase/barre-fit-viernes-online/2026-04-10/
LOCATION:ELAS\, M CASTAÑA\, LUGO\, LUGO\, 27002\, España
CATEGORIES:Pilates
ATTACH;FMTTYPE=image/jpeg:https://elasyoga.com/wp-content/uploads/2024/12/Grandio_ElasYogaStudio_105.jpg
END:VEVENT
BEGIN:VEVENT
DTSTART;TZID=Europe/Helsinki:20260410T190000
DTEND;TZID=Europe/Helsinki:20260410T200000
DTSTAMP:20260421T133836
CREATED:20250319T115656Z
LAST-MODIFIED:20250604T200801Z
UID:10029924-1775847600-1775851200@elasyoga.com
SUMMARY:Barré Fit Viernes
DESCRIPTION:Barré Fit es una clase que combina elementos de ballet\, pilates y entrenamiento de fuerza\, enfocándose en tonificar y fortalecer el cuerpo de manera integral. Utilizando una barra como apoyo\, esta práctica se centra en movimientos de bajo impacto que mejoran la postura\, la flexibilidad y la resistencia.
URL:https://elasyoga.com/clase/barre-fit-viernes-2/2026-04-10/
LOCATION:ELAS\, M CASTAÑA\, LUGO\, LUGO\, 27002\, España
CATEGORIES:Pilates
ATTACH;FMTTYPE=image/jpeg:https://elasyoga.com/wp-content/uploads/2024/12/Grandio_ElasYogaStudio_105.jpg
END:VEVENT
BEGIN:VEVENT
DTSTART;TZID=Europe/Helsinki:20260408T203000
DTEND;TZID=Europe/Helsinki:20260408T213000
DTSTAMP:20260421T133836
CREATED:20250513T111858Z
LAST-MODIFIED:20250513T121231Z
UID:10035746-1775680200-1775683800@elasyoga.com
SUMMARY:Barré Fit Miércoles - ONLINE
DESCRIPTION:Barré Fit es una clase que combina elementos de ballet\, pilates y entrenamiento de fuerza\, enfocándose en tonificar y fortalecer el cuerpo de manera integral. Utilizando una barra como apoyo\, esta práctica se centra en movimientos de bajo impacto que mejoran la postura\, la flexibilidad y la resistencia. ONLINE
URL:https://elasyoga.com/clase/barre-fit-miercoles-online/2026-04-08/
LOCATION:ELAS\, M CASTAÑA\, LUGO\, LUGO\, 27002\, España
CATEGORIES:Pilates
ATTACH;FMTTYPE=image/jpeg:https://elasyoga.com/wp-content/uploads/2024/12/Grandio_ElasYogaStudio_105.jpg
END:VEVENT
BEGIN:VEVENT
DTSTART;TZID=Europe/Helsinki:20260408T203000
DTEND;TZID=Europe/Helsinki:20260408T213000
DTSTAMP:20260421T133836
CREATED:20241202T172036Z
LAST-MODIFIED:20250604T200622Z
UID:10022502-1775680200-1775683800@elasyoga.com
SUMMARY:Barré Fit Miércoles
DESCRIPTION:Barré Fit es una clase que combina elementos de ballet\, pilates y entrenamiento de fuerza\, enfocándose en tonificar y fortalecer el cuerpo de manera integral. Utilizando una barra como apoyo\, esta práctica se centra en movimientos de bajo impacto que mejoran la postura\, la flexibilidad y la resistencia.
URL:https://elasyoga.com/clase/barre-fit-miercoles/2026-04-08/
LOCATION:ELAS\, M CASTAÑA\, LUGO\, LUGO\, 27002\, España
CATEGORIES:Pilates
ATTACH;FMTTYPE=image/jpeg:https://elasyoga.com/wp-content/uploads/2024/12/Grandio_ElasYogaStudio_105.jpg
END:VEVENT
BEGIN:VEVENT
DTSTART;TZID=Europe/Helsinki:20260406T203000
DTEND;TZID=Europe/Helsinki:20260406T213000
DTSTAMP:20260421T133836
CREATED:20250513T112004Z
LAST-MODIFIED:20250513T121306Z
UID:10036030-1775507400-1775511000@elasyoga.com
SUMMARY:Barré Fit Lunes - ONLINE
DESCRIPTION:Barré Fit es una clase que combina elementos de ballet\, pilates y entrenamiento de fuerza\, enfocándose en tonificar y fortalecer el cuerpo de manera integral. Utilizando una barra como apoyo\, esta práctica se centra en movimientos de bajo impacto que mejoran la postura\, la flexibilidad y la resistencia. ONLINE
URL:https://elasyoga.com/clase/barre-fit-lunes-online/2026-04-06/
LOCATION:ELAS\, M CASTAÑA\, LUGO\, LUGO\, 27002\, España
CATEGORIES:Pilates
ATTACH;FMTTYPE=image/jpeg:https://elasyoga.com/wp-content/uploads/2024/12/Grandio_ElasYogaStudio_105.jpg
END:VEVENT
BEGIN:VEVENT
DTSTART;TZID=Europe/Helsinki:20260406T203000
DTEND;TZID=Europe/Helsinki:20260406T213000
DTSTAMP:20260421T133836
CREATED:20241202T171722Z
LAST-MODIFIED:20250604T200848Z
UID:10021458-1775507400-1775511000@elasyoga.com
SUMMARY:Barré Fit Lunes
DESCRIPTION:Barré Fit es una clase que combina elementos de ballet\, pilates y entrenamiento de fuerza\, enfocándose en tonificar y fortalecer el cuerpo de manera integral. Utilizando una barra como apoyo\, esta práctica se centra en movimientos de bajo impacto que mejoran la postura\, la flexibilidad y la resistencia.
URL:https://elasyoga.com/clase/barre-fit-lunes/2026-04-06/
LOCATION:ELAS\, M CASTAÑA\, LUGO\, LUGO\, 27002\, España
CATEGORIES:Pilates
ATTACH;FMTTYPE=image/jpeg:https://elasyoga.com/wp-content/uploads/2024/12/Grandio_ElasYogaStudio_105.jpg
END:VEVENT
BEGIN:VEVENT
DTSTART;TZID=Europe/Helsinki:20260403T190000
DTEND;TZID=Europe/Helsinki:20260403T200000
DTSTAMP:20260421T133836
CREATED:20250513T111614Z
LAST-MODIFIED:20250513T121049Z
UID:10034919-1775242800-1775246400@elasyoga.com
SUMMARY:Barré Fit Viernes - ONLINE
DESCRIPTION:Barré Fit es una clase que combina elementos de ballet\, pilates y entrenamiento de fuerza\, enfocándose en tonificar y fortalecer el cuerpo de manera integral. Utilizando una barra como apoyo\, esta práctica se centra en movimientos de bajo impacto que mejoran la postura\, la flexibilidad y la resistencia. ONLINE
URL:https://elasyoga.com/clase/barre-fit-viernes-online/2026-04-03/
LOCATION:ELAS\, M CASTAÑA\, LUGO\, LUGO\, 27002\, España
CATEGORIES:Pilates
ATTACH;FMTTYPE=image/jpeg:https://elasyoga.com/wp-content/uploads/2024/12/Grandio_ElasYogaStudio_105.jpg
END:VEVENT
BEGIN:VEVENT
DTSTART;TZID=Europe/Helsinki:20260403T190000
DTEND;TZID=Europe/Helsinki:20260403T200000
DTSTAMP:20260421T133836
CREATED:20250319T115656Z
LAST-MODIFIED:20250604T200801Z
UID:10029923-1775242800-1775246400@elasyoga.com
SUMMARY:Barré Fit Viernes
DESCRIPTION:Barré Fit es una clase que combina elementos de ballet\, pilates y entrenamiento de fuerza\, enfocándose en tonificar y fortalecer el cuerpo de manera integral. Utilizando una barra como apoyo\, esta práctica se centra en movimientos de bajo impacto que mejoran la postura\, la flexibilidad y la resistencia.
URL:https://elasyoga.com/clase/barre-fit-viernes-2/2026-04-03/
LOCATION:ELAS\, M CASTAÑA\, LUGO\, LUGO\, 27002\, España
CATEGORIES:Pilates
ATTACH;FMTTYPE=image/jpeg:https://elasyoga.com/wp-content/uploads/2024/12/Grandio_ElasYogaStudio_105.jpg
END:VEVENT
BEGIN:VEVENT
DTSTART;TZID=Europe/Helsinki:20260401T203000
DTEND;TZID=Europe/Helsinki:20260401T213000
DTSTAMP:20260421T133836
CREATED:20250513T111858Z
LAST-MODIFIED:20250513T121231Z
UID:10035745-1775075400-1775079000@elasyoga.com
SUMMARY:Barré Fit Miércoles - ONLINE
DESCRIPTION:Barré Fit es una clase que combina elementos de ballet\, pilates y entrenamiento de fuerza\, enfocándose en tonificar y fortalecer el cuerpo de manera integral. Utilizando una barra como apoyo\, esta práctica se centra en movimientos de bajo impacto que mejoran la postura\, la flexibilidad y la resistencia. ONLINE
URL:https://elasyoga.com/clase/barre-fit-miercoles-online/2026-04-01/
LOCATION:ELAS\, M CASTAÑA\, LUGO\, LUGO\, 27002\, España
CATEGORIES:Pilates
ATTACH;FMTTYPE=image/jpeg:https://elasyoga.com/wp-content/uploads/2024/12/Grandio_ElasYogaStudio_105.jpg
END:VEVENT
BEGIN:VEVENT
DTSTART;TZID=Europe/Helsinki:20260401T203000
DTEND;TZID=Europe/Helsinki:20260401T213000
DTSTAMP:20260421T133836
CREATED:20241202T172036Z
LAST-MODIFIED:20250604T200622Z
UID:10022501-1775075400-1775079000@elasyoga.com
SUMMARY:Barré Fit Miércoles
DESCRIPTION:Barré Fit es una clase que combina elementos de ballet\, pilates y entrenamiento de fuerza\, enfocándose en tonificar y fortalecer el cuerpo de manera integral. Utilizando una barra como apoyo\, esta práctica se centra en movimientos de bajo impacto que mejoran la postura\, la flexibilidad y la resistencia.
URL:https://elasyoga.com/clase/barre-fit-miercoles/2026-04-01/
LOCATION:ELAS\, M CASTAÑA\, LUGO\, LUGO\, 27002\, España
CATEGORIES:Pilates
ATTACH;FMTTYPE=image/jpeg:https://elasyoga.com/wp-content/uploads/2024/12/Grandio_ElasYogaStudio_105.jpg
END:VEVENT
BEGIN:VEVENT
DTSTART;TZID=Europe/Helsinki:20260330T203000
DTEND;TZID=Europe/Helsinki:20260330T213000
DTSTAMP:20260421T133836
CREATED:20250513T112004Z
LAST-MODIFIED:20250513T121306Z
UID:10036029-1774902600-1774906200@elasyoga.com
SUMMARY:Barré Fit Lunes - ONLINE
DESCRIPTION:Barré Fit es una clase que combina elementos de ballet\, pilates y entrenamiento de fuerza\, enfocándose en tonificar y fortalecer el cuerpo de manera integral. Utilizando una barra como apoyo\, esta práctica se centra en movimientos de bajo impacto que mejoran la postura\, la flexibilidad y la resistencia. ONLINE
URL:https://elasyoga.com/clase/barre-fit-lunes-online/2026-03-30/
LOCATION:ELAS\, M CASTAÑA\, LUGO\, LUGO\, 27002\, España
CATEGORIES:Pilates
ATTACH;FMTTYPE=image/jpeg:https://elasyoga.com/wp-content/uploads/2024/12/Grandio_ElasYogaStudio_105.jpg
END:VEVENT
BEGIN:VEVENT
DTSTART;TZID=Europe/Helsinki:20260330T203000
DTEND;TZID=Europe/Helsinki:20260330T213000
DTSTAMP:20260421T133836
CREATED:20241202T171722Z
LAST-MODIFIED:20250604T200848Z
UID:10021457-1774902600-1774906200@elasyoga.com
SUMMARY:Barré Fit Lunes
DESCRIPTION:Barré Fit es una clase que combina elementos de ballet\, pilates y entrenamiento de fuerza\, enfocándose en tonificar y fortalecer el cuerpo de manera integral. Utilizando una barra como apoyo\, esta práctica se centra en movimientos de bajo impacto que mejoran la postura\, la flexibilidad y la resistencia.
URL:https://elasyoga.com/clase/barre-fit-lunes/2026-03-30/
LOCATION:ELAS\, M CASTAÑA\, LUGO\, LUGO\, 27002\, España
CATEGORIES:Pilates
ATTACH;FMTTYPE=image/jpeg:https://elasyoga.com/wp-content/uploads/2024/12/Grandio_ElasYogaStudio_105.jpg
END:VEVENT
BEGIN:VEVENT
DTSTART;TZID=Europe/Helsinki:20260327T190000
DTEND;TZID=Europe/Helsinki:20260327T200000
DTSTAMP:20260421T133836
CREATED:20250513T111614Z
LAST-MODIFIED:20250513T121049Z
UID:10034918-1774638000-1774641600@elasyoga.com
SUMMARY:Barré Fit Viernes - ONLINE
DESCRIPTION:Barré Fit es una clase que combina elementos de ballet\, pilates y entrenamiento de fuerza\, enfocándose en tonificar y fortalecer el cuerpo de manera integral. Utilizando una barra como apoyo\, esta práctica se centra en movimientos de bajo impacto que mejoran la postura\, la flexibilidad y la resistencia. ONLINE
URL:https://elasyoga.com/clase/barre-fit-viernes-online/2026-03-27/
LOCATION:ELAS\, M CASTAÑA\, LUGO\, LUGO\, 27002\, España
CATEGORIES:Pilates
ATTACH;FMTTYPE=image/jpeg:https://elasyoga.com/wp-content/uploads/2024/12/Grandio_ElasYogaStudio_105.jpg
END:VEVENT
BEGIN:VEVENT
DTSTART;TZID=Europe/Helsinki:20260327T190000
DTEND;TZID=Europe/Helsinki:20260327T200000
DTSTAMP:20260421T133836
CREATED:20250319T115656Z
LAST-MODIFIED:20250604T200801Z
UID:10029922-1774638000-1774641600@elasyoga.com
SUMMARY:Barré Fit Viernes
DESCRIPTION:Barré Fit es una clase que combina elementos de ballet\, pilates y entrenamiento de fuerza\, enfocándose en tonificar y fortalecer el cuerpo de manera integral. Utilizando una barra como apoyo\, esta práctica se centra en movimientos de bajo impacto que mejoran la postura\, la flexibilidad y la resistencia.
URL:https://elasyoga.com/clase/barre-fit-viernes-2/2026-03-27/
LOCATION:ELAS\, M CASTAÑA\, LUGO\, LUGO\, 27002\, España
CATEGORIES:Pilates
ATTACH;FMTTYPE=image/jpeg:https://elasyoga.com/wp-content/uploads/2024/12/Grandio_ElasYogaStudio_105.jpg
END:VEVENT
BEGIN:VEVENT
DTSTART;TZID=Europe/Helsinki:20260325T203000
DTEND;TZID=Europe/Helsinki:20260325T213000
DTSTAMP:20260421T133836
CREATED:20250513T111858Z
LAST-MODIFIED:20250513T121231Z
UID:10035744-1774470600-1774474200@elasyoga.com
SUMMARY:Barré Fit Miércoles - ONLINE
DESCRIPTION:Barré Fit es una clase que combina elementos de ballet\, pilates y entrenamiento de fuerza\, enfocándose en tonificar y fortalecer el cuerpo de manera integral. Utilizando una barra como apoyo\, esta práctica se centra en movimientos de bajo impacto que mejoran la postura\, la flexibilidad y la resistencia. ONLINE
URL:https://elasyoga.com/clase/barre-fit-miercoles-online/2026-03-25/
LOCATION:ELAS\, M CASTAÑA\, LUGO\, LUGO\, 27002\, España
CATEGORIES:Pilates
ATTACH;FMTTYPE=image/jpeg:https://elasyoga.com/wp-content/uploads/2024/12/Grandio_ElasYogaStudio_105.jpg
END:VEVENT
BEGIN:VEVENT
DTSTART;TZID=Europe/Helsinki:20260325T203000
DTEND;TZID=Europe/Helsinki:20260325T213000
DTSTAMP:20260421T133836
CREATED:20241202T172036Z
LAST-MODIFIED:20250604T200622Z
UID:10022500-1774470600-1774474200@elasyoga.com
SUMMARY:Barré Fit Miércoles
DESCRIPTION:Barré Fit es una clase que combina elementos de ballet\, pilates y entrenamiento de fuerza\, enfocándose en tonificar y fortalecer el cuerpo de manera integral. Utilizando una barra como apoyo\, esta práctica se centra en movimientos de bajo impacto que mejoran la postura\, la flexibilidad y la resistencia.
URL:https://elasyoga.com/clase/barre-fit-miercoles/2026-03-25/
LOCATION:ELAS\, M CASTAÑA\, LUGO\, LUGO\, 27002\, España
CATEGORIES:Pilates
ATTACH;FMTTYPE=image/jpeg:https://elasyoga.com/wp-content/uploads/2024/12/Grandio_ElasYogaStudio_105.jpg
END:VEVENT
BEGIN:VEVENT
DTSTART;TZID=Europe/Helsinki:20260323T203000
DTEND;TZID=Europe/Helsinki:20260323T213000
DTSTAMP:20260421T133836
CREATED:20250513T112004Z
LAST-MODIFIED:20250513T121306Z
UID:10036028-1774297800-1774301400@elasyoga.com
SUMMARY:Barré Fit Lunes - ONLINE
DESCRIPTION:Barré Fit es una clase que combina elementos de ballet\, pilates y entrenamiento de fuerza\, enfocándose en tonificar y fortalecer el cuerpo de manera integral. Utilizando una barra como apoyo\, esta práctica se centra en movimientos de bajo impacto que mejoran la postura\, la flexibilidad y la resistencia. ONLINE
URL:https://elasyoga.com/clase/barre-fit-lunes-online/2026-03-23/
LOCATION:ELAS\, M CASTAÑA\, LUGO\, LUGO\, 27002\, España
CATEGORIES:Pilates
ATTACH;FMTTYPE=image/jpeg:https://elasyoga.com/wp-content/uploads/2024/12/Grandio_ElasYogaStudio_105.jpg
END:VEVENT
BEGIN:VEVENT
DTSTART;TZID=Europe/Helsinki:20260323T203000
DTEND;TZID=Europe/Helsinki:20260323T213000
DTSTAMP:20260421T133836
CREATED:20241202T171722Z
LAST-MODIFIED:20250604T200848Z
UID:10021456-1774297800-1774301400@elasyoga.com
SUMMARY:Barré Fit Lunes
DESCRIPTION:Barré Fit es una clase que combina elementos de ballet\, pilates y entrenamiento de fuerza\, enfocándose en tonificar y fortalecer el cuerpo de manera integral. Utilizando una barra como apoyo\, esta práctica se centra en movimientos de bajo impacto que mejoran la postura\, la flexibilidad y la resistencia.
URL:https://elasyoga.com/clase/barre-fit-lunes/2026-03-23/
LOCATION:ELAS\, M CASTAÑA\, LUGO\, LUGO\, 27002\, España
CATEGORIES:Pilates
ATTACH;FMTTYPE=image/jpeg:https://elasyoga.com/wp-content/uploads/2024/12/Grandio_ElasYogaStudio_105.jpg
END:VEVENT
BEGIN:VEVENT
DTSTART;TZID=Europe/Helsinki:20260320T190000
DTEND;TZID=Europe/Helsinki:20260320T200000
DTSTAMP:20260421T133836
CREATED:20250513T111614Z
LAST-MODIFIED:20250513T121049Z
UID:10034917-1774033200-1774036800@elasyoga.com
SUMMARY:Barré Fit Viernes - ONLINE
DESCRIPTION:Barré Fit es una clase que combina elementos de ballet\, pilates y entrenamiento de fuerza\, enfocándose en tonificar y fortalecer el cuerpo de manera integral. Utilizando una barra como apoyo\, esta práctica se centra en movimientos de bajo impacto que mejoran la postura\, la flexibilidad y la resistencia. ONLINE
URL:https://elasyoga.com/clase/barre-fit-viernes-online/2026-03-20/
LOCATION:ELAS\, M CASTAÑA\, LUGO\, LUGO\, 27002\, España
CATEGORIES:Pilates
ATTACH;FMTTYPE=image/jpeg:https://elasyoga.com/wp-content/uploads/2024/12/Grandio_ElasYogaStudio_105.jpg
END:VEVENT
BEGIN:VEVENT
DTSTART;TZID=Europe/Helsinki:20260320T190000
DTEND;TZID=Europe/Helsinki:20260320T200000
DTSTAMP:20260421T133836
CREATED:20250319T115656Z
LAST-MODIFIED:20250604T200801Z
UID:10029921-1774033200-1774036800@elasyoga.com
SUMMARY:Barré Fit Viernes
DESCRIPTION:Barré Fit es una clase que combina elementos de ballet\, pilates y entrenamiento de fuerza\, enfocándose en tonificar y fortalecer el cuerpo de manera integral. Utilizando una barra como apoyo\, esta práctica se centra en movimientos de bajo impacto que mejoran la postura\, la flexibilidad y la resistencia.
URL:https://elasyoga.com/clase/barre-fit-viernes-2/2026-03-20/
LOCATION:ELAS\, M CASTAÑA\, LUGO\, LUGO\, 27002\, España
CATEGORIES:Pilates
ATTACH;FMTTYPE=image/jpeg:https://elasyoga.com/wp-content/uploads/2024/12/Grandio_ElasYogaStudio_105.jpg
END:VEVENT
BEGIN:VEVENT
DTSTART;TZID=Europe/Helsinki:20260318T203000
DTEND;TZID=Europe/Helsinki:20260318T213000
DTSTAMP:20260421T133836
CREATED:20250513T111858Z
LAST-MODIFIED:20250513T121231Z
UID:10035743-1773865800-1773869400@elasyoga.com
SUMMARY:Barré Fit Miércoles - ONLINE
DESCRIPTION:Barré Fit es una clase que combina elementos de ballet\, pilates y entrenamiento de fuerza\, enfocándose en tonificar y fortalecer el cuerpo de manera integral. Utilizando una barra como apoyo\, esta práctica se centra en movimientos de bajo impacto que mejoran la postura\, la flexibilidad y la resistencia. ONLINE
URL:https://elasyoga.com/clase/barre-fit-miercoles-online/2026-03-18/
LOCATION:ELAS\, M CASTAÑA\, LUGO\, LUGO\, 27002\, España
CATEGORIES:Pilates
ATTACH;FMTTYPE=image/jpeg:https://elasyoga.com/wp-content/uploads/2024/12/Grandio_ElasYogaStudio_105.jpg
END:VEVENT
BEGIN:VEVENT
DTSTART;TZID=Europe/Helsinki:20260318T203000
DTEND;TZID=Europe/Helsinki:20260318T213000
DTSTAMP:20260421T133836
CREATED:20241202T172036Z
LAST-MODIFIED:20250604T200622Z
UID:10022499-1773865800-1773869400@elasyoga.com
SUMMARY:Barré Fit Miércoles
DESCRIPTION:Barré Fit es una clase que combina elementos de ballet\, pilates y entrenamiento de fuerza\, enfocándose en tonificar y fortalecer el cuerpo de manera integral. Utilizando una barra como apoyo\, esta práctica se centra en movimientos de bajo impacto que mejoran la postura\, la flexibilidad y la resistencia.
URL:https://elasyoga.com/clase/barre-fit-miercoles/2026-03-18/
LOCATION:ELAS\, M CASTAÑA\, LUGO\, LUGO\, 27002\, España
CATEGORIES:Pilates
ATTACH;FMTTYPE=image/jpeg:https://elasyoga.com/wp-content/uploads/2024/12/Grandio_ElasYogaStudio_105.jpg
END:VEVENT
END:VCALENDAR