BEGIN:VCALENDAR
VERSION:2.0
PRODID:-//Elas Yoga Estudio - ECPv6.3.1//NONSGML v1.0//EN
CALSCALE:GREGORIAN
METHOD:PUBLISH
X-WR-CALNAME:Elas Yoga Estudio
X-ORIGINAL-URL:https://elasyoga.com
X-WR-CALDESC:Eventos para Elas Yoga Estudio
REFRESH-INTERVAL;VALUE=DURATION:PT1H
X-Robots-Tag:noindex
X-PUBLISHED-TTL:PT1H
BEGIN:VTIMEZONE
TZID:Europe/Helsinki
BEGIN:DAYLIGHT
TZOFFSETFROM:+0200
TZOFFSETTO:+0300
TZNAME:EEST
DTSTART:20260329T010000
END:DAYLIGHT
BEGIN:STANDARD
TZOFFSETFROM:+0300
TZOFFSETTO:+0200
TZNAME:EET
DTSTART:20261025T010000
END:STANDARD
END:VTIMEZONE
BEGIN:VEVENT
DTSTART;TZID=Europe/Helsinki:20260406T100000
DTEND;TZID=Europe/Helsinki:20260406T110000
DTSTAMP:20260420T012530
CREATED:20250505T105941Z
LAST-MODIFIED:20250505T105941Z
UID:10034121-1775469600-1775473200@elasyoga.com
SUMMARY:Yoga Lunar Lunes Mñn
DESCRIPTION:Yoga Lunar es una práctica que se alinea con los ciclos de la luna\, enfocándose en la conexión con la energía femenina y los ritmos naturales del cuerpo. Durante la clase\, se utilizan posturas\, respiración consciente y meditación para fomentar la introspección y el equilibrio emocional.
URL:https://elasyoga.com/clase/yoga-para-la-flexibilidad-3-2/2026-04-06/
CATEGORIES:Yoga
ATTACH;FMTTYPE=image/jpeg:https://elasyoga.com/wp-content/uploads/2024/11/Grandio_ElasYogaStudio_020-1-e1739210374620.jpg
END:VEVENT
BEGIN:VEVENT
DTSTART;TZID=Europe/Helsinki:20260406T100000
DTEND;TZID=Europe/Helsinki:20260406T110000
DTSTAMP:20260420T012530
CREATED:20250513T111327Z
LAST-MODIFIED:20250513T120912Z
UID:10034382-1775469600-1775473200@elasyoga.com
SUMMARY:Yoga Lunar Luns Mñn - ONLINE
DESCRIPTION:Yoga Lunar es una práctica que se alinea con los ciclos de la luna\, enfocándose en la conexión con la energía femenina y los ritmos naturales del cuerpo. Durante la clase\, se utilizan posturas\, respiración consciente y meditación para fomentar la introspección y el equilibrio emocional. ONLINE
URL:https://elasyoga.com/clase/yoga-lunar-luns-mnn-online/2026-04-06/
CATEGORIES:Yoga
ATTACH;FMTTYPE=image/jpeg:https://elasyoga.com/wp-content/uploads/2024/11/Grandio_ElasYogaStudio_020-1-e1739210374620.jpg
END:VEVENT
BEGIN:VEVENT
DTSTART;TZID=Europe/Helsinki:20260406T173000
DTEND;TZID=Europe/Helsinki:20260406T183000
DTSTAMP:20260420T012530
CREATED:20240418T102435Z
LAST-MODIFIED:20250325T084023Z
UID:10011109-1775496600-1775500200@elasyoga.com
SUMMARY:Yoga Restaurativo Lunes
DESCRIPTION:Yoga Restaurativo es una práctica suave y contemplativa que se centra en la relajación profunda y la restauración del cuerpo y la mente. Utiliza posturas sostenidas durante períodos prolongados\, apoyadas con props como mantas\, bloques y cojines\, para facilitar una experiencia de bienestar total. \n 
URL:https://elasyoga.com/clase/yoga-para-la-espalda/2026-04-06/
CATEGORIES:Yoga
ATTACH;FMTTYPE=image/jpeg:https://elasyoga.com/wp-content/uploads/2024/11/Grandio_ElasYogaStudio_020-1-e1739210374620.jpg
END:VEVENT
BEGIN:VEVENT
DTSTART;TZID=Europe/Helsinki:20260406T190000
DTEND;TZID=Europe/Helsinki:20260406T200000
DTSTAMP:20260420T012530
CREATED:20240418T103402Z
LAST-MODIFIED:20250325T085245Z
UID:10011679-1775502000-1775505600@elasyoga.com
SUMMARY:Yogar Lunar Lunes
DESCRIPTION:Yoga Lunar es una práctica que se alinea con los ciclos de la luna\, enfocándose en la conexión con la energía femenina y los ritmos naturales del cuerpo. Durante la clase\, se utilizan posturas\, respiración consciente y meditación para fomentar la introspección y el equilibrio emocional.
URL:https://elasyoga.com/clase/yoga-para-el-estres/2026-04-06/
CATEGORIES:Yoga
ATTACH;FMTTYPE=image/jpeg:https://elasyoga.com/wp-content/uploads/2024/11/Grandio_ElasYogaStudio_020-1-e1739210374620.jpg
END:VEVENT
BEGIN:VEVENT
DTSTART;TZID=Europe/Helsinki:20260406T190000
DTEND;TZID=Europe/Helsinki:20260406T200000
DTSTAMP:20260420T012530
CREATED:20250513T112618Z
LAST-MODIFIED:20250513T121534Z
UID:10037265-1775502000-1775505600@elasyoga.com
SUMMARY:Yogar Lunar Lunes - ONLINE
DESCRIPTION:Yoga Lunar es una práctica que se alinea con los ciclos de la luna\, enfocándose en la conexión con la energía femenina y los ritmos naturales del cuerpo. Durante la clase\, se utilizan posturas\, respiración consciente y meditación para fomentar la introspección y el equilibrio emocional. ONLINE
URL:https://elasyoga.com/clase/yogar-lunar-lunes-online/2026-04-06/
CATEGORIES:Yoga
ATTACH;FMTTYPE=image/jpeg:https://elasyoga.com/wp-content/uploads/2024/11/Grandio_ElasYogaStudio_020-1-e1739210374620.jpg
END:VEVENT
BEGIN:VEVENT
DTSTART;TZID=Europe/Helsinki:20260406T200000
DTEND;TZID=Europe/Helsinki:20260406T210000
DTSTAMP:20260420T012530
CREATED:20241106T130437Z
LAST-MODIFIED:20250325T084133Z
UID:10032417-1775505600-1775509200@elasyoga.com
SUMMARY:Vinyasa Yoga Lunes
DESCRIPTION:Vinyasa Yoga es una práctica dinámica que conecta el movimiento con la respiración\, creando una secuencia fluida de posturas (asanas). Cada movimiento se sincroniza con una inhalación o exhalación\, lo que permite una experiencia meditativa y energizante.
URL:https://elasyoga.com/clase/vinyasa-yoga-lunes/2026-04-06/
CATEGORIES:Yoga
ATTACH;FMTTYPE=image/jpeg:https://elasyoga.com/wp-content/uploads/2024/11/Grandio_ElasYogaStudio_020-1-e1739210374620.jpg
END:VEVENT
BEGIN:VEVENT
DTSTART;TZID=Europe/Helsinki:20260406T203000
DTEND;TZID=Europe/Helsinki:20260406T213000
DTSTAMP:20260420T012530
CREATED:20241202T171722Z
LAST-MODIFIED:20250604T200848Z
UID:10021458-1775507400-1775511000@elasyoga.com
SUMMARY:Barré Fit Lunes
DESCRIPTION:Barré Fit es una clase que combina elementos de ballet\, pilates y entrenamiento de fuerza\, enfocándose en tonificar y fortalecer el cuerpo de manera integral. Utilizando una barra como apoyo\, esta práctica se centra en movimientos de bajo impacto que mejoran la postura\, la flexibilidad y la resistencia.
URL:https://elasyoga.com/clase/barre-fit-lunes/2026-04-06/
LOCATION:ELAS\, M CASTAÑA\, LUGO\, LUGO\, 27002\, España
CATEGORIES:Pilates
ATTACH;FMTTYPE=image/jpeg:https://elasyoga.com/wp-content/uploads/2024/12/Grandio_ElasYogaStudio_105.jpg
END:VEVENT
BEGIN:VEVENT
DTSTART;TZID=Europe/Helsinki:20260406T203000
DTEND;TZID=Europe/Helsinki:20260406T213000
DTSTAMP:20260420T012530
CREATED:20250513T112004Z
LAST-MODIFIED:20250513T121306Z
UID:10036030-1775507400-1775511000@elasyoga.com
SUMMARY:Barré Fit Lunes - ONLINE
DESCRIPTION:Barré Fit es una clase que combina elementos de ballet\, pilates y entrenamiento de fuerza\, enfocándose en tonificar y fortalecer el cuerpo de manera integral. Utilizando una barra como apoyo\, esta práctica se centra en movimientos de bajo impacto que mejoran la postura\, la flexibilidad y la resistencia. ONLINE
URL:https://elasyoga.com/clase/barre-fit-lunes-online/2026-04-06/
LOCATION:ELAS\, M CASTAÑA\, LUGO\, LUGO\, 27002\, España
CATEGORIES:Pilates
ATTACH;FMTTYPE=image/jpeg:https://elasyoga.com/wp-content/uploads/2024/12/Grandio_ElasYogaStudio_105.jpg
END:VEVENT
BEGIN:VEVENT
DTSTART;TZID=Europe/Helsinki:20260407T180000
DTEND;TZID=Europe/Helsinki:20260407T183000
DTSTAMP:20260420T012530
CREATED:20240418T171457Z
LAST-MODIFIED:20250325T090046Z
UID:10015401-1775584800-1775586600@elasyoga.com
SUMMARY:Meditación Mindfulness Martes
DESCRIPTION:Sesión de 30 minutos. Meditación es una práctica mental que busca cultivar la atención plena y la concentración\, promoviendo un estado de calma y claridad. A través de técnicas como la respiración consciente\, la visualización o el enfoque en un mantra\, la meditación ayuda a reducir el estrés\, mejorar la salud mental y fomentar la conexión interior.
URL:https://elasyoga.com/clase/meditacion-guiada-2/2026-04-07/
CATEGORIES:Meditación
ATTACH;FMTTYPE=image/webp:https://elasyoga.com/wp-content/uploads/2024/08/Grandio_ElasYogaStudio_097-e1739293051199.webp
END:VEVENT
BEGIN:VEVENT
DTSTART;TZID=Europe/Helsinki:20260407T183000
DTEND;TZID=Europe/Helsinki:20260407T193000
DTSTAMP:20260420T012530
CREATED:20240422T171935Z
LAST-MODIFIED:20250325T085824Z
UID:10006932-1775586600-1775590200@elasyoga.com
SUMMARY:Hatha Yoga Martes
DESCRIPTION:Hatha Yoga es una práctica clásica que combina posturas (asanas)\, técnicas de respiración (pranayama) y meditación para promover el equilibrio entre el cuerpo y la mente. Se enfoca en el desarrollo de la fuerza\, la flexibilidad y la concentración a través de movimientos controlados.
URL:https://elasyoga.com/clase/hatha-yoga-martes/2026-04-07/
CATEGORIES:Yoga
ATTACH;FMTTYPE=image/jpeg:https://elasyoga.com/wp-content/uploads/2024/11/Grandio_ElasYogaStudio_020-1-e1739210374620.jpg
END:VEVENT
BEGIN:VEVENT
DTSTART;TZID=Europe/Helsinki:20260407T193000
DTEND;TZID=Europe/Helsinki:20260407T203000
DTSTAMP:20260420T012530
CREATED:20250513T112052Z
LAST-MODIFIED:20250513T121342Z
UID:10036317-1775590200-1775593800@elasyoga.com
SUMMARY:Yoga Lunar Martes - ONLINE
DESCRIPTION:Yoga Lunar es una práctica que se alinea con los ciclos de la luna\, enfocándose en la conexión con la energía femenina y los ritmos naturales del cuerpo. Durante la clase\, se utilizan posturas\, respiración consciente y meditación para fomentar la introspección y el equilibrio emocional. ONLINE
URL:https://elasyoga.com/clase/yoga-lunar-martes-online/2026-04-07/
CATEGORIES:Yoga
ATTACH;FMTTYPE=image/jpeg:https://elasyoga.com/wp-content/uploads/2024/11/Grandio_ElasYogaStudio_020-1-e1739210374620.jpg
END:VEVENT
BEGIN:VEVENT
DTSTART;TZID=Europe/Helsinki:20260407T203000
DTEND;TZID=Europe/Helsinki:20260407T213000
DTSTAMP:20260420T012530
CREATED:20240422T172756Z
LAST-MODIFIED:20250325T085624Z
UID:10031023-1775593800-1775597400@elasyoga.com
SUMMARY:Vinyasa Yoga Martes
DESCRIPTION:Vinyasa Yoga es una práctica dinámica que conecta el movimiento con la respiración\, creando una secuencia fluida de posturas (asanas). Cada movimiento se sincroniza con una inhalación o exhalación\, lo que permite una experiencia meditativa y energizante.
URL:https://elasyoga.com/clase/vinyasa-yoga-martes/2026-04-07/
CATEGORIES:Yoga
ATTACH;FMTTYPE=image/jpeg:https://elasyoga.com/wp-content/uploads/2024/11/Grandio_ElasYogaStudio_020-1-e1739210374620.jpg
END:VEVENT
BEGIN:VEVENT
DTSTART;TZID=Europe/Helsinki:20260408T100000
DTEND;TZID=Europe/Helsinki:20260408T110000
DTSTAMP:20260420T012530
CREATED:20250319T193206Z
LAST-MODIFIED:20250421T093049Z
UID:10033863-1775642400-1775646000@elasyoga.com
SUMMARY:Pilates Miércoles Mñn
DESCRIPTION:Pilates Power es una modalidad dinámica y energética del método Pilates que se centra en fortalecer el cuerpo\, mejorar la flexibilidad y aumentar la resistencia. Durante la clase\, se utilizan ejercicios de alta intensidad que incorporan movimientos rápidos y controlados\, lo que permite trabajar diferentes grupos musculares de manera efectiva.
URL:https://elasyoga.com/clase/pilates-miercoles-con-marta/2026-04-08/
CATEGORIES:Pilates
ATTACH;FMTTYPE=image/jpeg:https://elasyoga.com/wp-content/uploads/2025/01/Grandio_ElasYogaStudio_145-e1739302815502.jpg
END:VEVENT
BEGIN:VEVENT
DTSTART;TZID=Europe/Helsinki:20260408T100000
DTEND;TZID=Europe/Helsinki:20260408T110000
DTSTAMP:20260420T012530
CREATED:20250513T111457Z
LAST-MODIFIED:20250513T120938Z
UID:10034651-1775642400-1775646000@elasyoga.com
SUMMARY:Pilates Miérc. Mñn - ONLINE
DESCRIPTION:Pilates Power es una modalidad dinámica y energética del método Pilates que se centra en fortalecer el cuerpo\, mejorar la flexibilidad y aumentar la resistencia. Durante la clase\, se utilizan ejercicios de alta intensidad que incorporan movimientos rápidos y controlados\, lo que permite trabajar diferentes grupos musculares de manera efectiva. ONLINE
URL:https://elasyoga.com/clase/pilates-mierc-mnn-online/2026-04-08/
CATEGORIES:Pilates
ATTACH;FMTTYPE=image/jpeg:https://elasyoga.com/wp-content/uploads/2025/01/Grandio_ElasYogaStudio_145-e1739302815502.jpg
END:VEVENT
BEGIN:VEVENT
DTSTART;TZID=Europe/Helsinki:20260408T170000
DTEND;TZID=Europe/Helsinki:20260408T180000
DTSTAMP:20260420T012530
CREATED:20250317T173222Z
LAST-MODIFIED:20250325T195648Z
UID:10033032-1775667600-1775671200@elasyoga.com
SUMMARY:Vinyasa Yoga Miércoles
DESCRIPTION:Vinyasa Yoga es una práctica dinámica que conecta el movimiento con la respiración\, creando una secuencia fluida de posturas (asanas). Cada movimiento se sincroniza con una inhalación o exhalación\, lo que permite una experiencia meditativa y energizante.
URL:https://elasyoga.com/clase/vinyasa-yoga-miercoles-2/2026-04-08/
CATEGORIES:Yoga
ATTACH;FMTTYPE=image/jpeg:https://elasyoga.com/wp-content/uploads/2024/11/Grandio_ElasYogaStudio_020-1-e1739210374620.jpg
END:VEVENT
BEGIN:VEVENT
DTSTART;TZID=Europe/Helsinki:20260408T203000
DTEND;TZID=Europe/Helsinki:20260408T213000
DTSTAMP:20260420T012530
CREATED:20241202T172036Z
LAST-MODIFIED:20250604T200622Z
UID:10022502-1775680200-1775683800@elasyoga.com
SUMMARY:Barré Fit Miércoles
DESCRIPTION:Barré Fit es una clase que combina elementos de ballet\, pilates y entrenamiento de fuerza\, enfocándose en tonificar y fortalecer el cuerpo de manera integral. Utilizando una barra como apoyo\, esta práctica se centra en movimientos de bajo impacto que mejoran la postura\, la flexibilidad y la resistencia.
URL:https://elasyoga.com/clase/barre-fit-miercoles/2026-04-08/
LOCATION:ELAS\, M CASTAÑA\, LUGO\, LUGO\, 27002\, España
CATEGORIES:Pilates
ATTACH;FMTTYPE=image/jpeg:https://elasyoga.com/wp-content/uploads/2024/12/Grandio_ElasYogaStudio_105.jpg
END:VEVENT
BEGIN:VEVENT
DTSTART;TZID=Europe/Helsinki:20260408T203000
DTEND;TZID=Europe/Helsinki:20260408T213000
DTSTAMP:20260420T012530
CREATED:20250513T111858Z
LAST-MODIFIED:20250513T121231Z
UID:10035746-1775680200-1775683800@elasyoga.com
SUMMARY:Barré Fit Miércoles - ONLINE
DESCRIPTION:Barré Fit es una clase que combina elementos de ballet\, pilates y entrenamiento de fuerza\, enfocándose en tonificar y fortalecer el cuerpo de manera integral. Utilizando una barra como apoyo\, esta práctica se centra en movimientos de bajo impacto que mejoran la postura\, la flexibilidad y la resistencia. ONLINE
URL:https://elasyoga.com/clase/barre-fit-miercoles-online/2026-04-08/
LOCATION:ELAS\, M CASTAÑA\, LUGO\, LUGO\, 27002\, España
CATEGORIES:Pilates
ATTACH;FMTTYPE=image/jpeg:https://elasyoga.com/wp-content/uploads/2024/12/Grandio_ElasYogaStudio_105.jpg
END:VEVENT
BEGIN:VEVENT
DTSTART;TZID=Europe/Helsinki:20260408T204500
DTEND;TZID=Europe/Helsinki:20260408T214500
DTSTAMP:20260420T012530
CREATED:20240419T074953Z
LAST-MODIFIED:20250325T203756Z
UID:10033341-1775681100-1775684700@elasyoga.com
SUMMARY:Yoga Lunar Miércoles
DESCRIPTION:Yoga Lunar es una práctica que se alinea con los ciclos de la luna\, enfocándose en la conexión con la energía femenina y los ritmos naturales del cuerpo. Durante la clase\, se utilizan posturas suaves\, respiración consciente y meditación para fomentar la introspección y el equilibrio emocional.
URL:https://elasyoga.com/clase/yoga-restaurativo/2026-04-08/
CATEGORIES:Yoga
ATTACH;FMTTYPE=image/jpeg:https://elasyoga.com/wp-content/uploads/2024/11/Grandio_ElasYogaStudio_020-1-e1739210374620.jpg
END:VEVENT
BEGIN:VEVENT
DTSTART;TZID=Europe/Helsinki:20260408T204500
DTEND;TZID=Europe/Helsinki:20260408T214500
DTSTAMP:20260420T012530
CREATED:20250513T112517Z
LAST-MODIFIED:20250513T121458Z
UID:10036949-1775681100-1775684700@elasyoga.com
SUMMARY:Yoga Lunar Miércoles - ONLINE
DESCRIPTION:Yoga Lunar es una práctica que se alinea con los ciclos de la luna\, enfocándose en la conexión con la energía femenina y los ritmos naturales del cuerpo. Durante la clase\, se utilizan posturas suaves\, respiración consciente y meditación para fomentar la introspección y el equilibrio emocional. ONLINE
URL:https://elasyoga.com/clase/yoga-lunar-miercoles-online/2026-04-08/
CATEGORIES:Yoga
ATTACH;FMTTYPE=image/jpeg:https://elasyoga.com/wp-content/uploads/2024/11/Grandio_ElasYogaStudio_020-1-e1739210374620.jpg
END:VEVENT
BEGIN:VEVENT
DTSTART;TZID=Europe/Helsinki:20260409T173000
DTEND;TZID=Europe/Helsinki:20260409T183000
DTSTAMP:20260420T012530
CREATED:20240422T172300Z
LAST-MODIFIED:20250325T092006Z
UID:10023945-1775755800-1775759400@elasyoga.com
SUMMARY:Hatha Yoga Jueves
DESCRIPTION:Hatha Yoga es una práctica clásica que combina posturas (asanas)\, técnicas de respiración (pranayama) y meditación para promover el equilibrio entre el cuerpo y la mente. Se enfoca en el desarrollo de la fuerza\, la flexibilidad y la concentración a través de movimientos controlados.
URL:https://elasyoga.com/clase/hatha-yoga-jueves/2026-04-09/
CATEGORIES:Yoga
ATTACH;FMTTYPE=image/jpeg:https://elasyoga.com/wp-content/uploads/2024/11/Grandio_ElasYogaStudio_020-1-e1739210374620.jpg
END:VEVENT
BEGIN:VEVENT
DTSTART;TZID=Europe/Helsinki:20260409T190000
DTEND;TZID=Europe/Helsinki:20260409T200000
DTSTAMP:20260420T012530
CREATED:20240419T081134Z
LAST-MODIFIED:20250325T092231Z
UID:10006150-1775761200-1775764800@elasyoga.com
SUMMARY:Yoga Lunar Jueves
DESCRIPTION:Yoga Lunar es una práctica que se alinea con los ciclos de la luna\, enfocándose en la conexión con la energía femenina y los ritmos naturales del cuerpo. Durante la clase\, se utilizan posturas\, respiración consciente y meditación para fomentar la introspección y el equilibrio emocional.ca
URL:https://elasyoga.com/clase/yoga-lunar/2026-04-09/
CATEGORIES:Yoga
ATTACH;FMTTYPE=image/jpeg:https://elasyoga.com/wp-content/uploads/2024/11/Grandio_ElasYogaStudio_020-1-e1739210374620.jpg
END:VEVENT
BEGIN:VEVENT
DTSTART;TZID=Europe/Helsinki:20260409T190000
DTEND;TZID=Europe/Helsinki:20260409T200000
DTSTAMP:20260420T012530
CREATED:20250320T082235Z
LAST-MODIFIED:20250326T101018Z
UID:10033602-1775761200-1775764800@elasyoga.com
SUMMARY:Pilates Jueves
DESCRIPTION:Pilates Power es una modalidad dinámica y energética del método Pilates que se centra en fortalecer el cuerpo\, mejorar la flexibilidad y aumentar la resistencia. Durante la clase\, se utilizan ejercicios de alta intensidad que incorporan movimientos rápidos y controlados\, lo que permite trabajar diferentes grupos musculares de manera efectiva
URL:https://elasyoga.com/clase/pilates-jueves-3/2026-04-09/
CATEGORIES:Pilates
ATTACH;FMTTYPE=image/jpeg:https://elasyoga.com/wp-content/uploads/2025/01/Grandio_ElasYogaStudio_145-e1739302815502.jpg
END:VEVENT
BEGIN:VEVENT
DTSTART;TZID=Europe/Helsinki:20260409T190000
DTEND;TZID=Europe/Helsinki:20260409T200000
DTSTAMP:20260420T012530
CREATED:20250513T111726Z
LAST-MODIFIED:20250513T121120Z
UID:10035189-1775761200-1775764800@elasyoga.com
SUMMARY:Pilates Jueves - ONLINE
DESCRIPTION:Pilates Power es una modalidad dinámica y energética del método Pilates que se centra en fortalecer el cuerpo\, mejorar la flexibilidad y aumentar la resistencia. Durante la clase\, se utilizan ejercicios de alta intensidad que incorporan movimientos rápidos y controlados\, lo que permite trabajar diferentes grupos musculares de manera efectiva. ONLINE
URL:https://elasyoga.com/clase/pilates-jueves-online/2026-04-09/
CATEGORIES:Pilates
ATTACH;FMTTYPE=image/jpeg:https://elasyoga.com/wp-content/uploads/2025/01/Grandio_ElasYogaStudio_145-e1739302815502.jpg
END:VEVENT
BEGIN:VEVENT
DTSTART;TZID=Europe/Helsinki:20260409T190000
DTEND;TZID=Europe/Helsinki:20260409T200000
DTSTAMP:20260420T012530
CREATED:20250513T112412Z
LAST-MODIFIED:20250513T121429Z
UID:10036633-1775761200-1775764800@elasyoga.com
SUMMARY:Yoga Lunar Jueves - ONLINE
DESCRIPTION:Yoga Lunar es una práctica que se alinea con los ciclos de la luna\, enfocándose en la conexión con la energía femenina y los ritmos naturales del cuerpo. Durante la clase\, se utilizan posturas\, respiración consciente y meditación para fomentar la introspección y el equilibrio emocional. ONLINE
URL:https://elasyoga.com/clase/yoga-lunar-jueves-online/2026-04-09/
CATEGORIES:Yoga
ATTACH;FMTTYPE=image/jpeg:https://elasyoga.com/wp-content/uploads/2024/11/Grandio_ElasYogaStudio_020-1-e1739210374620.jpg
END:VEVENT
BEGIN:VEVENT
DTSTART;TZID=Europe/Helsinki:20260409T200000
DTEND;TZID=Europe/Helsinki:20260409T210000
DTSTAMP:20260420T012530
CREATED:20240422T173434Z
LAST-MODIFIED:20250325T091820Z
UID:10008237-1775764800-1775768400@elasyoga.com
SUMMARY:Vinyasa Yoga Jueves
DESCRIPTION:Vinyasa Yoga es una práctica dinámica que conecta el movimiento con la respiración\, creando una secuencia fluida de posturas (asanas). Cada movimiento se sincroniza con una inhalación o exhalación\, lo que permite una experiencia meditativa y energizante.
URL:https://elasyoga.com/clase/vinyasa-yoga-jueves/2026-04-09/
CATEGORIES:Yoga
ATTACH;FMTTYPE=image/jpeg:https://elasyoga.com/wp-content/uploads/2024/11/Grandio_ElasYogaStudio_020-1-e1739210374620.jpg
END:VEVENT
BEGIN:VEVENT
DTSTART;TZID=Europe/Helsinki:20260410T170000
DTEND;TZID=Europe/Helsinki:20260410T180000
DTSTAMP:20260420T012530
CREATED:20250226T103007Z
LAST-MODIFIED:20250325T092900Z
UID:10030454-1775840400-1775844000@elasyoga.com
SUMMARY:Yoga Lunar Viernes
DESCRIPTION:Yoga Lunar es una práctica que se alinea con los ciclos de la luna\, enfocándose en la conexión con la energía femenina y los ritmos naturales del cuerpo. Durante la clase\, se utilizan posturas suaves\, respiración consciente y meditación para fomentar la introspección y el equilibrio emocional.
URL:https://elasyoga.com/clase/yoga-lunar-viernes/2026-04-10/
CATEGORIES:Yoga
ATTACH;FMTTYPE=image/jpeg:https://elasyoga.com/wp-content/uploads/2024/11/Grandio_ElasYogaStudio_020-1-e1739210374620.jpg
END:VEVENT
BEGIN:VEVENT
DTSTART;TZID=Europe/Helsinki:20260410T170000
DTEND;TZID=Europe/Helsinki:20260410T180000
DTSTAMP:20260420T012530
CREATED:20250513T111818Z
LAST-MODIFIED:20250513T121152Z
UID:10035462-1775840400-1775844000@elasyoga.com
SUMMARY:Yoga Lunar Viernes - ONLINE
DESCRIPTION:Yoga Lunar es una práctica que se alinea con los ciclos de la luna\, enfocándose en la conexión con la energía femenina y los ritmos naturales del cuerpo. Durante la clase\, se utilizan posturas suaves\, respiración consciente y meditación para fomentar la introspección y el equilibrio emocional. ONLINE
URL:https://elasyoga.com/clase/yoga-lunar-viernes-online/2026-04-10/
CATEGORIES:Yoga
ATTACH;FMTTYPE=image/jpeg:https://elasyoga.com/wp-content/uploads/2024/11/Grandio_ElasYogaStudio_020-1-e1739210374620.jpg
END:VEVENT
BEGIN:VEVENT
DTSTART;TZID=Europe/Helsinki:20260410T180000
DTEND;TZID=Europe/Helsinki:20260410T190000
DTSTAMP:20260420T012530
CREATED:20240419T100214Z
LAST-MODIFIED:20250325T122534Z
UID:10006672-1775844000-1775847600@elasyoga.com
SUMMARY:Yoga para Espalda Viernes
DESCRIPTION:Yoga para la Espalda es una práctica diseñada específicamente para aliviar tensiones\, mejorar la flexibilidad y fortalecer los músculos de la columna vertebral. A través de posturas suaves y estiramientos\, esta práctica ayuda a corregir la postura\, reducir el dolor y promover una mayor movilidad. \n 
URL:https://elasyoga.com/clase/yoga-para-la-espalda-viernes/2026-04-10/
CATEGORIES:Yoga
ATTACH;FMTTYPE=image/jpeg:https://elasyoga.com/wp-content/uploads/2024/11/Grandio_ElasYogaStudio_020-1-e1739210374620.jpg
END:VEVENT
BEGIN:VEVENT
DTSTART;TZID=Europe/Helsinki:20260410T190000
DTEND;TZID=Europe/Helsinki:20260410T200000
DTSTAMP:20260420T012530
CREATED:20250319T115656Z
LAST-MODIFIED:20250604T200801Z
UID:10029924-1775847600-1775851200@elasyoga.com
SUMMARY:Barré Fit Viernes
DESCRIPTION:Barré Fit es una clase que combina elementos de ballet\, pilates y entrenamiento de fuerza\, enfocándose en tonificar y fortalecer el cuerpo de manera integral. Utilizando una barra como apoyo\, esta práctica se centra en movimientos de bajo impacto que mejoran la postura\, la flexibilidad y la resistencia.
URL:https://elasyoga.com/clase/barre-fit-viernes-2/2026-04-10/
LOCATION:ELAS\, M CASTAÑA\, LUGO\, LUGO\, 27002\, España
CATEGORIES:Pilates
ATTACH;FMTTYPE=image/jpeg:https://elasyoga.com/wp-content/uploads/2024/12/Grandio_ElasYogaStudio_105.jpg
END:VEVENT
BEGIN:VEVENT
DTSTART;TZID=Europe/Helsinki:20260410T190000
DTEND;TZID=Europe/Helsinki:20260410T200000
DTSTAMP:20260420T012530
CREATED:20250513T111614Z
LAST-MODIFIED:20250513T121049Z
UID:10034920-1775847600-1775851200@elasyoga.com
SUMMARY:Barré Fit Viernes - ONLINE
DESCRIPTION:Barré Fit es una clase que combina elementos de ballet\, pilates y entrenamiento de fuerza\, enfocándose en tonificar y fortalecer el cuerpo de manera integral. Utilizando una barra como apoyo\, esta práctica se centra en movimientos de bajo impacto que mejoran la postura\, la flexibilidad y la resistencia. ONLINE
URL:https://elasyoga.com/clase/barre-fit-viernes-online/2026-04-10/
LOCATION:ELAS\, M CASTAÑA\, LUGO\, LUGO\, 27002\, España
CATEGORIES:Pilates
ATTACH;FMTTYPE=image/jpeg:https://elasyoga.com/wp-content/uploads/2024/12/Grandio_ElasYogaStudio_105.jpg
END:VEVENT
END:VCALENDAR