BEGIN:VCALENDAR
VERSION:2.0
PRODID:-//Elas Yoga Estudio - ECPv6.3.1//NONSGML v1.0//EN
CALSCALE:GREGORIAN
METHOD:PUBLISH
X-ORIGINAL-URL:https://elasyoga.com
X-WR-CALDESC:Eventos para Elas Yoga Estudio
REFRESH-INTERVAL;VALUE=DURATION:PT1H
X-Robots-Tag:noindex
X-PUBLISHED-TTL:PT1H
BEGIN:VTIMEZONE
TZID:Europe/Helsinki
BEGIN:DAYLIGHT
TZOFFSETFROM:+0200
TZOFFSETTO:+0300
TZNAME:EEST
DTSTART:20260329T010000
END:DAYLIGHT
BEGIN:STANDARD
TZOFFSETFROM:+0300
TZOFFSETTO:+0200
TZNAME:EET
DTSTART:20261025T010000
END:STANDARD
END:VTIMEZONE
BEGIN:VEVENT
DTSTART;TZID=Europe/Helsinki:20260422T203000
DTEND;TZID=Europe/Helsinki:20260422T213000
DTSTAMP:20260419T182421
CREATED:20250513T111858Z
LAST-MODIFIED:20250513T121231Z
UID:10035748-1776889800-1776893400@elasyoga.com
SUMMARY:Barré Fit Miércoles - ONLINE
DESCRIPTION:Barré Fit es una clase que combina elementos de ballet\, pilates y entrenamiento de fuerza\, enfocándose en tonificar y fortalecer el cuerpo de manera integral. Utilizando una barra como apoyo\, esta práctica se centra en movimientos de bajo impacto que mejoran la postura\, la flexibilidad y la resistencia. ONLINE
URL:https://elasyoga.com/clase/barre-fit-miercoles-online/2026-04-22/
LOCATION:ELAS\, M CASTAÑA\, LUGO\, LUGO\, 27002\, España
CATEGORIES:Pilates
ATTACH;FMTTYPE=image/jpeg:https://elasyoga.com/wp-content/uploads/2024/12/Grandio_ElasYogaStudio_105.jpg
END:VEVENT
BEGIN:VEVENT
DTSTART;TZID=Europe/Helsinki:20260429T203000
DTEND;TZID=Europe/Helsinki:20260429T213000
DTSTAMP:20260419T182421
CREATED:20250513T111858Z
LAST-MODIFIED:20250513T121231Z
UID:10035749-1777494600-1777498200@elasyoga.com
SUMMARY:Barré Fit Miércoles - ONLINE
DESCRIPTION:Barré Fit es una clase que combina elementos de ballet\, pilates y entrenamiento de fuerza\, enfocándose en tonificar y fortalecer el cuerpo de manera integral. Utilizando una barra como apoyo\, esta práctica se centra en movimientos de bajo impacto que mejoran la postura\, la flexibilidad y la resistencia. ONLINE
URL:https://elasyoga.com/clase/barre-fit-miercoles-online/2026-04-29/
LOCATION:ELAS\, M CASTAÑA\, LUGO\, LUGO\, 27002\, España
CATEGORIES:Pilates
ATTACH;FMTTYPE=image/jpeg:https://elasyoga.com/wp-content/uploads/2024/12/Grandio_ElasYogaStudio_105.jpg
END:VEVENT
BEGIN:VEVENT
DTSTART;TZID=Europe/Helsinki:20260506T203000
DTEND;TZID=Europe/Helsinki:20260506T213000
DTSTAMP:20260419T182421
CREATED:20250513T111858Z
LAST-MODIFIED:20250513T121231Z
UID:10035750-1778099400-1778103000@elasyoga.com
SUMMARY:Barré Fit Miércoles - ONLINE
DESCRIPTION:Barré Fit es una clase que combina elementos de ballet\, pilates y entrenamiento de fuerza\, enfocándose en tonificar y fortalecer el cuerpo de manera integral. Utilizando una barra como apoyo\, esta práctica se centra en movimientos de bajo impacto que mejoran la postura\, la flexibilidad y la resistencia. ONLINE
URL:https://elasyoga.com/clase/barre-fit-miercoles-online/2026-05-06/
LOCATION:ELAS\, M CASTAÑA\, LUGO\, LUGO\, 27002\, España
CATEGORIES:Pilates
ATTACH;FMTTYPE=image/jpeg:https://elasyoga.com/wp-content/uploads/2024/12/Grandio_ElasYogaStudio_105.jpg
END:VEVENT
BEGIN:VEVENT
DTSTART;TZID=Europe/Helsinki:20260513T203000
DTEND;TZID=Europe/Helsinki:20260513T213000
DTSTAMP:20260419T182421
CREATED:20250513T111858Z
LAST-MODIFIED:20250513T121231Z
UID:10035751-1778704200-1778707800@elasyoga.com
SUMMARY:Barré Fit Miércoles - ONLINE
DESCRIPTION:Barré Fit es una clase que combina elementos de ballet\, pilates y entrenamiento de fuerza\, enfocándose en tonificar y fortalecer el cuerpo de manera integral. Utilizando una barra como apoyo\, esta práctica se centra en movimientos de bajo impacto que mejoran la postura\, la flexibilidad y la resistencia. ONLINE
URL:https://elasyoga.com/clase/barre-fit-miercoles-online/2026-05-13/
LOCATION:ELAS\, M CASTAÑA\, LUGO\, LUGO\, 27002\, España
CATEGORIES:Pilates
ATTACH;FMTTYPE=image/jpeg:https://elasyoga.com/wp-content/uploads/2024/12/Grandio_ElasYogaStudio_105.jpg
END:VEVENT
BEGIN:VEVENT
DTSTART;TZID=Europe/Helsinki:20260520T203000
DTEND;TZID=Europe/Helsinki:20260520T213000
DTSTAMP:20260419T182421
CREATED:20250513T111858Z
LAST-MODIFIED:20250513T121231Z
UID:10035752-1779309000-1779312600@elasyoga.com
SUMMARY:Barré Fit Miércoles - ONLINE
DESCRIPTION:Barré Fit es una clase que combina elementos de ballet\, pilates y entrenamiento de fuerza\, enfocándose en tonificar y fortalecer el cuerpo de manera integral. Utilizando una barra como apoyo\, esta práctica se centra en movimientos de bajo impacto que mejoran la postura\, la flexibilidad y la resistencia. ONLINE
URL:https://elasyoga.com/clase/barre-fit-miercoles-online/2026-05-20/
LOCATION:ELAS\, M CASTAÑA\, LUGO\, LUGO\, 27002\, España
CATEGORIES:Pilates
ATTACH;FMTTYPE=image/jpeg:https://elasyoga.com/wp-content/uploads/2024/12/Grandio_ElasYogaStudio_105.jpg
END:VEVENT
BEGIN:VEVENT
DTSTART;TZID=Europe/Helsinki:20260527T203000
DTEND;TZID=Europe/Helsinki:20260527T213000
DTSTAMP:20260419T182421
CREATED:20250513T111858Z
LAST-MODIFIED:20250513T121231Z
UID:10035753-1779913800-1779917400@elasyoga.com
SUMMARY:Barré Fit Miércoles - ONLINE
DESCRIPTION:Barré Fit es una clase que combina elementos de ballet\, pilates y entrenamiento de fuerza\, enfocándose en tonificar y fortalecer el cuerpo de manera integral. Utilizando una barra como apoyo\, esta práctica se centra en movimientos de bajo impacto que mejoran la postura\, la flexibilidad y la resistencia. ONLINE
URL:https://elasyoga.com/clase/barre-fit-miercoles-online/2026-05-27/
LOCATION:ELAS\, M CASTAÑA\, LUGO\, LUGO\, 27002\, España
CATEGORIES:Pilates
ATTACH;FMTTYPE=image/jpeg:https://elasyoga.com/wp-content/uploads/2024/12/Grandio_ElasYogaStudio_105.jpg
END:VEVENT
BEGIN:VEVENT
DTSTART;TZID=Europe/Helsinki:20260603T203000
DTEND;TZID=Europe/Helsinki:20260603T213000
DTSTAMP:20260419T182421
CREATED:20250513T111858Z
LAST-MODIFIED:20250513T121231Z
UID:10035754-1780518600-1780522200@elasyoga.com
SUMMARY:Barré Fit Miércoles - ONLINE
DESCRIPTION:Barré Fit es una clase que combina elementos de ballet\, pilates y entrenamiento de fuerza\, enfocándose en tonificar y fortalecer el cuerpo de manera integral. Utilizando una barra como apoyo\, esta práctica se centra en movimientos de bajo impacto que mejoran la postura\, la flexibilidad y la resistencia. ONLINE
URL:https://elasyoga.com/clase/barre-fit-miercoles-online/2026-06-03/
LOCATION:ELAS\, M CASTAÑA\, LUGO\, LUGO\, 27002\, España
CATEGORIES:Pilates
ATTACH;FMTTYPE=image/jpeg:https://elasyoga.com/wp-content/uploads/2024/12/Grandio_ElasYogaStudio_105.jpg
END:VEVENT
BEGIN:VEVENT
DTSTART;TZID=Europe/Helsinki:20260610T203000
DTEND;TZID=Europe/Helsinki:20260610T213000
DTSTAMP:20260419T182421
CREATED:20250513T111858Z
LAST-MODIFIED:20250513T121231Z
UID:10035755-1781123400-1781127000@elasyoga.com
SUMMARY:Barré Fit Miércoles - ONLINE
DESCRIPTION:Barré Fit es una clase que combina elementos de ballet\, pilates y entrenamiento de fuerza\, enfocándose en tonificar y fortalecer el cuerpo de manera integral. Utilizando una barra como apoyo\, esta práctica se centra en movimientos de bajo impacto que mejoran la postura\, la flexibilidad y la resistencia. ONLINE
URL:https://elasyoga.com/clase/barre-fit-miercoles-online/2026-06-10/
LOCATION:ELAS\, M CASTAÑA\, LUGO\, LUGO\, 27002\, España
CATEGORIES:Pilates
ATTACH;FMTTYPE=image/jpeg:https://elasyoga.com/wp-content/uploads/2024/12/Grandio_ElasYogaStudio_105.jpg
END:VEVENT
BEGIN:VEVENT
DTSTART;TZID=Europe/Helsinki:20260617T203000
DTEND;TZID=Europe/Helsinki:20260617T213000
DTSTAMP:20260419T182421
CREATED:20250513T111858Z
LAST-MODIFIED:20250513T121231Z
UID:10035756-1781728200-1781731800@elasyoga.com
SUMMARY:Barré Fit Miércoles - ONLINE
DESCRIPTION:Barré Fit es una clase que combina elementos de ballet\, pilates y entrenamiento de fuerza\, enfocándose en tonificar y fortalecer el cuerpo de manera integral. Utilizando una barra como apoyo\, esta práctica se centra en movimientos de bajo impacto que mejoran la postura\, la flexibilidad y la resistencia. ONLINE
URL:https://elasyoga.com/clase/barre-fit-miercoles-online/2026-06-17/
LOCATION:ELAS\, M CASTAÑA\, LUGO\, LUGO\, 27002\, España
CATEGORIES:Pilates
ATTACH;FMTTYPE=image/jpeg:https://elasyoga.com/wp-content/uploads/2024/12/Grandio_ElasYogaStudio_105.jpg
END:VEVENT
BEGIN:VEVENT
DTSTART;TZID=Europe/Helsinki:20260624T203000
DTEND;TZID=Europe/Helsinki:20260624T213000
DTSTAMP:20260419T182421
CREATED:20250513T111858Z
LAST-MODIFIED:20250513T121231Z
UID:10035757-1782333000-1782336600@elasyoga.com
SUMMARY:Barré Fit Miércoles - ONLINE
DESCRIPTION:Barré Fit es una clase que combina elementos de ballet\, pilates y entrenamiento de fuerza\, enfocándose en tonificar y fortalecer el cuerpo de manera integral. Utilizando una barra como apoyo\, esta práctica se centra en movimientos de bajo impacto que mejoran la postura\, la flexibilidad y la resistencia. ONLINE
URL:https://elasyoga.com/clase/barre-fit-miercoles-online/2026-06-24/
LOCATION:ELAS\, M CASTAÑA\, LUGO\, LUGO\, 27002\, España
CATEGORIES:Pilates
ATTACH;FMTTYPE=image/jpeg:https://elasyoga.com/wp-content/uploads/2024/12/Grandio_ElasYogaStudio_105.jpg
END:VEVENT
BEGIN:VEVENT
DTSTART;TZID=Europe/Helsinki:20260701T203000
DTEND;TZID=Europe/Helsinki:20260701T213000
DTSTAMP:20260419T182421
CREATED:20250513T111858Z
LAST-MODIFIED:20250513T121231Z
UID:10035758-1782937800-1782941400@elasyoga.com
SUMMARY:Barré Fit Miércoles - ONLINE
DESCRIPTION:Barré Fit es una clase que combina elementos de ballet\, pilates y entrenamiento de fuerza\, enfocándose en tonificar y fortalecer el cuerpo de manera integral. Utilizando una barra como apoyo\, esta práctica se centra en movimientos de bajo impacto que mejoran la postura\, la flexibilidad y la resistencia. ONLINE
URL:https://elasyoga.com/clase/barre-fit-miercoles-online/2026-07-01/
LOCATION:ELAS\, M CASTAÑA\, LUGO\, LUGO\, 27002\, España
CATEGORIES:Pilates
ATTACH;FMTTYPE=image/jpeg:https://elasyoga.com/wp-content/uploads/2024/12/Grandio_ElasYogaStudio_105.jpg
END:VEVENT
BEGIN:VEVENT
DTSTART;TZID=Europe/Helsinki:20260708T203000
DTEND;TZID=Europe/Helsinki:20260708T213000
DTSTAMP:20260419T182421
CREATED:20250513T111858Z
LAST-MODIFIED:20250513T121231Z
UID:10035759-1783542600-1783546200@elasyoga.com
SUMMARY:Barré Fit Miércoles - ONLINE
DESCRIPTION:Barré Fit es una clase que combina elementos de ballet\, pilates y entrenamiento de fuerza\, enfocándose en tonificar y fortalecer el cuerpo de manera integral. Utilizando una barra como apoyo\, esta práctica se centra en movimientos de bajo impacto que mejoran la postura\, la flexibilidad y la resistencia. ONLINE
URL:https://elasyoga.com/clase/barre-fit-miercoles-online/2026-07-08/
LOCATION:ELAS\, M CASTAÑA\, LUGO\, LUGO\, 27002\, España
CATEGORIES:Pilates
ATTACH;FMTTYPE=image/jpeg:https://elasyoga.com/wp-content/uploads/2024/12/Grandio_ElasYogaStudio_105.jpg
END:VEVENT
BEGIN:VEVENT
DTSTART;TZID=Europe/Helsinki:20260715T203000
DTEND;TZID=Europe/Helsinki:20260715T213000
DTSTAMP:20260419T182421
CREATED:20250513T111858Z
LAST-MODIFIED:20250513T121231Z
UID:10035760-1784147400-1784151000@elasyoga.com
SUMMARY:Barré Fit Miércoles - ONLINE
DESCRIPTION:Barré Fit es una clase que combina elementos de ballet\, pilates y entrenamiento de fuerza\, enfocándose en tonificar y fortalecer el cuerpo de manera integral. Utilizando una barra como apoyo\, esta práctica se centra en movimientos de bajo impacto que mejoran la postura\, la flexibilidad y la resistencia. ONLINE
URL:https://elasyoga.com/clase/barre-fit-miercoles-online/2026-07-15/
LOCATION:ELAS\, M CASTAÑA\, LUGO\, LUGO\, 27002\, España
CATEGORIES:Pilates
ATTACH;FMTTYPE=image/jpeg:https://elasyoga.com/wp-content/uploads/2024/12/Grandio_ElasYogaStudio_105.jpg
END:VEVENT
BEGIN:VEVENT
DTSTART;TZID=Europe/Helsinki:20260722T203000
DTEND;TZID=Europe/Helsinki:20260722T213000
DTSTAMP:20260419T182421
CREATED:20250513T111858Z
LAST-MODIFIED:20250513T121231Z
UID:10035761-1784752200-1784755800@elasyoga.com
SUMMARY:Barré Fit Miércoles - ONLINE
DESCRIPTION:Barré Fit es una clase que combina elementos de ballet\, pilates y entrenamiento de fuerza\, enfocándose en tonificar y fortalecer el cuerpo de manera integral. Utilizando una barra como apoyo\, esta práctica se centra en movimientos de bajo impacto que mejoran la postura\, la flexibilidad y la resistencia. ONLINE
URL:https://elasyoga.com/clase/barre-fit-miercoles-online/2026-07-22/
LOCATION:ELAS\, M CASTAÑA\, LUGO\, LUGO\, 27002\, España
CATEGORIES:Pilates
ATTACH;FMTTYPE=image/jpeg:https://elasyoga.com/wp-content/uploads/2024/12/Grandio_ElasYogaStudio_105.jpg
END:VEVENT
BEGIN:VEVENT
DTSTART;TZID=Europe/Helsinki:20260729T203000
DTEND;TZID=Europe/Helsinki:20260729T213000
DTSTAMP:20260419T182421
CREATED:20250513T111858Z
LAST-MODIFIED:20250513T121231Z
UID:10035762-1785357000-1785360600@elasyoga.com
SUMMARY:Barré Fit Miércoles - ONLINE
DESCRIPTION:Barré Fit es una clase que combina elementos de ballet\, pilates y entrenamiento de fuerza\, enfocándose en tonificar y fortalecer el cuerpo de manera integral. Utilizando una barra como apoyo\, esta práctica se centra en movimientos de bajo impacto que mejoran la postura\, la flexibilidad y la resistencia. ONLINE
URL:https://elasyoga.com/clase/barre-fit-miercoles-online/2026-07-29/
LOCATION:ELAS\, M CASTAÑA\, LUGO\, LUGO\, 27002\, España
CATEGORIES:Pilates
ATTACH;FMTTYPE=image/jpeg:https://elasyoga.com/wp-content/uploads/2024/12/Grandio_ElasYogaStudio_105.jpg
END:VEVENT
BEGIN:VEVENT
DTSTART;TZID=Europe/Helsinki:20260805T203000
DTEND;TZID=Europe/Helsinki:20260805T213000
DTSTAMP:20260419T182421
CREATED:20250513T111858Z
LAST-MODIFIED:20250513T121231Z
UID:10035763-1785961800-1785965400@elasyoga.com
SUMMARY:Barré Fit Miércoles - ONLINE
DESCRIPTION:Barré Fit es una clase que combina elementos de ballet\, pilates y entrenamiento de fuerza\, enfocándose en tonificar y fortalecer el cuerpo de manera integral. Utilizando una barra como apoyo\, esta práctica se centra en movimientos de bajo impacto que mejoran la postura\, la flexibilidad y la resistencia. ONLINE
URL:https://elasyoga.com/clase/barre-fit-miercoles-online/2026-08-05/
LOCATION:ELAS\, M CASTAÑA\, LUGO\, LUGO\, 27002\, España
CATEGORIES:Pilates
ATTACH;FMTTYPE=image/jpeg:https://elasyoga.com/wp-content/uploads/2024/12/Grandio_ElasYogaStudio_105.jpg
END:VEVENT
BEGIN:VEVENT
DTSTART;TZID=Europe/Helsinki:20260812T203000
DTEND;TZID=Europe/Helsinki:20260812T213000
DTSTAMP:20260419T182421
CREATED:20250513T111858Z
LAST-MODIFIED:20250513T121231Z
UID:10035764-1786566600-1786570200@elasyoga.com
SUMMARY:Barré Fit Miércoles - ONLINE
DESCRIPTION:Barré Fit es una clase que combina elementos de ballet\, pilates y entrenamiento de fuerza\, enfocándose en tonificar y fortalecer el cuerpo de manera integral. Utilizando una barra como apoyo\, esta práctica se centra en movimientos de bajo impacto que mejoran la postura\, la flexibilidad y la resistencia. ONLINE
URL:https://elasyoga.com/clase/barre-fit-miercoles-online/2026-08-12/
LOCATION:ELAS\, M CASTAÑA\, LUGO\, LUGO\, 27002\, España
CATEGORIES:Pilates
ATTACH;FMTTYPE=image/jpeg:https://elasyoga.com/wp-content/uploads/2024/12/Grandio_ElasYogaStudio_105.jpg
END:VEVENT
BEGIN:VEVENT
DTSTART;TZID=Europe/Helsinki:20260819T203000
DTEND;TZID=Europe/Helsinki:20260819T213000
DTSTAMP:20260419T182421
CREATED:20250513T111858Z
LAST-MODIFIED:20250513T121231Z
UID:10035765-1787171400-1787175000@elasyoga.com
SUMMARY:Barré Fit Miércoles - ONLINE
DESCRIPTION:Barré Fit es una clase que combina elementos de ballet\, pilates y entrenamiento de fuerza\, enfocándose en tonificar y fortalecer el cuerpo de manera integral. Utilizando una barra como apoyo\, esta práctica se centra en movimientos de bajo impacto que mejoran la postura\, la flexibilidad y la resistencia. ONLINE
URL:https://elasyoga.com/clase/barre-fit-miercoles-online/2026-08-19/
LOCATION:ELAS\, M CASTAÑA\, LUGO\, LUGO\, 27002\, España
CATEGORIES:Pilates
ATTACH;FMTTYPE=image/jpeg:https://elasyoga.com/wp-content/uploads/2024/12/Grandio_ElasYogaStudio_105.jpg
END:VEVENT
BEGIN:VEVENT
DTSTART;TZID=Europe/Helsinki:20260826T203000
DTEND;TZID=Europe/Helsinki:20260826T213000
DTSTAMP:20260419T182421
CREATED:20250513T111858Z
LAST-MODIFIED:20250513T121231Z
UID:10035766-1787776200-1787779800@elasyoga.com
SUMMARY:Barré Fit Miércoles - ONLINE
DESCRIPTION:Barré Fit es una clase que combina elementos de ballet\, pilates y entrenamiento de fuerza\, enfocándose en tonificar y fortalecer el cuerpo de manera integral. Utilizando una barra como apoyo\, esta práctica se centra en movimientos de bajo impacto que mejoran la postura\, la flexibilidad y la resistencia. ONLINE
URL:https://elasyoga.com/clase/barre-fit-miercoles-online/2026-08-26/
LOCATION:ELAS\, M CASTAÑA\, LUGO\, LUGO\, 27002\, España
CATEGORIES:Pilates
ATTACH;FMTTYPE=image/jpeg:https://elasyoga.com/wp-content/uploads/2024/12/Grandio_ElasYogaStudio_105.jpg
END:VEVENT
BEGIN:VEVENT
DTSTART;TZID=Europe/Helsinki:20260902T203000
DTEND;TZID=Europe/Helsinki:20260902T213000
DTSTAMP:20260419T182421
CREATED:20250513T111858Z
LAST-MODIFIED:20250513T121231Z
UID:10035767-1788381000-1788384600@elasyoga.com
SUMMARY:Barré Fit Miércoles - ONLINE
DESCRIPTION:Barré Fit es una clase que combina elementos de ballet\, pilates y entrenamiento de fuerza\, enfocándose en tonificar y fortalecer el cuerpo de manera integral. Utilizando una barra como apoyo\, esta práctica se centra en movimientos de bajo impacto que mejoran la postura\, la flexibilidad y la resistencia. ONLINE
URL:https://elasyoga.com/clase/barre-fit-miercoles-online/2026-09-02/
LOCATION:ELAS\, M CASTAÑA\, LUGO\, LUGO\, 27002\, España
CATEGORIES:Pilates
ATTACH;FMTTYPE=image/jpeg:https://elasyoga.com/wp-content/uploads/2024/12/Grandio_ElasYogaStudio_105.jpg
END:VEVENT
BEGIN:VEVENT
DTSTART;TZID=Europe/Helsinki:20260909T203000
DTEND;TZID=Europe/Helsinki:20260909T213000
DTSTAMP:20260419T182421
CREATED:20250513T111858Z
LAST-MODIFIED:20250513T121231Z
UID:10035768-1788985800-1788989400@elasyoga.com
SUMMARY:Barré Fit Miércoles - ONLINE
DESCRIPTION:Barré Fit es una clase que combina elementos de ballet\, pilates y entrenamiento de fuerza\, enfocándose en tonificar y fortalecer el cuerpo de manera integral. Utilizando una barra como apoyo\, esta práctica se centra en movimientos de bajo impacto que mejoran la postura\, la flexibilidad y la resistencia. ONLINE
URL:https://elasyoga.com/clase/barre-fit-miercoles-online/2026-09-09/
LOCATION:ELAS\, M CASTAÑA\, LUGO\, LUGO\, 27002\, España
CATEGORIES:Pilates
ATTACH;FMTTYPE=image/jpeg:https://elasyoga.com/wp-content/uploads/2024/12/Grandio_ElasYogaStudio_105.jpg
END:VEVENT
BEGIN:VEVENT
DTSTART;TZID=Europe/Helsinki:20260916T203000
DTEND;TZID=Europe/Helsinki:20260916T213000
DTSTAMP:20260419T182421
CREATED:20250513T111858Z
LAST-MODIFIED:20250513T121231Z
UID:10035769-1789590600-1789594200@elasyoga.com
SUMMARY:Barré Fit Miércoles - ONLINE
DESCRIPTION:Barré Fit es una clase que combina elementos de ballet\, pilates y entrenamiento de fuerza\, enfocándose en tonificar y fortalecer el cuerpo de manera integral. Utilizando una barra como apoyo\, esta práctica se centra en movimientos de bajo impacto que mejoran la postura\, la flexibilidad y la resistencia. ONLINE
URL:https://elasyoga.com/clase/barre-fit-miercoles-online/2026-09-16/
LOCATION:ELAS\, M CASTAÑA\, LUGO\, LUGO\, 27002\, España
CATEGORIES:Pilates
ATTACH;FMTTYPE=image/jpeg:https://elasyoga.com/wp-content/uploads/2024/12/Grandio_ElasYogaStudio_105.jpg
END:VEVENT
BEGIN:VEVENT
DTSTART;TZID=Europe/Helsinki:20260923T203000
DTEND;TZID=Europe/Helsinki:20260923T213000
DTSTAMP:20260419T182421
CREATED:20250513T111858Z
LAST-MODIFIED:20250513T121231Z
UID:10035770-1790195400-1790199000@elasyoga.com
SUMMARY:Barré Fit Miércoles - ONLINE
DESCRIPTION:Barré Fit es una clase que combina elementos de ballet\, pilates y entrenamiento de fuerza\, enfocándose en tonificar y fortalecer el cuerpo de manera integral. Utilizando una barra como apoyo\, esta práctica se centra en movimientos de bajo impacto que mejoran la postura\, la flexibilidad y la resistencia. ONLINE
URL:https://elasyoga.com/clase/barre-fit-miercoles-online/2026-09-23/
LOCATION:ELAS\, M CASTAÑA\, LUGO\, LUGO\, 27002\, España
CATEGORIES:Pilates
ATTACH;FMTTYPE=image/jpeg:https://elasyoga.com/wp-content/uploads/2024/12/Grandio_ElasYogaStudio_105.jpg
END:VEVENT
BEGIN:VEVENT
DTSTART;TZID=Europe/Helsinki:20260930T203000
DTEND;TZID=Europe/Helsinki:20260930T213000
DTSTAMP:20260419T182421
CREATED:20250513T111858Z
LAST-MODIFIED:20250513T121231Z
UID:10035771-1790800200-1790803800@elasyoga.com
SUMMARY:Barré Fit Miércoles - ONLINE
DESCRIPTION:Barré Fit es una clase que combina elementos de ballet\, pilates y entrenamiento de fuerza\, enfocándose en tonificar y fortalecer el cuerpo de manera integral. Utilizando una barra como apoyo\, esta práctica se centra en movimientos de bajo impacto que mejoran la postura\, la flexibilidad y la resistencia. ONLINE
URL:https://elasyoga.com/clase/barre-fit-miercoles-online/2026-09-30/
LOCATION:ELAS\, M CASTAÑA\, LUGO\, LUGO\, 27002\, España
CATEGORIES:Pilates
ATTACH;FMTTYPE=image/jpeg:https://elasyoga.com/wp-content/uploads/2024/12/Grandio_ElasYogaStudio_105.jpg
END:VEVENT
BEGIN:VEVENT
DTSTART;TZID=Europe/Helsinki:20261007T203000
DTEND;TZID=Europe/Helsinki:20261007T213000
DTSTAMP:20260419T182421
CREATED:20250513T111858Z
LAST-MODIFIED:20250513T121231Z
UID:10035772-1791405000-1791408600@elasyoga.com
SUMMARY:Barré Fit Miércoles - ONLINE
DESCRIPTION:Barré Fit es una clase que combina elementos de ballet\, pilates y entrenamiento de fuerza\, enfocándose en tonificar y fortalecer el cuerpo de manera integral. Utilizando una barra como apoyo\, esta práctica se centra en movimientos de bajo impacto que mejoran la postura\, la flexibilidad y la resistencia. ONLINE
URL:https://elasyoga.com/clase/barre-fit-miercoles-online/2026-10-07/
LOCATION:ELAS\, M CASTAÑA\, LUGO\, LUGO\, 27002\, España
CATEGORIES:Pilates
ATTACH;FMTTYPE=image/jpeg:https://elasyoga.com/wp-content/uploads/2024/12/Grandio_ElasYogaStudio_105.jpg
END:VEVENT
BEGIN:VEVENT
DTSTART;TZID=Europe/Helsinki:20261014T203000
DTEND;TZID=Europe/Helsinki:20261014T213000
DTSTAMP:20260419T182421
CREATED:20250513T111858Z
LAST-MODIFIED:20250513T121231Z
UID:10035773-1792009800-1792013400@elasyoga.com
SUMMARY:Barré Fit Miércoles - ONLINE
DESCRIPTION:Barré Fit es una clase que combina elementos de ballet\, pilates y entrenamiento de fuerza\, enfocándose en tonificar y fortalecer el cuerpo de manera integral. Utilizando una barra como apoyo\, esta práctica se centra en movimientos de bajo impacto que mejoran la postura\, la flexibilidad y la resistencia. ONLINE
URL:https://elasyoga.com/clase/barre-fit-miercoles-online/2026-10-14/
LOCATION:ELAS\, M CASTAÑA\, LUGO\, LUGO\, 27002\, España
CATEGORIES:Pilates
ATTACH;FMTTYPE=image/jpeg:https://elasyoga.com/wp-content/uploads/2024/12/Grandio_ElasYogaStudio_105.jpg
END:VEVENT
BEGIN:VEVENT
DTSTART;TZID=Europe/Helsinki:20261021T203000
DTEND;TZID=Europe/Helsinki:20261021T213000
DTSTAMP:20260419T182421
CREATED:20250513T111858Z
LAST-MODIFIED:20250513T121231Z
UID:10035774-1792614600-1792618200@elasyoga.com
SUMMARY:Barré Fit Miércoles - ONLINE
DESCRIPTION:Barré Fit es una clase que combina elementos de ballet\, pilates y entrenamiento de fuerza\, enfocándose en tonificar y fortalecer el cuerpo de manera integral. Utilizando una barra como apoyo\, esta práctica se centra en movimientos de bajo impacto que mejoran la postura\, la flexibilidad y la resistencia. ONLINE
URL:https://elasyoga.com/clase/barre-fit-miercoles-online/2026-10-21/
LOCATION:ELAS\, M CASTAÑA\, LUGO\, LUGO\, 27002\, España
CATEGORIES:Pilates
ATTACH;FMTTYPE=image/jpeg:https://elasyoga.com/wp-content/uploads/2024/12/Grandio_ElasYogaStudio_105.jpg
END:VEVENT
BEGIN:VEVENT
DTSTART;TZID=Europe/Helsinki:20261028T203000
DTEND;TZID=Europe/Helsinki:20261028T213000
DTSTAMP:20260419T182421
CREATED:20250513T111858Z
LAST-MODIFIED:20250513T121231Z
UID:10035775-1793219400-1793223000@elasyoga.com
SUMMARY:Barré Fit Miércoles - ONLINE
DESCRIPTION:Barré Fit es una clase que combina elementos de ballet\, pilates y entrenamiento de fuerza\, enfocándose en tonificar y fortalecer el cuerpo de manera integral. Utilizando una barra como apoyo\, esta práctica se centra en movimientos de bajo impacto que mejoran la postura\, la flexibilidad y la resistencia. ONLINE
URL:https://elasyoga.com/clase/barre-fit-miercoles-online/2026-10-28/
LOCATION:ELAS\, M CASTAÑA\, LUGO\, LUGO\, 27002\, España
CATEGORIES:Pilates
ATTACH;FMTTYPE=image/jpeg:https://elasyoga.com/wp-content/uploads/2024/12/Grandio_ElasYogaStudio_105.jpg
END:VEVENT
BEGIN:VEVENT
DTSTART;TZID=Europe/Helsinki:20261104T203000
DTEND;TZID=Europe/Helsinki:20261104T213000
DTSTAMP:20260419T182421
CREATED:20250513T111858Z
LAST-MODIFIED:20250513T121231Z
UID:10035776-1793824200-1793827800@elasyoga.com
SUMMARY:Barré Fit Miércoles - ONLINE
DESCRIPTION:Barré Fit es una clase que combina elementos de ballet\, pilates y entrenamiento de fuerza\, enfocándose en tonificar y fortalecer el cuerpo de manera integral. Utilizando una barra como apoyo\, esta práctica se centra en movimientos de bajo impacto que mejoran la postura\, la flexibilidad y la resistencia. ONLINE
URL:https://elasyoga.com/clase/barre-fit-miercoles-online/2026-11-04/
LOCATION:ELAS\, M CASTAÑA\, LUGO\, LUGO\, 27002\, España
CATEGORIES:Pilates
ATTACH;FMTTYPE=image/jpeg:https://elasyoga.com/wp-content/uploads/2024/12/Grandio_ElasYogaStudio_105.jpg
END:VEVENT
BEGIN:VEVENT
DTSTART;TZID=Europe/Helsinki:20261111T203000
DTEND;TZID=Europe/Helsinki:20261111T213000
DTSTAMP:20260419T182421
CREATED:20250513T111858Z
LAST-MODIFIED:20250513T121231Z
UID:10035777-1794429000-1794432600@elasyoga.com
SUMMARY:Barré Fit Miércoles - ONLINE
DESCRIPTION:Barré Fit es una clase que combina elementos de ballet\, pilates y entrenamiento de fuerza\, enfocándose en tonificar y fortalecer el cuerpo de manera integral. Utilizando una barra como apoyo\, esta práctica se centra en movimientos de bajo impacto que mejoran la postura\, la flexibilidad y la resistencia. ONLINE
URL:https://elasyoga.com/clase/barre-fit-miercoles-online/2026-11-11/
LOCATION:ELAS\, M CASTAÑA\, LUGO\, LUGO\, 27002\, España
CATEGORIES:Pilates
ATTACH;FMTTYPE=image/jpeg:https://elasyoga.com/wp-content/uploads/2024/12/Grandio_ElasYogaStudio_105.jpg
END:VEVENT
END:VCALENDAR