BEGIN:VCALENDAR
VERSION:2.0
PRODID:-//Elas Yoga Estudio - ECPv6.3.1//NONSGML v1.0//EN
CALSCALE:GREGORIAN
METHOD:PUBLISH
X-ORIGINAL-URL:https://elasyoga.com
X-WR-CALDESC:Eventos para Elas Yoga Estudio
REFRESH-INTERVAL;VALUE=DURATION:PT1H
X-Robots-Tag:noindex
X-PUBLISHED-TTL:PT1H
BEGIN:VTIMEZONE
TZID:Europe/Helsinki
BEGIN:DAYLIGHT
TZOFFSETFROM:+0200
TZOFFSETTO:+0300
TZNAME:EEST
DTSTART:20260329T010000
END:DAYLIGHT
BEGIN:STANDARD
TZOFFSETFROM:+0300
TZOFFSETTO:+0200
TZNAME:EET
DTSTART:20261025T010000
END:STANDARD
END:VTIMEZONE
BEGIN:VEVENT
DTSTART;TZID=Europe/Helsinki:20260424T190000
DTEND;TZID=Europe/Helsinki:20260424T200000
DTSTAMP:20260419T182418
CREATED:20250319T115656Z
LAST-MODIFIED:20250604T200801Z
UID:10029926-1777057200-1777060800@elasyoga.com
SUMMARY:Barré Fit Viernes
DESCRIPTION:Barré Fit es una clase que combina elementos de ballet\, pilates y entrenamiento de fuerza\, enfocándose en tonificar y fortalecer el cuerpo de manera integral. Utilizando una barra como apoyo\, esta práctica se centra en movimientos de bajo impacto que mejoran la postura\, la flexibilidad y la resistencia.
URL:https://elasyoga.com/clase/barre-fit-viernes-2/2026-04-24/
LOCATION:ELAS\, M CASTAÑA\, LUGO\, LUGO\, 27002\, España
CATEGORIES:Pilates
ATTACH;FMTTYPE=image/jpeg:https://elasyoga.com/wp-content/uploads/2024/12/Grandio_ElasYogaStudio_105.jpg
END:VEVENT
BEGIN:VEVENT
DTSTART;TZID=Europe/Helsinki:20260424T190000
DTEND;TZID=Europe/Helsinki:20260424T200000
DTSTAMP:20260419T182418
CREATED:20250513T111614Z
LAST-MODIFIED:20250513T121049Z
UID:10034922-1777057200-1777060800@elasyoga.com
SUMMARY:Barré Fit Viernes - ONLINE
DESCRIPTION:Barré Fit es una clase que combina elementos de ballet\, pilates y entrenamiento de fuerza\, enfocándose en tonificar y fortalecer el cuerpo de manera integral. Utilizando una barra como apoyo\, esta práctica se centra en movimientos de bajo impacto que mejoran la postura\, la flexibilidad y la resistencia. ONLINE
URL:https://elasyoga.com/clase/barre-fit-viernes-online/2026-04-24/
LOCATION:ELAS\, M CASTAÑA\, LUGO\, LUGO\, 27002\, España
CATEGORIES:Pilates
ATTACH;FMTTYPE=image/jpeg:https://elasyoga.com/wp-content/uploads/2024/12/Grandio_ElasYogaStudio_105.jpg
END:VEVENT
BEGIN:VEVENT
DTSTART;TZID=Europe/Helsinki:20260501T190000
DTEND;TZID=Europe/Helsinki:20260501T200000
DTSTAMP:20260419T182418
CREATED:20250319T115656Z
LAST-MODIFIED:20250604T200801Z
UID:10029927-1777662000-1777665600@elasyoga.com
SUMMARY:Barré Fit Viernes
DESCRIPTION:Barré Fit es una clase que combina elementos de ballet\, pilates y entrenamiento de fuerza\, enfocándose en tonificar y fortalecer el cuerpo de manera integral. Utilizando una barra como apoyo\, esta práctica se centra en movimientos de bajo impacto que mejoran la postura\, la flexibilidad y la resistencia.
URL:https://elasyoga.com/clase/barre-fit-viernes-2/2026-05-01/
LOCATION:ELAS\, M CASTAÑA\, LUGO\, LUGO\, 27002\, España
CATEGORIES:Pilates
ATTACH;FMTTYPE=image/jpeg:https://elasyoga.com/wp-content/uploads/2024/12/Grandio_ElasYogaStudio_105.jpg
END:VEVENT
BEGIN:VEVENT
DTSTART;TZID=Europe/Helsinki:20260501T190000
DTEND;TZID=Europe/Helsinki:20260501T200000
DTSTAMP:20260419T182418
CREATED:20250513T111614Z
LAST-MODIFIED:20250513T121049Z
UID:10034923-1777662000-1777665600@elasyoga.com
SUMMARY:Barré Fit Viernes - ONLINE
DESCRIPTION:Barré Fit es una clase que combina elementos de ballet\, pilates y entrenamiento de fuerza\, enfocándose en tonificar y fortalecer el cuerpo de manera integral. Utilizando una barra como apoyo\, esta práctica se centra en movimientos de bajo impacto que mejoran la postura\, la flexibilidad y la resistencia. ONLINE
URL:https://elasyoga.com/clase/barre-fit-viernes-online/2026-05-01/
LOCATION:ELAS\, M CASTAÑA\, LUGO\, LUGO\, 27002\, España
CATEGORIES:Pilates
ATTACH;FMTTYPE=image/jpeg:https://elasyoga.com/wp-content/uploads/2024/12/Grandio_ElasYogaStudio_105.jpg
END:VEVENT
BEGIN:VEVENT
DTSTART;TZID=Europe/Helsinki:20260508T190000
DTEND;TZID=Europe/Helsinki:20260508T200000
DTSTAMP:20260419T182418
CREATED:20250319T115656Z
LAST-MODIFIED:20250604T200801Z
UID:10029928-1778266800-1778270400@elasyoga.com
SUMMARY:Barré Fit Viernes
DESCRIPTION:Barré Fit es una clase que combina elementos de ballet\, pilates y entrenamiento de fuerza\, enfocándose en tonificar y fortalecer el cuerpo de manera integral. Utilizando una barra como apoyo\, esta práctica se centra en movimientos de bajo impacto que mejoran la postura\, la flexibilidad y la resistencia.
URL:https://elasyoga.com/clase/barre-fit-viernes-2/2026-05-08/
LOCATION:ELAS\, M CASTAÑA\, LUGO\, LUGO\, 27002\, España
CATEGORIES:Pilates
ATTACH;FMTTYPE=image/jpeg:https://elasyoga.com/wp-content/uploads/2024/12/Grandio_ElasYogaStudio_105.jpg
END:VEVENT
BEGIN:VEVENT
DTSTART;TZID=Europe/Helsinki:20260508T190000
DTEND;TZID=Europe/Helsinki:20260508T200000
DTSTAMP:20260419T182418
CREATED:20250513T111614Z
LAST-MODIFIED:20250513T121049Z
UID:10034924-1778266800-1778270400@elasyoga.com
SUMMARY:Barré Fit Viernes - ONLINE
DESCRIPTION:Barré Fit es una clase que combina elementos de ballet\, pilates y entrenamiento de fuerza\, enfocándose en tonificar y fortalecer el cuerpo de manera integral. Utilizando una barra como apoyo\, esta práctica se centra en movimientos de bajo impacto que mejoran la postura\, la flexibilidad y la resistencia. ONLINE
URL:https://elasyoga.com/clase/barre-fit-viernes-online/2026-05-08/
LOCATION:ELAS\, M CASTAÑA\, LUGO\, LUGO\, 27002\, España
CATEGORIES:Pilates
ATTACH;FMTTYPE=image/jpeg:https://elasyoga.com/wp-content/uploads/2024/12/Grandio_ElasYogaStudio_105.jpg
END:VEVENT
BEGIN:VEVENT
DTSTART;TZID=Europe/Helsinki:20260515T190000
DTEND;TZID=Europe/Helsinki:20260515T200000
DTSTAMP:20260419T182418
CREATED:20250319T115656Z
LAST-MODIFIED:20250604T200801Z
UID:10029929-1778871600-1778875200@elasyoga.com
SUMMARY:Barré Fit Viernes
DESCRIPTION:Barré Fit es una clase que combina elementos de ballet\, pilates y entrenamiento de fuerza\, enfocándose en tonificar y fortalecer el cuerpo de manera integral. Utilizando una barra como apoyo\, esta práctica se centra en movimientos de bajo impacto que mejoran la postura\, la flexibilidad y la resistencia.
URL:https://elasyoga.com/clase/barre-fit-viernes-2/2026-05-15/
LOCATION:ELAS\, M CASTAÑA\, LUGO\, LUGO\, 27002\, España
CATEGORIES:Pilates
ATTACH;FMTTYPE=image/jpeg:https://elasyoga.com/wp-content/uploads/2024/12/Grandio_ElasYogaStudio_105.jpg
END:VEVENT
BEGIN:VEVENT
DTSTART;TZID=Europe/Helsinki:20260515T190000
DTEND;TZID=Europe/Helsinki:20260515T200000
DTSTAMP:20260419T182418
CREATED:20250513T111614Z
LAST-MODIFIED:20250513T121049Z
UID:10034925-1778871600-1778875200@elasyoga.com
SUMMARY:Barré Fit Viernes - ONLINE
DESCRIPTION:Barré Fit es una clase que combina elementos de ballet\, pilates y entrenamiento de fuerza\, enfocándose en tonificar y fortalecer el cuerpo de manera integral. Utilizando una barra como apoyo\, esta práctica se centra en movimientos de bajo impacto que mejoran la postura\, la flexibilidad y la resistencia. ONLINE
URL:https://elasyoga.com/clase/barre-fit-viernes-online/2026-05-15/
LOCATION:ELAS\, M CASTAÑA\, LUGO\, LUGO\, 27002\, España
CATEGORIES:Pilates
ATTACH;FMTTYPE=image/jpeg:https://elasyoga.com/wp-content/uploads/2024/12/Grandio_ElasYogaStudio_105.jpg
END:VEVENT
BEGIN:VEVENT
DTSTART;TZID=Europe/Helsinki:20260522T190000
DTEND;TZID=Europe/Helsinki:20260522T200000
DTSTAMP:20260419T182418
CREATED:20250319T115656Z
LAST-MODIFIED:20250604T200801Z
UID:10029930-1779476400-1779480000@elasyoga.com
SUMMARY:Barré Fit Viernes
DESCRIPTION:Barré Fit es una clase que combina elementos de ballet\, pilates y entrenamiento de fuerza\, enfocándose en tonificar y fortalecer el cuerpo de manera integral. Utilizando una barra como apoyo\, esta práctica se centra en movimientos de bajo impacto que mejoran la postura\, la flexibilidad y la resistencia.
URL:https://elasyoga.com/clase/barre-fit-viernes-2/2026-05-22/
LOCATION:ELAS\, M CASTAÑA\, LUGO\, LUGO\, 27002\, España
CATEGORIES:Pilates
ATTACH;FMTTYPE=image/jpeg:https://elasyoga.com/wp-content/uploads/2024/12/Grandio_ElasYogaStudio_105.jpg
END:VEVENT
BEGIN:VEVENT
DTSTART;TZID=Europe/Helsinki:20260522T190000
DTEND;TZID=Europe/Helsinki:20260522T200000
DTSTAMP:20260419T182418
CREATED:20250513T111614Z
LAST-MODIFIED:20250513T121049Z
UID:10034926-1779476400-1779480000@elasyoga.com
SUMMARY:Barré Fit Viernes - ONLINE
DESCRIPTION:Barré Fit es una clase que combina elementos de ballet\, pilates y entrenamiento de fuerza\, enfocándose en tonificar y fortalecer el cuerpo de manera integral. Utilizando una barra como apoyo\, esta práctica se centra en movimientos de bajo impacto que mejoran la postura\, la flexibilidad y la resistencia. ONLINE
URL:https://elasyoga.com/clase/barre-fit-viernes-online/2026-05-22/
LOCATION:ELAS\, M CASTAÑA\, LUGO\, LUGO\, 27002\, España
CATEGORIES:Pilates
ATTACH;FMTTYPE=image/jpeg:https://elasyoga.com/wp-content/uploads/2024/12/Grandio_ElasYogaStudio_105.jpg
END:VEVENT
BEGIN:VEVENT
DTSTART;TZID=Europe/Helsinki:20260529T190000
DTEND;TZID=Europe/Helsinki:20260529T200000
DTSTAMP:20260419T182418
CREATED:20250319T115656Z
LAST-MODIFIED:20250604T200801Z
UID:10029931-1780081200-1780084800@elasyoga.com
SUMMARY:Barré Fit Viernes
DESCRIPTION:Barré Fit es una clase que combina elementos de ballet\, pilates y entrenamiento de fuerza\, enfocándose en tonificar y fortalecer el cuerpo de manera integral. Utilizando una barra como apoyo\, esta práctica se centra en movimientos de bajo impacto que mejoran la postura\, la flexibilidad y la resistencia.
URL:https://elasyoga.com/clase/barre-fit-viernes-2/2026-05-29/
LOCATION:ELAS\, M CASTAÑA\, LUGO\, LUGO\, 27002\, España
CATEGORIES:Pilates
ATTACH;FMTTYPE=image/jpeg:https://elasyoga.com/wp-content/uploads/2024/12/Grandio_ElasYogaStudio_105.jpg
END:VEVENT
BEGIN:VEVENT
DTSTART;TZID=Europe/Helsinki:20260529T190000
DTEND;TZID=Europe/Helsinki:20260529T200000
DTSTAMP:20260419T182418
CREATED:20250513T111614Z
LAST-MODIFIED:20250513T121049Z
UID:10034927-1780081200-1780084800@elasyoga.com
SUMMARY:Barré Fit Viernes - ONLINE
DESCRIPTION:Barré Fit es una clase que combina elementos de ballet\, pilates y entrenamiento de fuerza\, enfocándose en tonificar y fortalecer el cuerpo de manera integral. Utilizando una barra como apoyo\, esta práctica se centra en movimientos de bajo impacto que mejoran la postura\, la flexibilidad y la resistencia. ONLINE
URL:https://elasyoga.com/clase/barre-fit-viernes-online/2026-05-29/
LOCATION:ELAS\, M CASTAÑA\, LUGO\, LUGO\, 27002\, España
CATEGORIES:Pilates
ATTACH;FMTTYPE=image/jpeg:https://elasyoga.com/wp-content/uploads/2024/12/Grandio_ElasYogaStudio_105.jpg
END:VEVENT
BEGIN:VEVENT
DTSTART;TZID=Europe/Helsinki:20260605T190000
DTEND;TZID=Europe/Helsinki:20260605T200000
DTSTAMP:20260419T182418
CREATED:20250319T115656Z
LAST-MODIFIED:20250604T200801Z
UID:10029932-1780686000-1780689600@elasyoga.com
SUMMARY:Barré Fit Viernes
DESCRIPTION:Barré Fit es una clase que combina elementos de ballet\, pilates y entrenamiento de fuerza\, enfocándose en tonificar y fortalecer el cuerpo de manera integral. Utilizando una barra como apoyo\, esta práctica se centra en movimientos de bajo impacto que mejoran la postura\, la flexibilidad y la resistencia.
URL:https://elasyoga.com/clase/barre-fit-viernes-2/2026-06-05/
LOCATION:ELAS\, M CASTAÑA\, LUGO\, LUGO\, 27002\, España
CATEGORIES:Pilates
ATTACH;FMTTYPE=image/jpeg:https://elasyoga.com/wp-content/uploads/2024/12/Grandio_ElasYogaStudio_105.jpg
END:VEVENT
BEGIN:VEVENT
DTSTART;TZID=Europe/Helsinki:20260605T190000
DTEND;TZID=Europe/Helsinki:20260605T200000
DTSTAMP:20260419T182418
CREATED:20250513T111614Z
LAST-MODIFIED:20250513T121049Z
UID:10034928-1780686000-1780689600@elasyoga.com
SUMMARY:Barré Fit Viernes - ONLINE
DESCRIPTION:Barré Fit es una clase que combina elementos de ballet\, pilates y entrenamiento de fuerza\, enfocándose en tonificar y fortalecer el cuerpo de manera integral. Utilizando una barra como apoyo\, esta práctica se centra en movimientos de bajo impacto que mejoran la postura\, la flexibilidad y la resistencia. ONLINE
URL:https://elasyoga.com/clase/barre-fit-viernes-online/2026-06-05/
LOCATION:ELAS\, M CASTAÑA\, LUGO\, LUGO\, 27002\, España
CATEGORIES:Pilates
ATTACH;FMTTYPE=image/jpeg:https://elasyoga.com/wp-content/uploads/2024/12/Grandio_ElasYogaStudio_105.jpg
END:VEVENT
BEGIN:VEVENT
DTSTART;TZID=Europe/Helsinki:20260612T190000
DTEND;TZID=Europe/Helsinki:20260612T200000
DTSTAMP:20260419T182418
CREATED:20250319T115656Z
LAST-MODIFIED:20250604T200801Z
UID:10029933-1781290800-1781294400@elasyoga.com
SUMMARY:Barré Fit Viernes
DESCRIPTION:Barré Fit es una clase que combina elementos de ballet\, pilates y entrenamiento de fuerza\, enfocándose en tonificar y fortalecer el cuerpo de manera integral. Utilizando una barra como apoyo\, esta práctica se centra en movimientos de bajo impacto que mejoran la postura\, la flexibilidad y la resistencia.
URL:https://elasyoga.com/clase/barre-fit-viernes-2/2026-06-12/
LOCATION:ELAS\, M CASTAÑA\, LUGO\, LUGO\, 27002\, España
CATEGORIES:Pilates
ATTACH;FMTTYPE=image/jpeg:https://elasyoga.com/wp-content/uploads/2024/12/Grandio_ElasYogaStudio_105.jpg
END:VEVENT
BEGIN:VEVENT
DTSTART;TZID=Europe/Helsinki:20260612T190000
DTEND;TZID=Europe/Helsinki:20260612T200000
DTSTAMP:20260419T182418
CREATED:20250513T111614Z
LAST-MODIFIED:20250513T121049Z
UID:10034929-1781290800-1781294400@elasyoga.com
SUMMARY:Barré Fit Viernes - ONLINE
DESCRIPTION:Barré Fit es una clase que combina elementos de ballet\, pilates y entrenamiento de fuerza\, enfocándose en tonificar y fortalecer el cuerpo de manera integral. Utilizando una barra como apoyo\, esta práctica se centra en movimientos de bajo impacto que mejoran la postura\, la flexibilidad y la resistencia. ONLINE
URL:https://elasyoga.com/clase/barre-fit-viernes-online/2026-06-12/
LOCATION:ELAS\, M CASTAÑA\, LUGO\, LUGO\, 27002\, España
CATEGORIES:Pilates
ATTACH;FMTTYPE=image/jpeg:https://elasyoga.com/wp-content/uploads/2024/12/Grandio_ElasYogaStudio_105.jpg
END:VEVENT
BEGIN:VEVENT
DTSTART;TZID=Europe/Helsinki:20260619T190000
DTEND;TZID=Europe/Helsinki:20260619T200000
DTSTAMP:20260419T182419
CREATED:20250319T115656Z
LAST-MODIFIED:20250604T200801Z
UID:10029934-1781895600-1781899200@elasyoga.com
SUMMARY:Barré Fit Viernes
DESCRIPTION:Barré Fit es una clase que combina elementos de ballet\, pilates y entrenamiento de fuerza\, enfocándose en tonificar y fortalecer el cuerpo de manera integral. Utilizando una barra como apoyo\, esta práctica se centra en movimientos de bajo impacto que mejoran la postura\, la flexibilidad y la resistencia.
URL:https://elasyoga.com/clase/barre-fit-viernes-2/2026-06-19/
LOCATION:ELAS\, M CASTAÑA\, LUGO\, LUGO\, 27002\, España
CATEGORIES:Pilates
ATTACH;FMTTYPE=image/jpeg:https://elasyoga.com/wp-content/uploads/2024/12/Grandio_ElasYogaStudio_105.jpg
END:VEVENT
BEGIN:VEVENT
DTSTART;TZID=Europe/Helsinki:20260619T190000
DTEND;TZID=Europe/Helsinki:20260619T200000
DTSTAMP:20260419T182419
CREATED:20250513T111614Z
LAST-MODIFIED:20250513T121049Z
UID:10034930-1781895600-1781899200@elasyoga.com
SUMMARY:Barré Fit Viernes - ONLINE
DESCRIPTION:Barré Fit es una clase que combina elementos de ballet\, pilates y entrenamiento de fuerza\, enfocándose en tonificar y fortalecer el cuerpo de manera integral. Utilizando una barra como apoyo\, esta práctica se centra en movimientos de bajo impacto que mejoran la postura\, la flexibilidad y la resistencia. ONLINE
URL:https://elasyoga.com/clase/barre-fit-viernes-online/2026-06-19/
LOCATION:ELAS\, M CASTAÑA\, LUGO\, LUGO\, 27002\, España
CATEGORIES:Pilates
ATTACH;FMTTYPE=image/jpeg:https://elasyoga.com/wp-content/uploads/2024/12/Grandio_ElasYogaStudio_105.jpg
END:VEVENT
BEGIN:VEVENT
DTSTART;TZID=Europe/Helsinki:20260626T190000
DTEND;TZID=Europe/Helsinki:20260626T200000
DTSTAMP:20260419T182419
CREATED:20250319T115656Z
LAST-MODIFIED:20250604T200801Z
UID:10029935-1782500400-1782504000@elasyoga.com
SUMMARY:Barré Fit Viernes
DESCRIPTION:Barré Fit es una clase que combina elementos de ballet\, pilates y entrenamiento de fuerza\, enfocándose en tonificar y fortalecer el cuerpo de manera integral. Utilizando una barra como apoyo\, esta práctica se centra en movimientos de bajo impacto que mejoran la postura\, la flexibilidad y la resistencia.
URL:https://elasyoga.com/clase/barre-fit-viernes-2/2026-06-26/
LOCATION:ELAS\, M CASTAÑA\, LUGO\, LUGO\, 27002\, España
CATEGORIES:Pilates
ATTACH;FMTTYPE=image/jpeg:https://elasyoga.com/wp-content/uploads/2024/12/Grandio_ElasYogaStudio_105.jpg
END:VEVENT
BEGIN:VEVENT
DTSTART;TZID=Europe/Helsinki:20260626T190000
DTEND;TZID=Europe/Helsinki:20260626T200000
DTSTAMP:20260419T182419
CREATED:20250513T111614Z
LAST-MODIFIED:20250513T121049Z
UID:10034931-1782500400-1782504000@elasyoga.com
SUMMARY:Barré Fit Viernes - ONLINE
DESCRIPTION:Barré Fit es una clase que combina elementos de ballet\, pilates y entrenamiento de fuerza\, enfocándose en tonificar y fortalecer el cuerpo de manera integral. Utilizando una barra como apoyo\, esta práctica se centra en movimientos de bajo impacto que mejoran la postura\, la flexibilidad y la resistencia. ONLINE
URL:https://elasyoga.com/clase/barre-fit-viernes-online/2026-06-26/
LOCATION:ELAS\, M CASTAÑA\, LUGO\, LUGO\, 27002\, España
CATEGORIES:Pilates
ATTACH;FMTTYPE=image/jpeg:https://elasyoga.com/wp-content/uploads/2024/12/Grandio_ElasYogaStudio_105.jpg
END:VEVENT
BEGIN:VEVENT
DTSTART;TZID=Europe/Helsinki:20260703T190000
DTEND;TZID=Europe/Helsinki:20260703T200000
DTSTAMP:20260419T182419
CREATED:20250319T115656Z
LAST-MODIFIED:20250604T200801Z
UID:10029936-1783105200-1783108800@elasyoga.com
SUMMARY:Barré Fit Viernes
DESCRIPTION:Barré Fit es una clase que combina elementos de ballet\, pilates y entrenamiento de fuerza\, enfocándose en tonificar y fortalecer el cuerpo de manera integral. Utilizando una barra como apoyo\, esta práctica se centra en movimientos de bajo impacto que mejoran la postura\, la flexibilidad y la resistencia.
URL:https://elasyoga.com/clase/barre-fit-viernes-2/2026-07-03/
LOCATION:ELAS\, M CASTAÑA\, LUGO\, LUGO\, 27002\, España
CATEGORIES:Pilates
ATTACH;FMTTYPE=image/jpeg:https://elasyoga.com/wp-content/uploads/2024/12/Grandio_ElasYogaStudio_105.jpg
END:VEVENT
BEGIN:VEVENT
DTSTART;TZID=Europe/Helsinki:20260703T190000
DTEND;TZID=Europe/Helsinki:20260703T200000
DTSTAMP:20260419T182419
CREATED:20250513T111614Z
LAST-MODIFIED:20250513T121049Z
UID:10034932-1783105200-1783108800@elasyoga.com
SUMMARY:Barré Fit Viernes - ONLINE
DESCRIPTION:Barré Fit es una clase que combina elementos de ballet\, pilates y entrenamiento de fuerza\, enfocándose en tonificar y fortalecer el cuerpo de manera integral. Utilizando una barra como apoyo\, esta práctica se centra en movimientos de bajo impacto que mejoran la postura\, la flexibilidad y la resistencia. ONLINE
URL:https://elasyoga.com/clase/barre-fit-viernes-online/2026-07-03/
LOCATION:ELAS\, M CASTAÑA\, LUGO\, LUGO\, 27002\, España
CATEGORIES:Pilates
ATTACH;FMTTYPE=image/jpeg:https://elasyoga.com/wp-content/uploads/2024/12/Grandio_ElasYogaStudio_105.jpg
END:VEVENT
BEGIN:VEVENT
DTSTART;TZID=Europe/Helsinki:20260710T190000
DTEND;TZID=Europe/Helsinki:20260710T200000
DTSTAMP:20260419T182419
CREATED:20250319T115656Z
LAST-MODIFIED:20250604T200801Z
UID:10029937-1783710000-1783713600@elasyoga.com
SUMMARY:Barré Fit Viernes
DESCRIPTION:Barré Fit es una clase que combina elementos de ballet\, pilates y entrenamiento de fuerza\, enfocándose en tonificar y fortalecer el cuerpo de manera integral. Utilizando una barra como apoyo\, esta práctica se centra en movimientos de bajo impacto que mejoran la postura\, la flexibilidad y la resistencia.
URL:https://elasyoga.com/clase/barre-fit-viernes-2/2026-07-10/
LOCATION:ELAS\, M CASTAÑA\, LUGO\, LUGO\, 27002\, España
CATEGORIES:Pilates
ATTACH;FMTTYPE=image/jpeg:https://elasyoga.com/wp-content/uploads/2024/12/Grandio_ElasYogaStudio_105.jpg
END:VEVENT
BEGIN:VEVENT
DTSTART;TZID=Europe/Helsinki:20260710T190000
DTEND;TZID=Europe/Helsinki:20260710T200000
DTSTAMP:20260419T182419
CREATED:20250513T111614Z
LAST-MODIFIED:20250513T121049Z
UID:10034933-1783710000-1783713600@elasyoga.com
SUMMARY:Barré Fit Viernes - ONLINE
DESCRIPTION:Barré Fit es una clase que combina elementos de ballet\, pilates y entrenamiento de fuerza\, enfocándose en tonificar y fortalecer el cuerpo de manera integral. Utilizando una barra como apoyo\, esta práctica se centra en movimientos de bajo impacto que mejoran la postura\, la flexibilidad y la resistencia. ONLINE
URL:https://elasyoga.com/clase/barre-fit-viernes-online/2026-07-10/
LOCATION:ELAS\, M CASTAÑA\, LUGO\, LUGO\, 27002\, España
CATEGORIES:Pilates
ATTACH;FMTTYPE=image/jpeg:https://elasyoga.com/wp-content/uploads/2024/12/Grandio_ElasYogaStudio_105.jpg
END:VEVENT
BEGIN:VEVENT
DTSTART;TZID=Europe/Helsinki:20260717T190000
DTEND;TZID=Europe/Helsinki:20260717T200000
DTSTAMP:20260419T182419
CREATED:20250319T115656Z
LAST-MODIFIED:20250604T200801Z
UID:10029938-1784314800-1784318400@elasyoga.com
SUMMARY:Barré Fit Viernes
DESCRIPTION:Barré Fit es una clase que combina elementos de ballet\, pilates y entrenamiento de fuerza\, enfocándose en tonificar y fortalecer el cuerpo de manera integral. Utilizando una barra como apoyo\, esta práctica se centra en movimientos de bajo impacto que mejoran la postura\, la flexibilidad y la resistencia.
URL:https://elasyoga.com/clase/barre-fit-viernes-2/2026-07-17/
LOCATION:ELAS\, M CASTAÑA\, LUGO\, LUGO\, 27002\, España
CATEGORIES:Pilates
ATTACH;FMTTYPE=image/jpeg:https://elasyoga.com/wp-content/uploads/2024/12/Grandio_ElasYogaStudio_105.jpg
END:VEVENT
BEGIN:VEVENT
DTSTART;TZID=Europe/Helsinki:20260717T190000
DTEND;TZID=Europe/Helsinki:20260717T200000
DTSTAMP:20260419T182419
CREATED:20250513T111614Z
LAST-MODIFIED:20250513T121049Z
UID:10034934-1784314800-1784318400@elasyoga.com
SUMMARY:Barré Fit Viernes - ONLINE
DESCRIPTION:Barré Fit es una clase que combina elementos de ballet\, pilates y entrenamiento de fuerza\, enfocándose en tonificar y fortalecer el cuerpo de manera integral. Utilizando una barra como apoyo\, esta práctica se centra en movimientos de bajo impacto que mejoran la postura\, la flexibilidad y la resistencia. ONLINE
URL:https://elasyoga.com/clase/barre-fit-viernes-online/2026-07-17/
LOCATION:ELAS\, M CASTAÑA\, LUGO\, LUGO\, 27002\, España
CATEGORIES:Pilates
ATTACH;FMTTYPE=image/jpeg:https://elasyoga.com/wp-content/uploads/2024/12/Grandio_ElasYogaStudio_105.jpg
END:VEVENT
BEGIN:VEVENT
DTSTART;TZID=Europe/Helsinki:20260724T190000
DTEND;TZID=Europe/Helsinki:20260724T200000
DTSTAMP:20260419T182419
CREATED:20250319T115656Z
LAST-MODIFIED:20250604T200801Z
UID:10029939-1784919600-1784923200@elasyoga.com
SUMMARY:Barré Fit Viernes
DESCRIPTION:Barré Fit es una clase que combina elementos de ballet\, pilates y entrenamiento de fuerza\, enfocándose en tonificar y fortalecer el cuerpo de manera integral. Utilizando una barra como apoyo\, esta práctica se centra en movimientos de bajo impacto que mejoran la postura\, la flexibilidad y la resistencia.
URL:https://elasyoga.com/clase/barre-fit-viernes-2/2026-07-24/
LOCATION:ELAS\, M CASTAÑA\, LUGO\, LUGO\, 27002\, España
CATEGORIES:Pilates
ATTACH;FMTTYPE=image/jpeg:https://elasyoga.com/wp-content/uploads/2024/12/Grandio_ElasYogaStudio_105.jpg
END:VEVENT
BEGIN:VEVENT
DTSTART;TZID=Europe/Helsinki:20260724T190000
DTEND;TZID=Europe/Helsinki:20260724T200000
DTSTAMP:20260419T182419
CREATED:20250513T111614Z
LAST-MODIFIED:20250513T121049Z
UID:10034935-1784919600-1784923200@elasyoga.com
SUMMARY:Barré Fit Viernes - ONLINE
DESCRIPTION:Barré Fit es una clase que combina elementos de ballet\, pilates y entrenamiento de fuerza\, enfocándose en tonificar y fortalecer el cuerpo de manera integral. Utilizando una barra como apoyo\, esta práctica se centra en movimientos de bajo impacto que mejoran la postura\, la flexibilidad y la resistencia. ONLINE
URL:https://elasyoga.com/clase/barre-fit-viernes-online/2026-07-24/
LOCATION:ELAS\, M CASTAÑA\, LUGO\, LUGO\, 27002\, España
CATEGORIES:Pilates
ATTACH;FMTTYPE=image/jpeg:https://elasyoga.com/wp-content/uploads/2024/12/Grandio_ElasYogaStudio_105.jpg
END:VEVENT
BEGIN:VEVENT
DTSTART;TZID=Europe/Helsinki:20260731T190000
DTEND;TZID=Europe/Helsinki:20260731T200000
DTSTAMP:20260419T182419
CREATED:20250319T115656Z
LAST-MODIFIED:20250604T200801Z
UID:10029940-1785524400-1785528000@elasyoga.com
SUMMARY:Barré Fit Viernes
DESCRIPTION:Barré Fit es una clase que combina elementos de ballet\, pilates y entrenamiento de fuerza\, enfocándose en tonificar y fortalecer el cuerpo de manera integral. Utilizando una barra como apoyo\, esta práctica se centra en movimientos de bajo impacto que mejoran la postura\, la flexibilidad y la resistencia.
URL:https://elasyoga.com/clase/barre-fit-viernes-2/2026-07-31/
LOCATION:ELAS\, M CASTAÑA\, LUGO\, LUGO\, 27002\, España
CATEGORIES:Pilates
ATTACH;FMTTYPE=image/jpeg:https://elasyoga.com/wp-content/uploads/2024/12/Grandio_ElasYogaStudio_105.jpg
END:VEVENT
BEGIN:VEVENT
DTSTART;TZID=Europe/Helsinki:20260731T190000
DTEND;TZID=Europe/Helsinki:20260731T200000
DTSTAMP:20260419T182419
CREATED:20250513T111614Z
LAST-MODIFIED:20250513T121049Z
UID:10034936-1785524400-1785528000@elasyoga.com
SUMMARY:Barré Fit Viernes - ONLINE
DESCRIPTION:Barré Fit es una clase que combina elementos de ballet\, pilates y entrenamiento de fuerza\, enfocándose en tonificar y fortalecer el cuerpo de manera integral. Utilizando una barra como apoyo\, esta práctica se centra en movimientos de bajo impacto que mejoran la postura\, la flexibilidad y la resistencia. ONLINE
URL:https://elasyoga.com/clase/barre-fit-viernes-online/2026-07-31/
LOCATION:ELAS\, M CASTAÑA\, LUGO\, LUGO\, 27002\, España
CATEGORIES:Pilates
ATTACH;FMTTYPE=image/jpeg:https://elasyoga.com/wp-content/uploads/2024/12/Grandio_ElasYogaStudio_105.jpg
END:VEVENT
END:VCALENDAR