BEGIN:VCALENDAR
VERSION:2.0
PRODID:-//Elas Yoga Estudio - ECPv6.3.1//NONSGML v1.0//EN
CALSCALE:GREGORIAN
METHOD:PUBLISH
X-ORIGINAL-URL:https://elasyoga.com
X-WR-CALDESC:Eventos para Elas Yoga Estudio
REFRESH-INTERVAL;VALUE=DURATION:PT1H
X-Robots-Tag:noindex
X-PUBLISHED-TTL:PT1H
BEGIN:VTIMEZONE
TZID:Europe/Helsinki
BEGIN:DAYLIGHT
TZOFFSETFROM:+0200
TZOFFSETTO:+0300
TZNAME:EEST
DTSTART:20260329T010000
END:DAYLIGHT
BEGIN:STANDARD
TZOFFSETFROM:+0300
TZOFFSETTO:+0200
TZNAME:EET
DTSTART:20261025T010000
END:STANDARD
END:VTIMEZONE
BEGIN:VEVENT
DTSTART;TZID=Europe/Helsinki:20260407T203000
DTEND;TZID=Europe/Helsinki:20260407T213000
DTSTAMP:20260419T235905
CREATED:20240422T172756Z
LAST-MODIFIED:20250325T085624Z
UID:10031023-1775593800-1775597400@elasyoga.com
SUMMARY:Vinyasa Yoga Martes
DESCRIPTION:Vinyasa Yoga es una práctica dinámica que conecta el movimiento con la respiración\, creando una secuencia fluida de posturas (asanas). Cada movimiento se sincroniza con una inhalación o exhalación\, lo que permite una experiencia meditativa y energizante.
URL:https://elasyoga.com/clase/vinyasa-yoga-martes/2026-04-07/
CATEGORIES:Yoga
ATTACH;FMTTYPE=image/jpeg:https://elasyoga.com/wp-content/uploads/2024/11/Grandio_ElasYogaStudio_020-1-e1739210374620.jpg
END:VEVENT
BEGIN:VEVENT
DTSTART;TZID=Europe/Helsinki:20260408T170000
DTEND;TZID=Europe/Helsinki:20260408T180000
DTSTAMP:20260419T235905
CREATED:20250317T173222Z
LAST-MODIFIED:20250325T195648Z
UID:10033032-1775667600-1775671200@elasyoga.com
SUMMARY:Vinyasa Yoga Miércoles
DESCRIPTION:Vinyasa Yoga es una práctica dinámica que conecta el movimiento con la respiración\, creando una secuencia fluida de posturas (asanas). Cada movimiento se sincroniza con una inhalación o exhalación\, lo que permite una experiencia meditativa y energizante.
URL:https://elasyoga.com/clase/vinyasa-yoga-miercoles-2/2026-04-08/
CATEGORIES:Yoga
ATTACH;FMTTYPE=image/jpeg:https://elasyoga.com/wp-content/uploads/2024/11/Grandio_ElasYogaStudio_020-1-e1739210374620.jpg
END:VEVENT
BEGIN:VEVENT
DTSTART;TZID=Europe/Helsinki:20260409T200000
DTEND;TZID=Europe/Helsinki:20260409T210000
DTSTAMP:20260419T235905
CREATED:20240422T173434Z
LAST-MODIFIED:20250325T091820Z
UID:10008237-1775764800-1775768400@elasyoga.com
SUMMARY:Vinyasa Yoga Jueves
DESCRIPTION:Vinyasa Yoga es una práctica dinámica que conecta el movimiento con la respiración\, creando una secuencia fluida de posturas (asanas). Cada movimiento se sincroniza con una inhalación o exhalación\, lo que permite una experiencia meditativa y energizante.
URL:https://elasyoga.com/clase/vinyasa-yoga-jueves/2026-04-09/
CATEGORIES:Yoga
ATTACH;FMTTYPE=image/jpeg:https://elasyoga.com/wp-content/uploads/2024/11/Grandio_ElasYogaStudio_020-1-e1739210374620.jpg
END:VEVENT
END:VCALENDAR