BEGIN:VCALENDAR
VERSION:2.0
PRODID:-//Elas Yoga Estudio - ECPv6.3.1//NONSGML v1.0//EN
CALSCALE:GREGORIAN
METHOD:PUBLISH
X-ORIGINAL-URL:https://elasyoga.com
X-WR-CALDESC:Eventos para Elas Yoga Estudio
REFRESH-INTERVAL;VALUE=DURATION:PT1H
X-Robots-Tag:noindex
X-PUBLISHED-TTL:PT1H
BEGIN:VTIMEZONE
TZID:Europe/Helsinki
BEGIN:DAYLIGHT
TZOFFSETFROM:+0200
TZOFFSETTO:+0300
TZNAME:EEST
DTSTART:20260329T010000
END:DAYLIGHT
BEGIN:STANDARD
TZOFFSETFROM:+0300
TZOFFSETTO:+0200
TZNAME:EET
DTSTART:20261025T010000
END:STANDARD
END:VTIMEZONE
BEGIN:VEVENT
DTSTART;TZID=Europe/Helsinki:20260324T203000
DTEND;TZID=Europe/Helsinki:20260324T213000
DTSTAMP:20260420T030945
CREATED:20240422T172756Z
LAST-MODIFIED:20250325T085624Z
UID:10031021-1774384200-1774387800@elasyoga.com
SUMMARY:Vinyasa Yoga Martes
DESCRIPTION:Vinyasa Yoga es una práctica dinámica que conecta el movimiento con la respiración\, creando una secuencia fluida de posturas (asanas). Cada movimiento se sincroniza con una inhalación o exhalación\, lo que permite una experiencia meditativa y energizante.
URL:https://elasyoga.com/clase/vinyasa-yoga-martes/2026-03-24/
CATEGORIES:Yoga
ATTACH;FMTTYPE=image/jpeg:https://elasyoga.com/wp-content/uploads/2024/11/Grandio_ElasYogaStudio_020-1-e1739210374620.jpg
END:VEVENT
BEGIN:VEVENT
DTSTART;TZID=Europe/Helsinki:20260325T170000
DTEND;TZID=Europe/Helsinki:20260325T180000
DTSTAMP:20260420T030945
CREATED:20250317T173222Z
LAST-MODIFIED:20250325T195648Z
UID:10033030-1774458000-1774461600@elasyoga.com
SUMMARY:Vinyasa Yoga Miércoles
DESCRIPTION:Vinyasa Yoga es una práctica dinámica que conecta el movimiento con la respiración\, creando una secuencia fluida de posturas (asanas). Cada movimiento se sincroniza con una inhalación o exhalación\, lo que permite una experiencia meditativa y energizante.
URL:https://elasyoga.com/clase/vinyasa-yoga-miercoles-2/2026-03-25/
CATEGORIES:Yoga
ATTACH;FMTTYPE=image/jpeg:https://elasyoga.com/wp-content/uploads/2024/11/Grandio_ElasYogaStudio_020-1-e1739210374620.jpg
END:VEVENT
BEGIN:VEVENT
DTSTART;TZID=Europe/Helsinki:20260326T200000
DTEND;TZID=Europe/Helsinki:20260326T210000
DTSTAMP:20260420T030945
CREATED:20240422T173434Z
LAST-MODIFIED:20250325T091820Z
UID:10008235-1774555200-1774558800@elasyoga.com
SUMMARY:Vinyasa Yoga Jueves
DESCRIPTION:Vinyasa Yoga es una práctica dinámica que conecta el movimiento con la respiración\, creando una secuencia fluida de posturas (asanas). Cada movimiento se sincroniza con una inhalación o exhalación\, lo que permite una experiencia meditativa y energizante.
URL:https://elasyoga.com/clase/vinyasa-yoga-jueves/2026-03-26/
CATEGORIES:Yoga
ATTACH;FMTTYPE=image/jpeg:https://elasyoga.com/wp-content/uploads/2024/11/Grandio_ElasYogaStudio_020-1-e1739210374620.jpg
END:VEVENT
END:VCALENDAR