BEGIN:VCALENDAR
VERSION:2.0
PRODID:-//Elas Yoga Estudio - ECPv6.3.1//NONSGML v1.0//EN
CALSCALE:GREGORIAN
METHOD:PUBLISH
X-WR-CALNAME:Elas Yoga Estudio
X-ORIGINAL-URL:https://elasyoga.com
X-WR-CALDESC:Eventos para Elas Yoga Estudio
REFRESH-INTERVAL;VALUE=DURATION:PT1H
X-Robots-Tag:noindex
X-PUBLISHED-TTL:PT1H
BEGIN:VTIMEZONE
TZID:Europe/Helsinki
BEGIN:DAYLIGHT
TZOFFSETFROM:+0200
TZOFFSETTO:+0300
TZNAME:EEST
DTSTART:20260329T010000
END:DAYLIGHT
BEGIN:STANDARD
TZOFFSETFROM:+0300
TZOFFSETTO:+0200
TZNAME:EET
DTSTART:20261025T010000
END:STANDARD
END:VTIMEZONE
BEGIN:VEVENT
DTSTART;TZID=Europe/Helsinki:20260525T100000
DTEND;TZID=Europe/Helsinki:20260525T110000
DTSTAMP:20260420T074423
CREATED:20250505T105941Z
LAST-MODIFIED:20250505T105941Z
UID:10034128-1779703200-1779706800@elasyoga.com
SUMMARY:Yoga Lunar Lunes Mñn
DESCRIPTION:Yoga Lunar es una práctica que se alinea con los ciclos de la luna\, enfocándose en la conexión con la energía femenina y los ritmos naturales del cuerpo. Durante la clase\, se utilizan posturas\, respiración consciente y meditación para fomentar la introspección y el equilibrio emocional.
URL:https://elasyoga.com/clase/yoga-para-la-flexibilidad-3-2/2026-05-25/
CATEGORIES:Yoga
ATTACH;FMTTYPE=image/jpeg:https://elasyoga.com/wp-content/uploads/2024/11/Grandio_ElasYogaStudio_020-1-e1739210374620.jpg
END:VEVENT
BEGIN:VEVENT
DTSTART;TZID=Europe/Helsinki:20260525T100000
DTEND;TZID=Europe/Helsinki:20260525T110000
DTSTAMP:20260420T074423
CREATED:20250513T111327Z
LAST-MODIFIED:20250513T120912Z
UID:10034389-1779703200-1779706800@elasyoga.com
SUMMARY:Yoga Lunar Luns Mñn - ONLINE
DESCRIPTION:Yoga Lunar es una práctica que se alinea con los ciclos de la luna\, enfocándose en la conexión con la energía femenina y los ritmos naturales del cuerpo. Durante la clase\, se utilizan posturas\, respiración consciente y meditación para fomentar la introspección y el equilibrio emocional. ONLINE
URL:https://elasyoga.com/clase/yoga-lunar-luns-mnn-online/2026-05-25/
CATEGORIES:Yoga
ATTACH;FMTTYPE=image/jpeg:https://elasyoga.com/wp-content/uploads/2024/11/Grandio_ElasYogaStudio_020-1-e1739210374620.jpg
END:VEVENT
BEGIN:VEVENT
DTSTART;TZID=Europe/Helsinki:20260525T173000
DTEND;TZID=Europe/Helsinki:20260525T183000
DTSTAMP:20260420T074423
CREATED:20240418T102435Z
LAST-MODIFIED:20250325T084023Z
UID:10011116-1779730200-1779733800@elasyoga.com
SUMMARY:Yoga Restaurativo Lunes
DESCRIPTION:Yoga Restaurativo es una práctica suave y contemplativa que se centra en la relajación profunda y la restauración del cuerpo y la mente. Utiliza posturas sostenidas durante períodos prolongados\, apoyadas con props como mantas\, bloques y cojines\, para facilitar una experiencia de bienestar total. \n 
URL:https://elasyoga.com/clase/yoga-para-la-espalda/2026-05-25/
CATEGORIES:Yoga
ATTACH;FMTTYPE=image/jpeg:https://elasyoga.com/wp-content/uploads/2024/11/Grandio_ElasYogaStudio_020-1-e1739210374620.jpg
END:VEVENT
BEGIN:VEVENT
DTSTART;TZID=Europe/Helsinki:20260525T190000
DTEND;TZID=Europe/Helsinki:20260525T200000
DTSTAMP:20260420T074423
CREATED:20240418T103402Z
LAST-MODIFIED:20250325T085245Z
UID:10011686-1779735600-1779739200@elasyoga.com
SUMMARY:Yogar Lunar Lunes
DESCRIPTION:Yoga Lunar es una práctica que se alinea con los ciclos de la luna\, enfocándose en la conexión con la energía femenina y los ritmos naturales del cuerpo. Durante la clase\, se utilizan posturas\, respiración consciente y meditación para fomentar la introspección y el equilibrio emocional.
URL:https://elasyoga.com/clase/yoga-para-el-estres/2026-05-25/
CATEGORIES:Yoga
ATTACH;FMTTYPE=image/jpeg:https://elasyoga.com/wp-content/uploads/2024/11/Grandio_ElasYogaStudio_020-1-e1739210374620.jpg
END:VEVENT
BEGIN:VEVENT
DTSTART;TZID=Europe/Helsinki:20260525T190000
DTEND;TZID=Europe/Helsinki:20260525T200000
DTSTAMP:20260420T074423
CREATED:20250513T112618Z
LAST-MODIFIED:20250513T121534Z
UID:10037272-1779735600-1779739200@elasyoga.com
SUMMARY:Yogar Lunar Lunes - ONLINE
DESCRIPTION:Yoga Lunar es una práctica que se alinea con los ciclos de la luna\, enfocándose en la conexión con la energía femenina y los ritmos naturales del cuerpo. Durante la clase\, se utilizan posturas\, respiración consciente y meditación para fomentar la introspección y el equilibrio emocional. ONLINE
URL:https://elasyoga.com/clase/yogar-lunar-lunes-online/2026-05-25/
CATEGORIES:Yoga
ATTACH;FMTTYPE=image/jpeg:https://elasyoga.com/wp-content/uploads/2024/11/Grandio_ElasYogaStudio_020-1-e1739210374620.jpg
END:VEVENT
BEGIN:VEVENT
DTSTART;TZID=Europe/Helsinki:20260525T200000
DTEND;TZID=Europe/Helsinki:20260525T210000
DTSTAMP:20260420T074423
CREATED:20241106T130437Z
LAST-MODIFIED:20250325T084133Z
UID:10032424-1779739200-1779742800@elasyoga.com
SUMMARY:Vinyasa Yoga Lunes
DESCRIPTION:Vinyasa Yoga es una práctica dinámica que conecta el movimiento con la respiración\, creando una secuencia fluida de posturas (asanas). Cada movimiento se sincroniza con una inhalación o exhalación\, lo que permite una experiencia meditativa y energizante.
URL:https://elasyoga.com/clase/vinyasa-yoga-lunes/2026-05-25/
CATEGORIES:Yoga
ATTACH;FMTTYPE=image/jpeg:https://elasyoga.com/wp-content/uploads/2024/11/Grandio_ElasYogaStudio_020-1-e1739210374620.jpg
END:VEVENT
BEGIN:VEVENT
DTSTART;TZID=Europe/Helsinki:20260525T203000
DTEND;TZID=Europe/Helsinki:20260525T213000
DTSTAMP:20260420T074423
CREATED:20241202T171722Z
LAST-MODIFIED:20250604T200848Z
UID:10021465-1779741000-1779744600@elasyoga.com
SUMMARY:Barré Fit Lunes
DESCRIPTION:Barré Fit es una clase que combina elementos de ballet\, pilates y entrenamiento de fuerza\, enfocándose en tonificar y fortalecer el cuerpo de manera integral. Utilizando una barra como apoyo\, esta práctica se centra en movimientos de bajo impacto que mejoran la postura\, la flexibilidad y la resistencia.
URL:https://elasyoga.com/clase/barre-fit-lunes/2026-05-25/
LOCATION:ELAS\, M CASTAÑA\, LUGO\, LUGO\, 27002\, España
CATEGORIES:Pilates
ATTACH;FMTTYPE=image/jpeg:https://elasyoga.com/wp-content/uploads/2024/12/Grandio_ElasYogaStudio_105.jpg
END:VEVENT
BEGIN:VEVENT
DTSTART;TZID=Europe/Helsinki:20260525T203000
DTEND;TZID=Europe/Helsinki:20260525T213000
DTSTAMP:20260420T074423
CREATED:20250513T112004Z
LAST-MODIFIED:20250513T121306Z
UID:10036037-1779741000-1779744600@elasyoga.com
SUMMARY:Barré Fit Lunes - ONLINE
DESCRIPTION:Barré Fit es una clase que combina elementos de ballet\, pilates y entrenamiento de fuerza\, enfocándose en tonificar y fortalecer el cuerpo de manera integral. Utilizando una barra como apoyo\, esta práctica se centra en movimientos de bajo impacto que mejoran la postura\, la flexibilidad y la resistencia. ONLINE
URL:https://elasyoga.com/clase/barre-fit-lunes-online/2026-05-25/
LOCATION:ELAS\, M CASTAÑA\, LUGO\, LUGO\, 27002\, España
CATEGORIES:Pilates
ATTACH;FMTTYPE=image/jpeg:https://elasyoga.com/wp-content/uploads/2024/12/Grandio_ElasYogaStudio_105.jpg
END:VEVENT
END:VCALENDAR