BEGIN:VCALENDAR
VERSION:2.0
PRODID:-//Elas Yoga Estudio - ECPv6.3.1//NONSGML v1.0//EN
CALSCALE:GREGORIAN
METHOD:PUBLISH
X-ORIGINAL-URL:https://elasyoga.com
X-WR-CALDESC:Eventos para Elas Yoga Estudio
REFRESH-INTERVAL;VALUE=DURATION:PT1H
X-Robots-Tag:noindex
X-PUBLISHED-TTL:PT1H
BEGIN:VTIMEZONE
TZID:Europe/Helsinki
BEGIN:DAYLIGHT
TZOFFSETFROM:+0200
TZOFFSETTO:+0300
TZNAME:EEST
DTSTART:20260329T010000
END:DAYLIGHT
BEGIN:STANDARD
TZOFFSETFROM:+0300
TZOFFSETTO:+0200
TZNAME:EET
DTSTART:20261025T010000
END:STANDARD
END:VTIMEZONE
BEGIN:VEVENT
DTSTART;TZID=Europe/Helsinki:20260319T173000
DTEND;TZID=Europe/Helsinki:20260319T183000
DTSTAMP:20260420T054957
CREATED:20240422T172300Z
LAST-MODIFIED:20250325T092006Z
UID:10023942-1773941400-1773945000@elasyoga.com
SUMMARY:Hatha Yoga Jueves
DESCRIPTION:Hatha Yoga es una práctica clásica que combina posturas (asanas)\, técnicas de respiración (pranayama) y meditación para promover el equilibrio entre el cuerpo y la mente. Se enfoca en el desarrollo de la fuerza\, la flexibilidad y la concentración a través de movimientos controlados.
URL:https://elasyoga.com/clase/hatha-yoga-jueves/2026-03-19/
CATEGORIES:Yoga
ATTACH;FMTTYPE=image/jpeg:https://elasyoga.com/wp-content/uploads/2024/11/Grandio_ElasYogaStudio_020-1-e1739210374620.jpg
END:VEVENT
BEGIN:VEVENT
DTSTART;TZID=Europe/Helsinki:20260319T190000
DTEND;TZID=Europe/Helsinki:20260319T200000
DTSTAMP:20260420T054957
CREATED:20240419T081134Z
LAST-MODIFIED:20250325T092231Z
UID:10006147-1773946800-1773950400@elasyoga.com
SUMMARY:Yoga Lunar Jueves
DESCRIPTION:Yoga Lunar es una práctica que se alinea con los ciclos de la luna\, enfocándose en la conexión con la energía femenina y los ritmos naturales del cuerpo. Durante la clase\, se utilizan posturas\, respiración consciente y meditación para fomentar la introspección y el equilibrio emocional.ca
URL:https://elasyoga.com/clase/yoga-lunar/2026-03-19/
CATEGORIES:Yoga
ATTACH;FMTTYPE=image/jpeg:https://elasyoga.com/wp-content/uploads/2024/11/Grandio_ElasYogaStudio_020-1-e1739210374620.jpg
END:VEVENT
BEGIN:VEVENT
DTSTART;TZID=Europe/Helsinki:20260319T190000
DTEND;TZID=Europe/Helsinki:20260319T200000
DTSTAMP:20260420T054957
CREATED:20250320T082235Z
LAST-MODIFIED:20250326T101018Z
UID:10033599-1773946800-1773950400@elasyoga.com
SUMMARY:Pilates Jueves
DESCRIPTION:Pilates Power es una modalidad dinámica y energética del método Pilates que se centra en fortalecer el cuerpo\, mejorar la flexibilidad y aumentar la resistencia. Durante la clase\, se utilizan ejercicios de alta intensidad que incorporan movimientos rápidos y controlados\, lo que permite trabajar diferentes grupos musculares de manera efectiva
URL:https://elasyoga.com/clase/pilates-jueves-3/2026-03-19/
CATEGORIES:Pilates
ATTACH;FMTTYPE=image/jpeg:https://elasyoga.com/wp-content/uploads/2025/01/Grandio_ElasYogaStudio_145-e1739302815502.jpg
END:VEVENT
BEGIN:VEVENT
DTSTART;TZID=Europe/Helsinki:20260319T190000
DTEND;TZID=Europe/Helsinki:20260319T200000
DTSTAMP:20260420T054957
CREATED:20250513T111726Z
LAST-MODIFIED:20250513T121120Z
UID:10035186-1773946800-1773950400@elasyoga.com
SUMMARY:Pilates Jueves - ONLINE
DESCRIPTION:Pilates Power es una modalidad dinámica y energética del método Pilates que se centra en fortalecer el cuerpo\, mejorar la flexibilidad y aumentar la resistencia. Durante la clase\, se utilizan ejercicios de alta intensidad que incorporan movimientos rápidos y controlados\, lo que permite trabajar diferentes grupos musculares de manera efectiva. ONLINE
URL:https://elasyoga.com/clase/pilates-jueves-online/2026-03-19/
CATEGORIES:Pilates
ATTACH;FMTTYPE=image/jpeg:https://elasyoga.com/wp-content/uploads/2025/01/Grandio_ElasYogaStudio_145-e1739302815502.jpg
END:VEVENT
BEGIN:VEVENT
DTSTART;TZID=Europe/Helsinki:20260319T190000
DTEND;TZID=Europe/Helsinki:20260319T200000
DTSTAMP:20260420T054957
CREATED:20250513T112412Z
LAST-MODIFIED:20250513T121429Z
UID:10036630-1773946800-1773950400@elasyoga.com
SUMMARY:Yoga Lunar Jueves - ONLINE
DESCRIPTION:Yoga Lunar es una práctica que se alinea con los ciclos de la luna\, enfocándose en la conexión con la energía femenina y los ritmos naturales del cuerpo. Durante la clase\, se utilizan posturas\, respiración consciente y meditación para fomentar la introspección y el equilibrio emocional. ONLINE
URL:https://elasyoga.com/clase/yoga-lunar-jueves-online/2026-03-19/
CATEGORIES:Yoga
ATTACH;FMTTYPE=image/jpeg:https://elasyoga.com/wp-content/uploads/2024/11/Grandio_ElasYogaStudio_020-1-e1739210374620.jpg
END:VEVENT
BEGIN:VEVENT
DTSTART;TZID=Europe/Helsinki:20260319T200000
DTEND;TZID=Europe/Helsinki:20260319T210000
DTSTAMP:20260420T054957
CREATED:20240422T173434Z
LAST-MODIFIED:20250325T091820Z
UID:10008234-1773950400-1773954000@elasyoga.com
SUMMARY:Vinyasa Yoga Jueves
DESCRIPTION:Vinyasa Yoga es una práctica dinámica que conecta el movimiento con la respiración\, creando una secuencia fluida de posturas (asanas). Cada movimiento se sincroniza con una inhalación o exhalación\, lo que permite una experiencia meditativa y energizante.
URL:https://elasyoga.com/clase/vinyasa-yoga-jueves/2026-03-19/
CATEGORIES:Yoga
ATTACH;FMTTYPE=image/jpeg:https://elasyoga.com/wp-content/uploads/2024/11/Grandio_ElasYogaStudio_020-1-e1739210374620.jpg
END:VEVENT
END:VCALENDAR