BEGIN:VCALENDAR
VERSION:2.0
PRODID:-//Elas Yoga Estudio - ECPv6.3.1//NONSGML v1.0//EN
CALSCALE:GREGORIAN
METHOD:PUBLISH
X-WR-CALNAME:Elas Yoga Estudio
X-ORIGINAL-URL:https://elasyoga.com
X-WR-CALDESC:Eventos para Elas Yoga Estudio
REFRESH-INTERVAL;VALUE=DURATION:PT1H
X-Robots-Tag:noindex
X-PUBLISHED-TTL:PT1H
BEGIN:VTIMEZONE
TZID:Europe/Helsinki
BEGIN:DAYLIGHT
TZOFFSETFROM:+0200
TZOFFSETTO:+0300
TZNAME:EEST
DTSTART:20260329T010000
END:DAYLIGHT
BEGIN:STANDARD
TZOFFSETFROM:+0300
TZOFFSETTO:+0200
TZNAME:EET
DTSTART:20261025T010000
END:STANDARD
END:VTIMEZONE
BEGIN:VEVENT
DTSTART;TZID=Europe/Helsinki:20260310T180000
DTEND;TZID=Europe/Helsinki:20260310T183000
DTSTAMP:20260420T102248
CREATED:20240418T171457Z
LAST-MODIFIED:20250325T090046Z
UID:10015397-1773165600-1773167400@elasyoga.com
SUMMARY:Meditación Mindfulness Martes
DESCRIPTION:Sesión de 30 minutos. Meditación es una práctica mental que busca cultivar la atención plena y la concentración\, promoviendo un estado de calma y claridad. A través de técnicas como la respiración consciente\, la visualización o el enfoque en un mantra\, la meditación ayuda a reducir el estrés\, mejorar la salud mental y fomentar la conexión interior.
URL:https://elasyoga.com/clase/meditacion-guiada-2/2026-03-10/
CATEGORIES:Meditación
ATTACH;FMTTYPE=image/webp:https://elasyoga.com/wp-content/uploads/2024/08/Grandio_ElasYogaStudio_097-e1739293051199.webp
END:VEVENT
BEGIN:VEVENT
DTSTART;TZID=Europe/Helsinki:20260310T183000
DTEND;TZID=Europe/Helsinki:20260310T193000
DTSTAMP:20260420T102248
CREATED:20240422T171935Z
LAST-MODIFIED:20250325T085824Z
UID:10006928-1773167400-1773171000@elasyoga.com
SUMMARY:Hatha Yoga Martes
DESCRIPTION:Hatha Yoga es una práctica clásica que combina posturas (asanas)\, técnicas de respiración (pranayama) y meditación para promover el equilibrio entre el cuerpo y la mente. Se enfoca en el desarrollo de la fuerza\, la flexibilidad y la concentración a través de movimientos controlados.
URL:https://elasyoga.com/clase/hatha-yoga-martes/2026-03-10/
CATEGORIES:Yoga
ATTACH;FMTTYPE=image/jpeg:https://elasyoga.com/wp-content/uploads/2024/11/Grandio_ElasYogaStudio_020-1-e1739210374620.jpg
END:VEVENT
BEGIN:VEVENT
DTSTART;TZID=Europe/Helsinki:20260310T193000
DTEND;TZID=Europe/Helsinki:20260310T203000
DTSTAMP:20260420T102248
CREATED:20250513T112052Z
LAST-MODIFIED:20250513T121342Z
UID:10036313-1773171000-1773174600@elasyoga.com
SUMMARY:Yoga Lunar Martes - ONLINE
DESCRIPTION:Yoga Lunar es una práctica que se alinea con los ciclos de la luna\, enfocándose en la conexión con la energía femenina y los ritmos naturales del cuerpo. Durante la clase\, se utilizan posturas\, respiración consciente y meditación para fomentar la introspección y el equilibrio emocional. ONLINE
URL:https://elasyoga.com/clase/yoga-lunar-martes-online/2026-03-10/
CATEGORIES:Yoga
ATTACH;FMTTYPE=image/jpeg:https://elasyoga.com/wp-content/uploads/2024/11/Grandio_ElasYogaStudio_020-1-e1739210374620.jpg
END:VEVENT
BEGIN:VEVENT
DTSTART;TZID=Europe/Helsinki:20260310T203000
DTEND;TZID=Europe/Helsinki:20260310T213000
DTSTAMP:20260420T102248
CREATED:20240422T172756Z
LAST-MODIFIED:20250325T085624Z
UID:10031019-1773174600-1773178200@elasyoga.com
SUMMARY:Vinyasa Yoga Martes
DESCRIPTION:Vinyasa Yoga es una práctica dinámica que conecta el movimiento con la respiración\, creando una secuencia fluida de posturas (asanas). Cada movimiento se sincroniza con una inhalación o exhalación\, lo que permite una experiencia meditativa y energizante.
URL:https://elasyoga.com/clase/vinyasa-yoga-martes/2026-03-10/
CATEGORIES:Yoga
ATTACH;FMTTYPE=image/jpeg:https://elasyoga.com/wp-content/uploads/2024/11/Grandio_ElasYogaStudio_020-1-e1739210374620.jpg
END:VEVENT
END:VCALENDAR